Workbook

Sheet PANDUAN
A2: Panduan dalam Mengisi Template Pengajuan Usulan Pembayaran Lembur Pegawai di RSCM | N2: Panduan Khusus dalam Mengisi Template untuk Pegawai dengan Jadwal Kerja Non-Reguler (Shift)
A4: 1 | B4: Pengajuan usulan lembur pegawai ASN dan pegawai BLU RSCM dipisah oleh unit kerjanya | O4: Perbedaannya ada pada perumusan awal penghitungan
A5: 2 | B5: Isi nama unit kerja dan periode pengajuan lembur pada bagian judul | O5: - Jumlah Jam Hari Kerja
B6: Pada dasarnya, hanya mengisi "NIP/NPS", "NPWP", "Jumlah Jam Lembur Tanggal", dan "Nomor Rekening" | O6: - Jumlah Jam Hari Libur
A7: 3 | B7: Isi NIP/NPS | O7: - Uang Makan
B8: - Diketik tanpa spasi | O8: ... dan pengaturan warna hitam & merah pada Jumlah Jam Lembur Tanggal
B9: - Diawali dengan tanda petik (')
B10: - Format: text
A11: 4 | B11: Isi NPWP
A12: 5 | B12: Isi Jumlah Jam Lembur tanggal (harian) | J12: Pembulatan jam lembur | O12: Rumus Jumlah Jam Hari Libur
B13: - Jumlah jam lembur pada hari libur diwarnai merah | J13: - Menit ke-0 s.d. 25 = 0 | O13: Jumlah cell berisikan jam lembur pada hari libur
B14: - Tidak ada batasan maksimal jumlah jam lembur per harinya | J14: - Menit ke-26 s.d. 45 = 0,5 | O14: = SUM(G11:I11) + M11
B15: - Urutan pegawai dengan jadwal kerja reguler dan shift sebaiknya dipisah | J15: - Menit ke-46 s.d. 60 = 1
A16: 6 | B16: Isi Nomor Rekening | O16: Rumus Uang Makan Hari Libur (pada baris kedua)
B17: - Diketik tanpa spasi dan tanpa tanda hubung (hanya angka) | O17: Tambahkan/ganti "SUM" dengan "COUNTIFS", beri tanda "," atau ";", kemudian ketik ">=3" dengan tanda petik dua
B18: - Diawali dengan tanda petik (') | O18: = COUNTIFS(G11:I11,">=3") + COUNTIFS(M11,">=3") | U18: Pilih cell hari libur
B19: - Format: text
B20: - Isi di baris ketiga | O20: HANYA ATUR RUMUS DI HARI LIBUR
A21: 7 | B21: Hapus rows yang kosong agar totalnya terlihat | O21: Rumus di hari kerja tidak perlu diganti
B23: Ketentuan lainnya (hal ini perlu dilakukan jika hasil pengisian data ada yang "#N/A")
A24: 1 | B24: Isi NIP/NPS
A25: 2 | B25: Isi Nama
A26: 3 | B26: Isi Gol/KJ
B27: - Diketik tanpa spasi
B28: - Golongan: huruf kapital semua dan dengan tanda garis miring. Contoh: "III/A", bukan "III-A" ataupun "IIIa" | O28: Selanjutnya, rumus di atas bisa di copy-paste untuk pegawai lainnya dengan jadwal shift yang sama
B29: - KJ: diawali "KJ" dan sesuaikan jumlah digitnya. Contoh: "KJ2" atau "KJ11", bukan "KJ02", "KJ 2", "2", "P 2"
A30: 4 | B30: Isi NPWP
B31: - Diketik tanpa spasi dan tanpa tanda hubung (hanya angka)
B32: - Diawali dengan tanda petik (')
A33: 5 | B33: Isi Jumlah Jam Lembur tanggal (harian)
A34: 6 | B34: Isi Nomor Rekening
O36: Sebelum mengisi bagian kuning,
B37: Pastikan data berikut benar! | H37: Jangan lupa berdoa terlebih dahulu sebelum memulai aktivitas dan bekerja! :) | O37: - Pada Jumlah Jam Lembur Tanggal, atur warna merah
B38: Jangan sampai tertukar dengan milik pegawai lain | O38: - Pada Jumlah Jam Hari Kerja & Hari Libur, serta Uang Makan Hari Kerja & Hari Libur, atur rumusnya
O39: - Setelah itu, baru copy-paste untuk pegawai lainnya dengan jadwal shift (roaster) yang sama
B40: - NIP/NPS
B41: - Nomor Rekening
B43: Mohon crosscheck kebenaran data golongan/kelas jabatan pegawai
B46: Jika ada kendala/pertanyaan/saran, bisa hubungi | H46: Submit softfile rekap lembur dengan subject email dan nama file:
B48: https://wa.me/ | H48: (Unit Kerja)_Lembur ..... 202... | O48: Contoh pewarnaan hari libur pada jadwal shift
...

Sheet Rekap ASN
A1: DIREKTORAT JENDERAL PELAYANAN KESEHATAN
A2: RUMAH SAKIT UMUM PUSAT NASIONAL DR. CIPTO MANGUNKUSUMO
A3: DAFTAR PERHITUNGAN UANG LEMBUR (INSTALASI PELAYANAN ONKOLOGI RADIASI TERPADU) - PEGAWAI ASN RSCM
A4: BULAN JULI 2026
A6: NO | B6: NAMA | C6: GOL | D6: NIP | E6: NPWP | F6: JUMLAH JAM LEMBUR TANGGAL | V6: JUMLAH JAM | X6: PERHITUNGAN UANG LEMBUR DAN UANG MAKAN | AF6: SUM | AG6: JUMLAH KOTOR (Rp) | AH6: PPH | AI6: JUMLAH BERSIH (Rp) | AJ6: NOMOR REKENING | AK6: UNIT KERJA | AL6: DAFTAR GAJI | AM6: NOREK-GAJI | AN6: CEK
F7: 1 | G7: 2 | H7: 3 | I7: 4 | J7: 5 | K7: 6 | L7: 7 | M7: 8 | N7: 9 | O7: 10 | P7: 11 | Q7: 12 | R7: 13 | S7: 14 | T7: 15 | U7: 16 | V7: HARI KERJA (Jam) | W7: HARI LIBUR (Jam) | X7: UANG LEMBUR | AA7: JUMLAH UANG LEMBUR | AC7: UANG MAKAN | AE7: JUMLAH UANG MAKAN
F8: 17 | G8: 18 | H8: 19 | I8: 20 | J8: 21 | K8: 22 | L8: 23 | M8: 24 | N8: 25 | O8: 26 | P8: 27 | Q8: 28 | R8: 29 | S8: 30 | T8: 31
A10: 1 | B10: 2 | C10: 3 | D10: 4 | E10: 5 | F10: 6 | V10: 7 | W10: 8 | X10: 9 | AC10: 10 | AG10: 11 | AH10: 12 | AI10: 13 | AJ10: 14 | AK10: 15 | AL10: 16
A11: 1 | B11: =VLOOKUP(D11,NIP!A:F,2,FALSE) -> Akwandi | C11: =VLOOKUP(D11,NIP!A:F,3,FALSE) -> ASN | D11: 196903192008121001 | E11: =VLOOKUP(D11,NIP!A:F,4,FALSE) -> II/D | V11: =SUM(F11:U11)+SUM(F12:T12)-W11 -> 0 | W11: =SUM(F11:G11)+SUM(M11:N11)+SUM(T11:U11)+SUM(K12:L12)+SUM(R12+S12) -> 0 | X11: =+V11 -> 0 | Y11: X | Z11: =VLOOKUP(C11,Tarif!A:B,2,FALSE) -> #N/A | AA11: = | AB11: =X11*Z11 -> #N/A | AC11: =COUNTIFS(F11:U11,">=2")+COUNTIFS(F12:T12,">=2")-AC12 -> 0 | AD11: =VLOOKUP(C11,Tarif!D:E,2,FALSE) -> #N/A | AE11: =+AD11*AC11 -> #N/A | AG11: =AB11+AE11 -> #N/A | AH11: =VLOOKUP(C11,Tarif!G:H,2,FALSE)*AG11 -> #N/A | AI11: =AG11-AH11 -> #N/A
X12: =+W11 -> 0 | Y12: X | Z12: =Z11*2 -> #N/A | AA12: = | AB12: =X12*Z12 -> #N/A | AC12: =COUNTIFS(F11:G11,">=2")+COUNTIFS(M11:N11,">=2")+COUNTIFS(K12:L12,">=2")+COUNTIFS(R12:S12,">=2")+COUNTIFS(T11:U11,">=2") -> 0 | AD12: =AD11 -> #N/A | AE12: =+AD12*AC12 -> #N/A | AG12: =AB12+AE12 -> #N/A | AH12: =VLOOKUP(C11,Tarif!G:H,2,FALSE)*AG12 -> #N/A | AI12: =AG12-AH12 -> #N/A
X13: =SUM(X11:X12) -> 0 | AB13: =SUM(AB11:AB12) -> #N/A | AC13: =SUM(AC11:AC12) -> 0 | AE13: =SUM(AE11:AE12) -> #N/A | AF13: JML | AG13: =SUM(AG11:AG12) -> #N/A | AH13: =SUM(AH11:AH12) -> #N/A | AI13: =SUM(AI11:AI12) -> #N/A | AL13: =VLOOKUP(D11,NIP!A:G,6,FALSE) -> 1220002108440 | AM13: =VLOOKUP(D11,NIP!A:G,5,FALSE) -> 799536867027000 | AN13: =AJ13-AM13 -> -799536867027000
A14: 1 | B14: =VLOOKUP(D14,NIP!A:F,2,FALSE) -> Indriani | C14: =VLOOKUP(D14,NIP!A:F,3,FALSE) -> ASN | D14: 198101262009122001 | E14: =VLOOKUP(D14,NIP!A:F,4,FALSE) -> II/D | F14: 8 | H14: 4 | I14: 3 | V14: =SUM(F14:U14)+SUM(F15:T15)-W14 -> 13 | W14: =SUM(F14:G14,M14:N14,T14:U14,F15,K15:L15,N15,R15:S15) -> 8 | X14: =+V14 -> 13 | Y14: X | Z14: =VLOOKUP(C14,Tarif!A:B,2,FALSE) -> #N/A | AA14: = | AB14: =X14*Z14 -> #N/A | AC14: =COUNTIFS(F14:U14,">=2")+COUNTIFS(F15:T15,">=2")-AC15 -> 4 | AD14: =VLOOKUP(C14,Tarif!D:E,2,FALSE) -> #N/A | AE14: =+AD14*AC14 -> #N/A | AG14: =AB14+AE14 -> #N/A | AH14: =VLOOKUP(C14,Tarif!G:H,2,FALSE)*AG14 -> #N/A | AI14: =AG14-AH14 -> #N/A | AK14: IPORT
O15: 3 | T15: 3 | X15: =+W14 -> 8 | Y15: X | Z15: =Z14*2 -> #N/A | AA15: = | AB15: =X15*Z15 -> #N/A | AC15: =COUNTIFS(F14:G14,">=2")+COUNTIFS(M14:N14,">=2")+COUNTIFS(T14:U14,">=2")+COUNTIFS(F15,">=2")+COUNTIFS(K15:L15,">=2")+COUNTIFS(N15,">=2")+COUNTIFS(R15:S15,">=2") -> 1 | AD15: =AD14 -> #N/A | AE15: =+AD15*AC15 -> #N/A | AG15: =AB15+AE15 -> #N/A | AH15: =VLOOKUP(C14,Tarif!G:H,2,FALSE)*AG15 -> #N/A | AI15: =AG15-AH15 -> #N/A
X16: =SUM(X14:X15) -> 21 | AB16: =SUM(AB14:AB15) -> #N/A | AC16: =SUM(AC14:AC15) -> 5 | AE16: =SUM(AE14:AE15) -> #N/A | AF16: JML | AG16: =SUM(AG14:AG15) -> #N/A | AH16: =SUM(AH14:AH15) -> #N/A | AI16: =SUM(AI14:AI15) -> #N/A | AJ16: 1220004015577 | AL16: =VLOOKUP(D14,NIP!A:G,6,FALSE) -> 1220004015577 | AM16: =VLOOKUP(D14,NIP!A:G,5,FALSE) -> 679010892008000 | AN16: =AJ16-AM16 -> -677790887992423
A17: =1+A14 -> 2 | B17: =VLOOKUP(D17,NIP!A:F,2,FALSE) -> YUDI WINARNO | C17: =VLOOKUP(D17,NIP!A:F,3,FALSE) -> ASN | D17: 197406162009121001 | E17: =VLOOKUP(D17,NIP!A:F,4,FALSE) -> II/D | T17: 6 | V17: =SUM(F17:U17)+SUM(F18:T18)-W17 -> 0 | W17: =SUM(F17:G17,M17:N17,T17:U17,F18,K18:L18,N18,R18:S18) -> 14 | X17: =+V17 -> 0 | Y17: X | Z17: =VLOOKUP(C17,Tarif!A:B,2,FALSE) -> #N/A | AA17: = | AB17: =X17*Z17 -> #N/A | AC17: =COUNTIFS(F17:U17,">=2")+COUNTIFS(F18:T18,">=2")-AC18 -> 0 | AD17: =VLOOKUP(C17,Tarif!D:E,2,FALSE) -> #N/A | AE17: =+AD17*AC17 -> #N/A | AG17: =AB17+AE17 -> #N/A | AH17: =VLOOKUP(C17,Tarif!G:H,2,FALSE)*AG17 -> #N/A | AI17: =AG17-AH17 -> #N/A | AK17: IPORT
N18: 8 | X18: =+W17 -> 14 | Y18: X | Z18: =Z17*2 -> #N/A | AA18: = | AB18: =X18*Z18 -> #N/A | AC18: =COUNTIFS(F17:G17,">=2")+COUNTIFS(M17:N17,">=2")+COUNTIFS(T17:U17,">=2")+COUNTIFS(F18,">=2")+COUNTIFS(K18:L18,">=2")+COUNTIFS(N18,">=2")+COUNTIFS(R18:S18,">=2") -> 2 | AD18: =AD17 -> #N/A | AE18: =+AD18*AC18 -> #N/A | AG18: =AB18+AE18 -> #N/A | AH18: =VLOOKUP(C17,Tarif!G:H,2,FALSE)*AG18 -> #N/A | AI18: =AG18-AH18 -> #N/A
X19: =SUM(X17:X18) -> 14 | AB19: =SUM(AB17:AB18) -> #N/A | AC19: =SUM(AC17:AC18) -> 2 | AE19: =SUM(AE17:AE18) -> #N/A | AF19: JML | AG19: =SUM(AG17:AG18) -> #N/A | AH19: =SUM(AH17:AH18) -> #N/A | AI19: =SUM(AI17:AI18) -> #N/A | AJ19: 1220004347400 | AL19: =VLOOKUP(D17,NIP!A:G,6,FALSE) -> 1220004347400 | AM19: =VLOOKUP(D17,NIP!A:G,5,FALSE) -> 340450246008000 | AN19: =AJ19-AM19 -> -339230241660600
A20: =1+A17 -> 3 | B20: =VLOOKUP(D20,NIP!A:F,2,FALSE) -> #N/A | C20: =VLOOKUP(D20,NIP!A:F,3,FALSE) -> #N/A | E20: =VLOOKUP(D20,NIP!A:F,4,FALSE) -> #N/A | V20: =SUM(F20:U20)+SUM(F21:T21)-W20 -> 0 | W20: =SUM(F20:G20,M20:N20,T20:U20,F21,K21:L21,N21,R21:S21) -> 0 | X20: =+V20 -> 0 | Y20: X | Z20: =VLOOKUP(C20,Tarif!A:B,2,FALSE) -> #N/A | AA20: = | AB20: =X20*Z20 -> #N/A | AC20: =COUNTIFS(F20:U20,">=2")+COUNTIFS(F21:T21,">=2")-AC21 -> 0 | AD20: =VLOOKUP(C20,Tarif!D:E,2,FALSE) -> #N/A | AE20: =+AD20*AC20 -> #N/A | AG20: =AB20+AE20 -> #N/A | AH20: =VLOOKUP(C20,Tarif!G:H,2,FALSE)*AG20 -> #N/A | AI20: =AG20-AH20 -> #N/A | AK20: IPORT
X21: =+W20 -> 0 | Y21: X | Z21: =Z20*2 -> #N/A | AA21: = | AB21: =X21*Z21 -> #N/A | AC21: =COUNTIFS(F20:G20,">=2")+COUNTIFS(M20:N20,">=2")+COUNTIFS(T20:U20,">=2")+COUNTIFS(F21,">=2")+COUNTIFS(K21:L21,">=2")+COUNTIFS(N21,">=2")+COUNTIFS(R21:S21,">=2") -> 0 | AD21: =AD20 -> #N/A | AE21: =+AD21*AC21 -> #N/A | AG21: =AB21+AE21 -> #N/A | AH21: =VLOOKUP(C20,Tarif!G:H,2,FALSE)*AG21 -> #N/A | AI21: =AG21-AH21 -> #N/A
X22: =SUM(X20:X21) -> 0 | AB22: =SUM(AB20:AB21) -> #N/A | AC22: =SUM(AC20:AC21) -> 0 | AE22: =SUM(AE20:AE21) -> #N/A | AF22: JML | AG22: =SUM(AG20:AG21) -> #N/A | AH22: =SUM(AH20:AH21) -> #N/A | AI22: =SUM(AI20:AI21) -> #N/A | AL22: =VLOOKUP(D20,NIP!A:G,6,FALSE) -> #N/A | AM22: =VLOOKUP(D20,NIP!A:G,5,FALSE) -> #N/A | AN22: =AJ22-AM22 -> #N/A
A23: =1+A20 -> 4 | B23: =VLOOKUP(D23,NIP!A:F,2,FALSE) -> #N/A | C23: =VLOOKUP(D23,NIP!A:F,3,FALSE) -> #N/A | E23: =VLOOKUP(D23,NIP!A:F,4,FALSE) -> #N/A | V23: =SUM(F23:U23)+SUM(F24:T24)-W23 -> 0 | W23: =SUM(F23:G23,M23:N23,T23:U23,F24,K24:L24,N24,R24:S24) -> 0 | X23: =+V23 -> 0 | Y23: X | Z23: =VLOOKUP(C23,Tarif!A:B,2,FALSE) -> #N/A | AA23: = | AB23: =X23*Z23 -> #N/A | AC23: =COUNTIFS(F23:U23,">=2")+COUNTIFS(F24:T24,">=2")-AC24 -> 0 | AD23: =VLOOKUP(C23,Tarif!D:E,2,FALSE) -> #N/A | AE23: =+AD23*AC23 -> #N/A | AG23: =AB23+AE23 -> #N/A | AH23: =VLOOKUP(C23,Tarif!G:H,2,FALSE)*AG23 -> #N/A | AI23: =AG23-AH23 -> #N/A | AK23: IPORT
X24: =+W23 -> 0 | Y24: X | Z24: =Z23*2 -> #N/A | AA24: = | AB24: =X24*Z24 -> #N/A | AC24: =COUNTIFS(F23:G23,">=2")+COUNTIFS(M23:N23,">=2")+COUNTIFS(T23:U23,">=2")+COUNTIFS(F24,">=2")+COUNTIFS(K24:L24,">=2")+COUNTIFS(N24,">=2")+COUNTIFS(R24:S24,">=2") -> 0 | AD24: =AD23 -> #N/A | AE24: =+AD24*AC24 -> #N/A | AG24: =AB24+AE24 -> #N/A | AH24: =VLOOKUP(C23,Tarif!G:H,2,FALSE)*AG24 -> #N/A | AI24: =AG24-AH24 -> #N/A
X25: =SUM(X23:X24) -> 0 | AB25: =SUM(AB23:AB24) -> #N/A | AC25: =SUM(AC23:AC24) -> 0 | AE25: =SUM(AE23:AE24) -> #N/A | AF25: JML | AG25: =SUM(AG23:AG24) -> #N/A | AH25: =SUM(AH23:AH24) -> #N/A | AI25: =SUM(AI23:AI24) -> #N/A | AL25: =VLOOKUP(D23,NIP!A:G,6,FALSE) -> #N/A | AM25: =VLOOKUP(D23,NIP!A:G,5,FALSE) -> #N/A | AN25: =AJ25-AM25 -> #N/A
A26: 3 | B26: =VLOOKUP(D26,NIP!A:F,2,FALSE) -> Antriyanus Daeli, Ns.S.Kep | C26: =VLOOKUP(D26,NIP!A:F,3,FALSE) -> ASN | D26: 199605172025061004 | E26: =VLOOKUP(D26,NIP!A:F,4,FALSE) -> III/B | U26: 3.5 | V26: =SUM(F26:U26)+SUM(F27:T27)-W26 -> 0 | W26: =SUM(F26:G26,M26:N26,T26:U26,F27,K27:L27,N27,R27:S27) -> 18 | X26: =+V26 -> 0 | Y26: X | Z26: =VLOOKUP(C26,Tarif!A:B,2,FALSE) -> #N/A | AA26: = | AB26: =X26*Z26 -> #N/A | AC26: =COUNTIFS(F26:U26,">=2")+COUNTIFS(F27:T27,">=2")-AC27 -> 0 | AD26: =VLOOKUP(C26,Tarif!D:E,2,FALSE) -> #N/A | AE26: =+AD26*AC26 -> #N/A | AG26: =AB26+AE26 -> #N/A | AH26: =VLOOKUP(C26,Tarif!G:H,2,FALSE)*AG26 -> #N/A | AI26: =AG26-AH26 -> #N/A | AK26: IPORT
F27: 5 | N27: 9.5 | X27: =+W26 -> 18 | Y27: X | Z27: =Z26*2 -> #N/A | AA27: = | AB27: =X27*Z27 -> #N/A | AC27: =COUNTIFS(F26:G26,">=2")+COUNTIFS(M26:N26,">=2")+COUNTIFS(T26:U26,">=2")+COUNTIFS(F27,">=2")+COUNTIFS(K27:L27,">=2")+COUNTIFS(N27,">=2")+COUNTIFS(R27:S27,">=2") -> 3 | AD27: =AD26 -> #N/A | AE27: =+AD27*AC27 -> #N/A | AG27: =AB27+AE27 -> #N/A | AH27: =VLOOKUP(C26,Tarif!G:H,2,FALSE)*AG27 -> #N/A | AI27: =AG27-AH27 -> #N/A
X28: =SUM(X26:X27) -> 18 | AB28: =SUM(AB26:AB27) -> #N/A | AC28: =SUM(AC26:AC27) -> 3 | AE28: =SUM(AE26:AE27) -> #N/A | AF28: JML | AG28: =SUM(AG26:AG27) -> #N/A | AH28: =SUM(AH26:AH27) -> #N/A | AI28: =SUM(AI26:AI27) -> #N/A | AJ28: 1760003359948 | AL28: =VLOOKUP(D26,NIP!A:G,6,FALSE) -> 1760003359948 | AM28: =VLOOKUP(D26,NIP!A:G,5,FALSE) -> 0 | AN28: =AJ28-AM28 -> 1760003359948
A29: =1+A26 -> 4 | B29: =VLOOKUP(D29,NIP!A:F,2,FALSE) -> #N/A | C29: =VLOOKUP(D29,NIP!A:F,3,FALSE) -> #N/A | E29: =VLOOKUP(D29,NIP!A:F,4,FALSE) -> #N/A | V29: =SUM(F29:U29)+SUM(F30:T30)-W29 -> 0 | W29: =SUM(F29:G29,M29:N29,T29:U29,F30,K30:L30,N30,R30:S30) -> 0 | X29: =+V29 -> 0 | Y29: X | Z29: =VLOOKUP(C29,Tarif!A:B,2,FALSE) -> #N/A | AA29: = | AB29: =X29*Z29 -> #N/A | AC29: =COUNTIFS(F29:U29,">=2")+COUNTIFS(F30:T30,">=2")-AC30 -> 0 | AD29: =VLOOKUP(C29,Tarif!D:E,2,FALSE) -> #N/A | AE29: =+AD29*AC29 -> #N/A | AG29: =AB29+AE29 -> #N/A | AH29: =VLOOKUP(C29,Tarif!G:H,2,FALSE)*AG29 -> #N/A | AI29: =AG29-AH29 -> #N/A | AK29: IPORT
X30: =+W29 -> 0 | Y30: X | Z30: =Z29*2 -> #N/A | AA30: = | AB30: =X30*Z30 -> #N/A | AC30: =COUNTIFS(F29:G29,">=2")+COUNTIFS(M29:N29,">=2")+COUNTIFS(T29:U29,">=2")+COUNTIFS(F30,">=2")+COUNTIFS(K30:L30,">=2")+COUNTIFS(N30,">=2")+COUNTIFS(R30:S30,">=2") -> 0 | AD30: =AD29 -> #N/A | AE30: =+AD30*AC30 -> #N/A | AG30: =AB30+AE30 -> #N/A | AH30: =VLOOKUP(C29,Tarif!G:H,2,FALSE)*AG30 -> #N/A | AI30: =AG30-AH30 -> #N/A
X31: =SUM(X29:X30) -> 0 | AB31: =SUM(AB29:AB30) -> #N/A | AC31: =SUM(AC29:AC30) -> 0 | AE31: =SUM(AE29:AE30) -> #N/A | AF31: JML | AG31: =SUM(AG29:AG30) -> #N/A | AH31: =SUM(AH29:AH30) -> #N/A | AI31: =SUM(AI29:AI30) -> #N/A | AL31: =VLOOKUP(D29,NIP!A:G,6,FALSE) -> #N/A | AM31: =VLOOKUP(D29,NIP!A:G,5,FALSE) -> #N/A | AN31: =AJ31-AM31 -> #N/A
A32: 4 | B32: =VLOOKUP(D32,NIP!A:F,2,FALSE) -> MUHAMMAD ARI HIJRAH S. | C32: =VLOOKUP(D32,NIP!A:F,3,FALSE) -> ASN | D32: 198408192010121002 | E32: =VLOOKUP(D32,NIP!A:F,4,FALSE) -> III/A | U32: 6 | V32: =SUM(F32:U32)+SUM(F33:T33)-W32 -> 0 | W32: =SUM(F32:G32,M32:N32,T32:U32,F33,K33:L33,N33,R33:S33) -> 10.5 | X32: =+V32 -> 0 | Y32: X | Z32: =VLOOKUP(C32,Tarif!A:B,2,FALSE) -> #N/A | AA32: = | AB32: =X32*Z32 -> #N/A | AC32: =COUNTIFS(F32:U32,">=2")+COUNTIFS(F33:T33,">=2")-AC33 -> 0 | AD32: =VLOOKUP(C32,Tarif!D:E,2,FALSE) -> #N/A | AE32: =+AD32*AC32 -> #N/A | AG32: =AB32+AE32 -> #N/A | AH32: =VLOOKUP(C32,Tarif!G:H,2,FALSE)*AG32 -> #N/A | AI32: =AG32-AH32 -> #N/A | AK32: IPORT
F33: 4.5 | X33: =+W32 -> 10.5 | Y33: X | Z33: =Z32*2 -> #N/A | AA33: = | AB33: =X33*Z33 -> #N/A | AC33: =COUNTIFS(F32:G32,">=2")+COUNTIFS(M32:N32,">=2")+COUNTIFS(T32:U32,">=2")+COUNTIFS(F33,">=2")+COUNTIFS(K33:L33,">=2")+COUNTIFS(N33,">=2")+COUNTIFS(R33:S33,">=2") -> 2 | AD33: =AD32 -> #N/A | AE33: =+AD33*AC33 -> #N/A | AG33: =AB33+AE33 -> #N/A | AH33: =VLOOKUP(C32,Tarif!G:H,2,FALSE)*AG33 -> #N/A | AI33: =AG33-AH33 -> #N/A
X34: =SUM(X32:X33) -> 10.5 | AB34: =SUM(AB32:AB33) -> #N/A | AC34: =SUM(AC32:AC33) -> 2 | AE34: =SUM(AE32:AE33) -> #N/A | AF34: JML | AG34: =SUM(AG32:AG33) -> #N/A | AH34: =SUM(AH32:AH33) -> #N/A | AI34: =SUM(AI32:AI33) -> #N/A | AJ34: 1220004656735 | AL34: =VLOOKUP(D32,NIP!A:G,6,FALSE) -> 1220004656735 | AM34: =VLOOKUP(D32,NIP!A:G,5,FALSE) -> 672063245402000 | AN34: =AJ34-AM34 -> -670843240745265
A35: 5 | B35: =VLOOKUP(D35,NIP!A:F,2,FALSE) -> ABDUROCHIM | C35: =VLOOKUP(D35,NIP!A:F,3,FALSE) -> ASN | D35: 199102082019021001 | E35: =VLOOKUP(D35,NIP!A:F,4,FALSE) -> III/A | O35: 3 | V35: =SUM(F35:U35)+SUM(F36:T36)-W35 -> 3 | W35: =SUM(F35:G35,M35:N35,T35:U35,F36,K36:L36,N36,R36:S36) -> 7 | X35: =+V35 -> 3 | Y35: X | Z35: =VLOOKUP(C35,Tarif!A:B,2,FALSE) -> #N/A | AA35: = | AB35: =X35*Z35 -> #N/A | AC35: =COUNTIFS(F35:U35,">=2")+COUNTIFS(F36:T36,">=2")-AC36 -> 1 | AD35: =VLOOKUP(C35,Tarif!D:E,2,FALSE) -> #N/A | AE35: =+AD35*AC35 -> #N/A | AG35: =AB35+AE35 -> #N/A | AH35: =VLOOKUP(C35,Tarif!G:H,2,FALSE)*AG35 -> #N/A | AI35: =AG35-AH35 -> #N/A | AK35: IPORT
N36: 7 | X36: =+W35 -> 7 | Y36: X | Z36: =Z35*2 -> #N/A | AA36: = | AB36: =X36*Z36 -> #N/A | AC36: =COUNTIFS(F35:G35,">=2")+COUNTIFS(M35:N35,">=2")+COUNTIFS(T35:U35,">=2")+COUNTIFS(F36,">=2")+COUNTIFS(K36:L36,">=2")+COUNTIFS(N36,">=2")+COUNTIFS(R36:S36,">=2") -> 1 | AD36: =AD35 -> #N/A | AE36: =+AD36*AC36 -> #N/A | AG36: =AB36+AE36 -> #N/A | AH36: =VLOOKUP(C35,Tarif!G:H,2,FALSE)*AG36 -> #N/A | AI36: =AG36-AH36 -> #N/A
X37: =SUM(X35:X36) -> 10 | AB37: =SUM(AB35:AB36) -> #N/A | AC37: =SUM(AC35:AC36) -> 2 | AE37: =SUM(AE35:AE36) -> #N/A | AF37: JML | AG37: =SUM(AG35:AG36) -> #N/A | AH37: =SUM(AH35:AH36) -> #N/A | AI37: =SUM(AI35:AI36) -> #N/A | AJ37: 1020006473653 | AL37: =VLOOKUP(D35,NIP!A:G,6,FALSE) -> 1020006473653 | AM37: =VLOOKUP(D35,NIP!A:G,5,FALSE) -> 724902945501000 | AN37: =AJ37-AM37 -> -723882939027347
A38: =1+A35 -> 6 | B38: =VLOOKUP(D38,NIP!A:F,2,FALSE) -> ADE HARYADI HERLAMBANG | C38: =VLOOKUP(D38,NIP!A:F,3,FALSE) -> ASN | D38: 197604242006041007 | E38: =VLOOKUP(D38,NIP!A:F,4,FALSE) -> III/C | O38: 3 | V38: =SUM(F38:U38)+SUM(F39:T39)-W38 -> 3 | W38: =SUM(F38:G38,M38:N38,T38:U38,F39,K39:L39,N39,R39:S39) -> 8 | X38: =+V38 -> 3 | Y38: X | Z38: =VLOOKUP(C38,Tarif!A:B,2,FALSE) -> #N/A | AA38: = | AB38: =X38*Z38 -> #N/A | AC38: =COUNTIFS(F38:U38,">=2")+COUNTIFS(F39:T39,">=2")-AC39 -> 1 | AD38: =VLOOKUP(C38,Tarif!D:E,2,FALSE) -> #N/A | AE38: =+AD38*AC38 -> #N/A | AG38: =AB38+AE38 -> #N/A | AH38: =VLOOKUP(C38,Tarif!G:H,2,FALSE)*AG38 -> #N/A | AI38: =AG38-AH38 -> #N/A | AK38: IPORT
N39: 8 | X39: =+W38 -> 8 | Y39: X | Z39: =Z38*2 -> #N/A | AA39: = | AB39: =X39*Z39 -> #N/A | AC39: =COUNTIFS(F38:G38,">=2")+COUNTIFS(M38:N38,">=2")+COUNTIFS(T38:U38,">=2")+COUNTIFS(F39,">=2")+COUNTIFS(K39:L39,">=2")+COUNTIFS(N39,">=2")+COUNTIFS(R39:S39,">=2") -> 1 | AD39: =AD38 -> #N/A | AE39: =+AD39*AC39 -> #N/A | AG39: =AB39+AE39 -> #N/A | AH39: =VLOOKUP(C38,Tarif!G:H,2,FALSE)*AG39 -> #N/A | AI39: =AG39-AH39 -> #N/A
X40: =SUM(X38:X39) -> 11 | AB40: =SUM(AB38:AB39) -> #N/A | AC40: =SUM(AC38:AC39) -> 2 | AE40: =SUM(AE38:AE39) -> #N/A | AF40: JML | AG40: =SUM(AG38:AG39) -> #N/A | AH40: =SUM(AH38:AH39) -> #N/A | AI40: =SUM(AI38:AI39) -> #N/A | AJ40: 1220004347996 | AL40: =VLOOKUP(D38,NIP!A:G,6,FALSE) -> 1220004347996 | AM40: =VLOOKUP(D38,NIP!A:G,5,FALSE) -> 594286346027000 | AN40: =AJ40-AM40 -> -593066341679004
A41: =1+A38 -> 7 | B41: =VLOOKUP(D41,NIP!A:F,2,FALSE) -> JOKO BAGUS BAWONO,APRO | C41: =VLOOKUP(D41,NIP!A:F,3,FALSE) -> ASN | D41: 197504171998031001 | E41: =VLOOKUP(D41,NIP!A:F,4,FALSE) -> III/D | V41: =SUM(F41:U41)+SUM(F42:T42)-W41 -> 0 | W41: =SUM(F41:G41,M41:N41,T41:U41,F42,K42:L42,N42,R42:S42) -> 7 | X41: =+V41 -> 0 | Y41: X | Z41: =VLOOKUP(C41,Tarif!A:B,2,FALSE) -> #N/A | AA41: = | AB41: =X41*Z41 -> #N/A | AC41: =COUNTIFS(F41:U41,">=2")+COUNTIFS(F42:T42,">=2")-AC42 -> 0 | AD41: =VLOOKUP(C41,Tarif!D:E,2,FALSE) -> #N/A | AE41: =+AD41*AC41 -> #N/A | AG41: =AB41+AE41 -> #N/A | AH41: =VLOOKUP(C41,Tarif!G:H,2,FALSE)*AG41 -> #N/A | AI41: =AG41-AH41 -> #N/A | AK41: IPORT
N42: 7 | X42: =+W41 -> 7 | Y42: X | Z42: =Z41*2 -> #N/A | AA42: = | AB42: =X42*Z42 -> #N/A | AC42: =COUNTIFS(F41:G41,">=2")+COUNTIFS(M41:N41,">=2")+COUNTIFS(T41:U41,">=2")+COUNTIFS(F42,">=2")+COUNTIFS(K42:L42,">=2")+COUNTIFS(N42,">=2")+COUNTIFS(R42:S42,">=2") -> 1 | AD42: =AD41 -> #N/A | AE42: =+AD42*AC42 -> #N/A | AG42: =AB42+AE42 -> #N/A | AH42: =VLOOKUP(C41,Tarif!G:H,2,FALSE)*AG42 -> #N/A | AI42: =AG42-AH42 -> #N/A
...

Sheet Rekap PPPK2023
A1: DIREKTORAT JENDERAL PELAYANAN KESEHATAN
A2: RUMAH SAKIT UMUM PUSAT NASIONAL DR. CIPTO MANGUNKUSUMO
A3: DAFTAR PERHITUNGAN UANG LEMBUR (INSTALASI PELAYANAN ONKOLOGI RADIASI TERPADU) - PEGAWAI PPPK 2023 RSCM
A4: BULAN JUNI 2026
A6: NO | B6: NAMA | C6: GOL | D6: NIP | E6: NPWP | F6: JUMLAH JAM LEMBUR TANGGAL | V6: JUMLAH JAM | X6: PERHITUNGAN UANG LEMBUR DAN UANG MAKAN | AF6: SUM | AG6: JUMLAH KOTOR (Rp) | AH6: PPH | AI6: JUMLAH BERSIH (Rp) | AJ6: NOMOR REKENING | AK6: UNIT KERJA | AL6: DAFTAR GAJI | AM6: NOREK-GAJI | AN6: CEK
F7: 1 | G7: 2 | H7: 3 | I7: 4 | J7: 5 | K7: 6 | L7: 7 | M7: 8 | N7: 9 | O7: 10 | P7: 11 | Q7: 12 | R7: 13 | S7: 14 | T7: 15 | U7: 16 | V7: HARI KERJA (Jam) | W7: HARI LIBUR (Jam) | X7: UANG LEMBUR | AA7: JUMLAH UANG LEMBUR | AC7: UANG MAKAN | AE7: JUMLAH UANG MAKAN
F8: 17 | G8: 18 | H8: 19 | I8: 20 | J8: 21 | K8: 22 | L8: 23 | M8: 24 | N8: 25 | O8: 26 | P8: 27 | Q8: 28 | R8: 29 | S8: 30 | T8: 31
A10: 1 | B10: 2 | C10: 3 | D10: 4 | E10: 5 | V10: 7 | W10: 8 | X10: 9 | AC10: 10 | AG10: 11 | AH10: 12 | AI10: 13 | AJ10: 14 | AK10: 15 | AL10: 16
A11: 1 | B11: =VLOOKUP(D11,P3K23!A:E,2,FALSE) -> SOLIKHAH HANDAYANI, A.Md. Kep | C11: =VLOOKUP(D11,P3K23!A:E,3,FALSE) -> II/C | D11: 199309292023212009 | E11: =VLOOKUP(D11,P3K23!A:E,4,FALSE) -> 723306718528000 | V11: =SUM(F11:U11)+SUM(F12:T12)-W11 -> 0 | W11: =SUM(F11:G11,M11:N11,T11:U11,F12,K12:L12,N12,R12:S12) -> 10 | X11: =+V11 -> 0 | Y11: X | Z11: =VLOOKUP(C11,Tarif!A:B,2,FALSE) -> 24000 | AA11: = | AB11: =X11*Z11 -> 0 | AC11: =COUNTIFS(F11:U11,">=2")+COUNTIFS(F12:T12,">=2")-AC12 -> 0 | AD11: =VLOOKUP(C11,Tarif!D:E,2,FALSE) -> 35000 | AE11: =+AD11*AC11 -> 0 | AG11: =AB11+AE11 -> 0 | AH11: =VLOOKUP(C11,Tarif!G:H,2,FALSE)*AG11 -> 0 | AI11: =AG11-AH11 -> 0 | AK11: IPORT
N12: 10 | X12: =+W11 -> 10 | Y12: X | Z12: =Z11*2 -> 48000 | AA12: = | AB12: =X12*Z12 -> 480000 | AC12: =COUNTIFS(F11:G11,">=2")+COUNTIFS(M11:N11,">=2")+COUNTIFS(T11:U11,">=2")+COUNTIFS(F12,">=2")+COUNTIFS(K12:L12,">=2")+COUNTIFS(N12,">=2")+COUNTIFS(R12:S12,">=2") -> 1 | AD12: =AD11 -> 35000 | AE12: =+AD12*AC12 -> 35000 | AG12: =AB12+AE12 -> 515000 | AH12: =VLOOKUP(C11,Tarif!G:H,2,FALSE)*AG12 -> 0 | AI12: =AG12-AH12 -> 515000
X13: =SUM(X11:X12) -> 10 | AB13: =SUM(AB11:AB12) -> 480000 | AC13: =SUM(AC11:AC12) -> 1 | AE13: =SUM(AE11:AE12) -> 35000 | AF13: JML | AG13: =SUM(AG11:AG12) -> 515000 | AH13: =SUM(AH11:AH12) -> 0 | AI13: =SUM(AI11:AI12) -> 515000 | AJ13: 9000029088219 | AL13: =VLOOKUP(D11,P3K23!A:F,6,FALSE) -> PPPK P1 | AM13: =VLOOKUP(D11,P3K23!A:F,5,FALSE) -> 9000029088219 | AN13: =AJ13-AM13 -> 0
A14: =1+A11 -> 2 | B14: =VLOOKUP(D14,P3K23!A:E,2,FALSE) -> NUR AHMAD GIRIYANTO, A.Md.Kep | C14: =VLOOKUP(D14,P3K23!A:E,3,FALSE) -> II/C | D14: 199302232023211003 | E14: =VLOOKUP(D14,P3K23!A:E,4,FALSE) -> 803183201522000 | I14: 2 | K14: 2 | V14: =SUM(F14:U14)+SUM(F15:T15)-W14 -> 10.5 | W14: =SUM(F14:G14,M14:N14,T14:U14,F15,K15:L15,N15,R15:S15) -> 9.5 | X14: =+V14 -> 10.5 | Y14: X | Z14: =VLOOKUP(C14,Tarif!A:B,2,FALSE) -> 24000 | AA14: = | AB14: =X14*Z14 -> 252000 | AC14: =COUNTIFS(F14:U14,">=2")+COUNTIFS(F15:T15,">=2")-AC15 -> 5 | AD14: =VLOOKUP(C14,Tarif!D:E,2,FALSE) -> 35000 | AE14: =+AD14*AC14 -> 175000 | AG14: =AB14+AE14 -> 427000 | AH14: =VLOOKUP(C14,Tarif!G:H,2,FALSE)*AG14 -> 0 | AI14: =AG14-AH14 -> 427000 | AK14: IPORT
I15: 2 | M15: 2 | N15: 9.5 | T15: 2.5 | X15: =+W14 -> 9.5 | Y15: X | Z15: =Z14*2 -> 48000 | AA15: = | AB15: =X15*Z15 -> 456000 | AC15: =COUNTIFS(F14:G14,">=2")+COUNTIFS(M14:N14,">=2")+COUNTIFS(T14:U14,">=2")+COUNTIFS(F15,">=2")+COUNTIFS(K15:L15,">=2")+COUNTIFS(N15,">=2")+COUNTIFS(R15:S15,">=2") -> 1 | AD15: =AD14 -> 35000 | AE15: =+AD15*AC15 -> 35000 | AG15: =AB15+AE15 -> 491000 | AH15: =VLOOKUP(C14,Tarif!G:H,2,FALSE)*AG15 -> 0 | AI15: =AG15-AH15 -> 491000
X16: =SUM(X14:X15) -> 20 | AB16: =SUM(AB14:AB15) -> 708000 | AC16: =SUM(AC14:AC15) -> 6 | AE16: =SUM(AE14:AE15) -> 210000 | AF16: JML | AG16: =SUM(AG14:AG15) -> 918000 | AH16: =SUM(AH14:AH15) -> 0 | AI16: =SUM(AI14:AI15) -> 918000 | AJ16: 9000029088870 | AL16: =VLOOKUP(D14,P3K23!A:F,6,FALSE) -> PPPK P1 | AM16: =VLOOKUP(D14,P3K23!A:F,5,FALSE) -> 9000029088870 | AN16: =AJ16-AM16 -> 0
A17: =1+A14 -> 3 | B17: =VLOOKUP(D17,P3K23!A:E,2,FALSE) -> #N/A | C17: =VLOOKUP(D17,P3K23!A:E,3,FALSE) -> #N/A | E17: =VLOOKUP(D17,P3K23!A:E,4,FALSE) -> #N/A | V17: =SUM(F17:U17)+SUM(F18:T18)-W17 -> 0 | W17: =SUM(F17:G17,M17:N17,T17:U17,F18,K18:L18,N18,R18:S18) -> 0 | X17: =+V17 -> 0 | Y17: X | Z17: =VLOOKUP(C17,Tarif!A:B,2,FALSE) -> #N/A | AA17: = | AB17: =X17*Z17 -> #N/A | AC17: =COUNTIFS(F17:U17,">=2")+COUNTIFS(F18:T18,">=2")-AC18 -> 0 | AD17: =VLOOKUP(C17,Tarif!D:E,2,FALSE) -> #N/A | AE17: =+AD17*AC17 -> #N/A | AG17: =AB17+AE17 -> #N/A | AH17: =VLOOKUP(C17,Tarif!G:H,2,FALSE)*AG17 -> #N/A | AI17: =AG17-AH17 -> #N/A | AK17: IPORT
X18: =+W17 -> 0 | Y18: X | Z18: =Z17*2 -> #N/A | AA18: = | AB18: =X18*Z18 -> #N/A | AC18: =COUNTIFS(F17:G17,">=2")+COUNTIFS(M17:N17,">=2")+COUNTIFS(T17:U17,">=2")+COUNTIFS(F18,">=2")+COUNTIFS(K18:L18,">=2")+COUNTIFS(N18,">=2")+COUNTIFS(R18:S18,">=2") -> 0 | AD18: =AD17 -> #N/A | AE18: =+AD18*AC18 -> #N/A | AG18: =AB18+AE18 -> #N/A | AH18: =VLOOKUP(C17,Tarif!G:H,2,FALSE)*AG18 -> #N/A | AI18: =AG18-AH18 -> #N/A
X19: =SUM(X17:X18) -> 0 | AB19: =SUM(AB17:AB18) -> #N/A | AC19: =SUM(AC17:AC18) -> 0 | AE19: =SUM(AE17:AE18) -> #N/A | AF19: JML | AG19: =SUM(AG17:AG18) -> #N/A | AH19: =SUM(AH17:AH18) -> #N/A | AI19: =SUM(AI17:AI18) -> #N/A | AL19: =VLOOKUP(D17,P3K23!A:F,6,FALSE) -> #N/A | AM19: =VLOOKUP(D17,P3K23!A:F,5,FALSE) -> #N/A | AN19: =AJ19-AM19 -> #N/A
A20: =1+A17 -> 4 | B20: =VLOOKUP(D20,P3K23!A:E,2,FALSE) -> MUHAMAD IQBAL ASSEGAB, S.Si | C20: =VLOOKUP(D20,P3K23!A:E,3,FALSE) -> III/A | D20: 198612022023211001 | E20: =VLOOKUP(D20,P3K23!A:E,4,FALSE) -> 686571381061000 | M20: 9.5 | T20: 11 | V20: =SUM(F20:U20)+SUM(F21:T21)-W20 -> 0 | W20: =SUM(F20:G20,M20:N20,T20:U20,F21,K21:L21,N21,R21:S21) -> 40 | X20: =+V20 -> 0 | Y20: X | Z20: =VLOOKUP(C20,Tarif!A:B,2,FALSE) -> 30000 | AA20: = | AB20: =X20*Z20 -> 0 | AC20: =COUNTIFS(F20:U20,">=2")+COUNTIFS(F21:T21,">=2")-AC21 -> 0 | AD20: =VLOOKUP(C20,Tarif!D:E,2,FALSE) -> 37000 | AE20: =+AD20*AC20 -> 0 | AG20: =AB20+AE20 -> 0 | AH20: =VLOOKUP(C20,Tarif!G:H,2,FALSE)*AG20 -> 0 | AI20: =AG20-AH20 -> 0 | AK20: IPORT
K21: 9.5 | R21: 10 | X21: =+W20 -> 40 | Y21: X | Z21: =Z20*2 -> 60000 | AA21: = | AB21: =X21*Z21 -> 2400000 | AC21: =COUNTIFS(F20:G20,">=2")+COUNTIFS(M20:N20,">=2")+COUNTIFS(T20:U20,">=2")+COUNTIFS(F21,">=2")+COUNTIFS(K21:L21,">=2")+COUNTIFS(N21,">=2")+COUNTIFS(R21:S21,">=2") -> 4 | AD21: =AD20 -> 37000 | AE21: =+AD21*AC21 -> 148000 | AG21: =AB21+AE21 -> 2548000 | AH21: =VLOOKUP(C20,Tarif!G:H,2,FALSE)*AG21 -> 127400 | AI21: =AG21-AH21 -> 2420600
X22: =SUM(X20:X21) -> 40 | AB22: =SUM(AB20:AB21) -> 2400000 | AC22: =SUM(AC20:AC21) -> 4 | AE22: =SUM(AE20:AE21) -> 148000 | AF22: JML | AG22: =SUM(AG20:AG21) -> 2548000 | AH22: =SUM(AH20:AH21) -> 127400 | AI22: =SUM(AI20:AI21) -> 2420600 | AJ22: 0700005196378 | AL22: =VLOOKUP(D20,P3K23!A:F,6,FALSE) -> PPPK P1 | AM22: =VLOOKUP(D20,P3K23!A:F,5,FALSE) -> 0700005196378 | AN22: =AJ22-AM22 -> 0
A23: =1+A20 -> 5 | B23: =VLOOKUP(D23,P3K23!A:E,2,FALSE) -> WAHYUNI SYIYAMSIH, A.Md.Rad | C23: =VLOOKUP(D23,P3K23!A:E,3,FALSE) -> II/C | D23: 198506062023212006 | E23: =VLOOKUP(D23,P3K23!A:E,4,FALSE) -> 253271803416000 | V23: =SUM(F23:U23)+SUM(F24:T24)-W23 -> 0 | W23: =SUM(F23:G23,M23:N23,T23:U23,F24,K24:L24,N24,R24:S24) -> 7.5 | X23: =+V23 -> 0 | Y23: X | Z23: =VLOOKUP(C23,Tarif!A:B,2,FALSE) -> 24000 | AA23: = | AB23: =X23*Z23 -> 0 | AC23: =COUNTIFS(F23:U23,">=2")+COUNTIFS(F24:T24,">=2")-AC24 -> 0 | AD23: =VLOOKUP(C23,Tarif!D:E,2,FALSE) -> 35000 | AE23: =+AD23*AC23 -> 0 | AG23: =AB23+AE23 -> 0 | AH23: =VLOOKUP(C23,Tarif!G:H,2,FALSE)*AG23 -> 0 | AI23: =AG23-AH23 -> 0 | AK23: IPORT
N24: 7.5 | X24: =+W23 -> 7.5 | Y24: X | Z24: =Z23*2 -> 48000 | AA24: = | AB24: =X24*Z24 -> 360000 | AC24: =COUNTIFS(F23:G23,">=2")+COUNTIFS(M23:N23,">=2")+COUNTIFS(T23:U23,">=2")+COUNTIFS(F24,">=2")+COUNTIFS(K24:L24,">=2")+COUNTIFS(N24,">=2")+COUNTIFS(R24:S24,">=2") -> 1 | AD24: =AD23 -> 35000 | AE24: =+AD24*AC24 -> 35000 | AG24: =AB24+AE24 -> 395000 | AH24: =VLOOKUP(C23,Tarif!G:H,2,FALSE)*AG24 -> 0 | AI24: =AG24-AH24 -> 395000
X25: =SUM(X23:X24) -> 7.5 | AB25: =SUM(AB23:AB24) -> 360000 | AC25: =SUM(AC23:AC24) -> 1 | AE25: =SUM(AE23:AE24) -> 35000 | AF25: JML | AG25: =SUM(AG23:AG24) -> 395000 | AH25: =SUM(AH23:AH24) -> 0 | AI25: =SUM(AI23:AI24) -> 395000 | AJ25: 1550000241904 | AL25: =VLOOKUP(D23,P3K23!A:F,6,FALSE) -> PPPK P1 | AM25: =VLOOKUP(D23,P3K23!A:F,5,FALSE) -> 1550000241904 | AN25: =AJ25-AM25 -> 0
A26: =1+A23 -> 6 | B26: =VLOOKUP(D26,P3K23!A:E,2,FALSE) -> NANA SUPRIATNA, Amd.Rad | C26: =VLOOKUP(D26,P3K23!A:E,3,FALSE) -> II/C | D26: 198312062023211004 | E26: =VLOOKUP(D26,P3K23!A:E,4,FALSE) -> 794839795403000 | V26: =SUM(F26:U26)+SUM(F27:T27)-W26 -> 0 | W26: =SUM(F26:G26,M26:N26,T26:U26,F27,K27:L27,N27,R27:S27) -> 7 | X26: =+V26 -> 0 | Y26: X | Z26: =VLOOKUP(C26,Tarif!A:B,2,FALSE) -> 24000 | AA26: = | AB26: =X26*Z26 -> 0 | AC26: =COUNTIFS(F26:U26,">=2")+COUNTIFS(F27:T27,">=2")-AC27 -> 0 | AD26: =VLOOKUP(C26,Tarif!D:E,2,FALSE) -> 35000 | AE26: =+AD26*AC26 -> 0 | AG26: =AB26+AE26 -> 0 | AH26: =VLOOKUP(C26,Tarif!G:H,2,FALSE)*AG26 -> 0 | AI26: =AG26-AH26 -> 0 | AK26: IPORT
N27: 7 | X27: =+W26 -> 7 | Y27: X | Z27: =Z26*2 -> 48000 | AA27: = | AB27: =X27*Z27 -> 336000 | AC27: =COUNTIFS(F26:G26,">=2")+COUNTIFS(M26:N26,">=2")+COUNTIFS(T26:U26,">=2")+COUNTIFS(F27,">=2")+COUNTIFS(K27:L27,">=2")+COUNTIFS(N27,">=2")+COUNTIFS(R27:S27,">=2") -> 1 | AD27: =AD26 -> 35000 | AE27: =+AD27*AC27 -> 35000 | AG27: =AB27+AE27 -> 371000 | AH27: =VLOOKUP(C26,Tarif!G:H,2,FALSE)*AG27 -> 0 | AI27: =AG27-AH27 -> 371000
X28: =SUM(X26:X27) -> 7 | AB28: =SUM(AB26:AB27) -> 336000 | AC28: =SUM(AC26:AC27) -> 1 | AE28: =SUM(AE26:AE27) -> 35000 | AF28: JML | AG28: =SUM(AG26:AG27) -> 371000 | AH28: =SUM(AH26:AH27) -> 0 | AI28: =SUM(AI26:AI27) -> 371000 | AJ28: 1220006058849 | AL28: =VLOOKUP(D26,P3K23!A:F,6,FALSE) -> PPPK P1 | AM28: =VLOOKUP(D26,P3K23!A:F,5,FALSE) -> 1220006058849 | AN28: =AJ28-AM28 -> 0
A29: =1+A26 -> 7 | B29: =VLOOKUP(D29,P3K23!A:E,2,FALSE) -> RINA ANGGRAENI, A.Md.Rad | C29: =VLOOKUP(D29,P3K23!A:E,3,FALSE) -> II/C | D29: 198608062023212005 | E29: =VLOOKUP(D29,P3K23!A:E,4,FALSE) -> 970351367412000 | V29: =SUM(F29:U29)+SUM(F30:T30)-W29 -> 0 | W29: =SUM(F29:G29,M29:N29,T29:U29,F30,K30:L30,N30,R30:S30) -> 7 | X29: =+V29 -> 0 | Y29: X | Z29: =VLOOKUP(C29,Tarif!A:B,2,FALSE) -> 24000 | AA29: = | AB29: =X29*Z29 -> 0 | AC29: =COUNTIFS(F29:U29,">=2")+COUNTIFS(F30:T30,">=2")-AC30 -> 0 | AD29: =VLOOKUP(C29,Tarif!D:E,2,FALSE) -> 35000 | AE29: =+AD29*AC29 -> 0 | AG29: =AB29+AE29 -> 0 | AH29: =VLOOKUP(C29,Tarif!G:H,2,FALSE)*AG29 -> 0 | AI29: =AG29-AH29 -> 0 | AK29: IPORT
N30: 7 | X30: =+W29 -> 7 | Y30: X | Z30: =Z29*2 -> 48000 | AA30: = | AB30: =X30*Z30 -> 336000 | AC30: =COUNTIFS(F29:G29,">=2")+COUNTIFS(M29:N29,">=2")+COUNTIFS(T29:U29,">=2")+COUNTIFS(F30,">=2")+COUNTIFS(K30:L30,">=2")+COUNTIFS(N30,">=2")+COUNTIFS(R30:S30,">=2") -> 1 | AD30: =AD29 -> 35000 | AE30: =+AD30*AC30 -> 35000 | AG30: =AB30+AE30 -> 371000 | AH30: =VLOOKUP(C29,Tarif!G:H,2,FALSE)*AG30 -> 0 | AI30: =AG30-AH30 -> 371000
X31: =SUM(X29:X30) -> 7 | AB31: =SUM(AB29:AB30) -> 336000 | AC31: =SUM(AC29:AC30) -> 1 | AE31: =SUM(AE29:AE30) -> 35000 | AF31: JML | AG31: =SUM(AG29:AG30) -> 371000 | AH31: =SUM(AH29:AH30) -> 0 | AI31: =SUM(AI29:AI30) -> 371000 | AJ31: 9000009546087 | AL31: =VLOOKUP(D29,P3K23!A:F,6,FALSE) -> PPPK P1 | AM31: =VLOOKUP(D29,P3K23!A:F,5,FALSE) -> 9000009546087 | AN31: =AJ31-AM31 -> 0
A32: =1+A29 -> 8 | B32: =VLOOKUP(D32,P3K23!A:E,2,FALSE) -> PANJI PRATAMA, Amd.Rad | C32: =VLOOKUP(D32,P3K23!A:E,3,FALSE) -> II/C | D32: 198706282023211001 | E32: =VLOOKUP(D32,P3K23!A:E,4,FALSE) -> 467461133407000 | V32: =SUM(F32:U32)+SUM(F33:T33)-W32 -> 0 | W32: =SUM(F32:G32,M32:N32,T32:U32,F33,K33:L33,N33,R33:S33) -> 8 | X32: =+V32 -> 0 | Y32: X | Z32: =VLOOKUP(C32,Tarif!A:B,2,FALSE) -> 24000 | AA32: = | AB32: =X32*Z32 -> 0 | AC32: =COUNTIFS(F32:U32,">=2")+COUNTIFS(F33:T33,">=2")-AC33 -> 0 | AD32: =VLOOKUP(C32,Tarif!D:E,2,FALSE) -> 35000 | AE32: =+AD32*AC32 -> 0 | AG32: =AB32+AE32 -> 0 | AH32: =VLOOKUP(C32,Tarif!G:H,2,FALSE)*AG32 -> 0 | AI32: =AG32-AH32 -> 0 | AK32: IPORT
N33: 8 | X33: =+W32 -> 8 | Y33: X | Z33: =Z32*2 -> 48000 | AA33: = | AB33: =X33*Z33 -> 384000 | AC33: =COUNTIFS(F32:G32,">=2")+COUNTIFS(M32:N32,">=2")+COUNTIFS(T32:U32,">=2")+COUNTIFS(F33,">=2")+COUNTIFS(K33:L33,">=2")+COUNTIFS(N33,">=2")+COUNTIFS(R33:S33,">=2") -> 1 | AD33: =AD32 -> 35000 | AE33: =+AD33*AC33 -> 35000 | AG33: =AB33+AE33 -> 419000 | AH33: =VLOOKUP(C32,Tarif!G:H,2,FALSE)*AG33 -> 0 | AI33: =AG33-AH33 -> 419000
X34: =SUM(X32:X33) -> 8 | AB34: =SUM(AB32:AB33) -> 384000 | AC34: =SUM(AC32:AC33) -> 1 | AE34: =SUM(AE32:AE33) -> 35000 | AF34: JML | AG34: =SUM(AG32:AG33) -> 419000 | AH34: =SUM(AH32:AH33) -> 0 | AI34: =SUM(AI32:AI33) -> 419000 | AJ34: 1220005801686 | AL34: =VLOOKUP(D32,P3K23!A:F,6,FALSE) -> PPPK P1 | AM34: =VLOOKUP(D32,P3K23!A:F,5,FALSE) -> 1220005801686 | AN34: =AJ34-AM34 -> 0
A35: =1+A32 -> 9 | B35: =VLOOKUP(D35,P3K23!A:E,2,FALSE) -> ALI ROZIQIN, A.Md.Rad | C35: =VLOOKUP(D35,P3K23!A:E,3,FALSE) -> II/C | D35: 198208132023211001 | E35: =VLOOKUP(D35,P3K23!A:E,4,FALSE) -> 672063419013000 | O35: 3 | V35: =SUM(F35:U35)+SUM(F36:T36)-W35 -> 3 | W35: =SUM(F35:G35,M35:N35,T35:U35,F36,K36:L36,N36,R36:S36) -> 7 | X35: =+V35 -> 3 | Y35: X | Z35: =VLOOKUP(C35,Tarif!A:B,2,FALSE) -> 24000 | AA35: = | AB35: =X35*Z35 -> 72000 | AC35: =COUNTIFS(F35:U35,">=2")+COUNTIFS(F36:T36,">=2")-AC36 -> 1 | AD35: =VLOOKUP(C35,Tarif!D:E,2,FALSE) -> 35000 | AE35: =+AD35*AC35 -> 35000 | AG35: =AB35+AE35 -> 107000 | AH35: =VLOOKUP(C35,Tarif!G:H,2,FALSE)*AG35 -> 0 | AI35: =AG35-AH35 -> 107000 | AK35: IPORT
N36: 7 | X36: =+W35 -> 7 | Y36: X | Z36: =Z35*2 -> 48000 | AA36: = | AB36: =X36*Z36 -> 336000 | AC36: =COUNTIFS(F35:G35,">=2")+COUNTIFS(M35:N35,">=2")+COUNTIFS(T35:U35,">=2")+COUNTIFS(F36,">=2")+COUNTIFS(K36:L36,">=2")+COUNTIFS(N36,">=2")+COUNTIFS(R36:S36,">=2") -> 1 | AD36: =AD35 -> 35000 | AE36: =+AD36*AC36 -> 35000 | AG36: =AB36+AE36 -> 371000 | AH36: =VLOOKUP(C35,Tarif!G:H,2,FALSE)*AG36 -> 0 | AI36: =AG36-AH36 -> 371000
X37: =SUM(X35:X36) -> 10 | AB37: =SUM(AB35:AB36) -> 408000 | AC37: =SUM(AC35:AC36) -> 2 | AE37: =SUM(AE35:AE36) -> 70000 | AF37: JML | AG37: =SUM(AG35:AG36) -> 478000 | AH37: =SUM(AH35:AH36) -> 0 | AI37: =SUM(AI35:AI36) -> 478000 | AJ37: 1220004570472 | AL37: =VLOOKUP(D35,P3K23!A:F,6,FALSE) -> PPPK P1 | AM37: =VLOOKUP(D35,P3K23!A:F,5,FALSE) -> 1220004570472 | AN37: =AJ37-AM37 -> 0
A38: =1+A35 -> 10 | B38: =VLOOKUP(D38,P3K23!A:E,2,FALSE) -> PRABU WIJAYA, AMK | C38: =VLOOKUP(D38,P3K23!A:E,3,FALSE) -> II/C | D38: 198711072023211001 | E38: =VLOOKUP(D38,P3K23!A:E,4,FALSE) -> 466897667435000 | S38: 3 | V38: =SUM(F38:U38)+SUM(F39:T39)-W38 -> 3 | W38: =SUM(F38:G38,M38:N38,T38:U38,F39,K39:L39,N39,R39:S39) -> 4 | X38: =+V38 -> 3 | Y38: X | Z38: =VLOOKUP(C38,Tarif!A:B,2,FALSE) -> 24000 | AA38: = | AB38: =X38*Z38 -> 72000 | AC38: =COUNTIFS(F38:U38,">=2")+COUNTIFS(F39:T39,">=2")-AC39 -> 1 | AD38: =VLOOKUP(C38,Tarif!D:E,2,FALSE) -> 35000 | AE38: =+AD38*AC38 -> 35000 | AG38: =AB38+AE38 -> 107000 | AH38: =VLOOKUP(C38,Tarif!G:H,2,FALSE)*AG38 -> 0 | AI38: =AG38-AH38 -> 107000 | AK38: IPORT
F39: 4 | X39: =+W38 -> 4 | Y39: X | Z39: =Z38*2 -> 48000 | AA39: = | AB39: =X39*Z39 -> 192000 | AC39: =COUNTIFS(F38:G38,">=2")+COUNTIFS(M38:N38,">=2")+COUNTIFS(T38:U38,">=2")+COUNTIFS(F39,">=2")+COUNTIFS(K39:L39,">=2")+COUNTIFS(N39,">=2")+COUNTIFS(R39:S39,">=2") -> 1 | AD39: =AD38 -> 35000 | AE39: =+AD39*AC39 -> 35000 | AG39: =AB39+AE39 -> 227000 | AH39: =VLOOKUP(C38,Tarif!G:H,2,FALSE)*AG39 -> 0 | AI39: =AG39-AH39 -> 227000
X40: =SUM(X38:X39) -> 7 | AB40: =SUM(AB38:AB39) -> 264000 | AC40: =SUM(AC38:AC39) -> 2 | AE40: =SUM(AE38:AE39) -> 70000 | AF40: JML | AG40: =SUM(AG38:AG39) -> 334000 | AH40: =SUM(AH38:AH39) -> 0 | AI40: =SUM(AI38:AI39) -> 334000 | AJ40: 1220006015906 | AL40: =VLOOKUP(D38,P3K23!A:F,6,FALSE) -> PPPK P1 | AM40: =VLOOKUP(D38,P3K23!A:F,5,FALSE) -> 1220006015906 | AN40: =AJ40-AM40 -> 0
A42: T O T A L | AG42: =SUMIFS(AG:AG,$AF:$AF,$AF$16,AG:AG,">0") -> #REF! | AH42: =SUMIFS(AH:AH,$AF:$AF,$AF$16,AH:AH,">0") -> #REF! | AI42: =SUMIFS(AI:AI,$AF:$AF,$AF$16,AI:AI,">0") -> #REF!
AG45: Mengetahui,
...

Sheet Rekap PPPK2024
A1: DIREKTORAT JENDERAL PELAYANAN KESEHATAN
A2: RUMAH SAKIT UMUM PUSAT NASIONAL DR. CIPTO MANGUNKUSUMO
A3: DAFTAR PERHITUNGAN UANG LEMBUR (INSTALASI PELAYANAN ONKOLOGI RADIASI TERPADU) - PEGAWAI PPPK 2024 RSCM
A4: BULAN JUNI 2026
A6: NO | B6: NAMA | C6: GOL | D6: NIP | E6: NPWP | F6: JUMLAH JAM LEMBUR TANGGAL | V6: JUMLAH JAM | X6: PERHITUNGAN UANG LEMBUR DAN UANG MAKAN | AF6: SUM | AG6: JUMLAH KOTOR (Rp) | AH6: PPH | AI6: JUMLAH BERSIH (Rp) | AJ6: NOMOR REKENING | AK6: UNIT KERJA | AL6: DAFTAR GAJI | AM6: NOREK-GAJI | AN6: CEK
F7: 1 | G7: 2 | H7: 3 | I7: 4 | J7: 5 | K7: 6 | L7: 7 | M7: 8 | N7: 9 | O7: 10 | P7: 11 | Q7: 12 | R7: 13 | S7: 14 | T7: 15 | U7: 16 | V7: HARI KERJA (Jam) | W7: HARI LIBUR (Jam) | X7: UANG LEMBUR | AA7: JUMLAH UANG LEMBUR | AC7: UANG MAKAN | AE7: JUMLAH UANG MAKAN
F8: 17 | G8: 18 | H8: 19 | I8: 20 | J8: 21 | K8: 22 | L8: 23 | M8: 24 | N8: 25 | O8: 26 | P8: 27 | Q8: 28 | R8: 29 | S8: 30 | T8: 31
A10: 1 | B10: 2 | C10: 3 | D10: 4 | E10: 5 | F10: 6 | V10: 7 | W10: 8 | X10: 9 | AC10: 10 | AG10: 11 | AH10: 12 | AI10: 13 | AJ10: 14 | AK10: 15 | AL10: 16
A11: 1 | B11: =VLOOKUP(D11,P3K24!A:E,2,FALSE) -> ARI YULI KRISTIAWAN | C11: =VLOOKUP(D11,P3K24!A:E,3,FALSE) -> III/A | D11: 199307132024211015 | E11: =VLOOKUP(D11,P3K24!A:E,4,FALSE) -> 753974005017000 | V11: =SUM(F11:U11)+SUM(F12:T12)-W11 -> 0 | W11: =SUM(F11:G11,M11:N11,T11:U11,F12,K12:L12,N12,R12:S12) -> 7.5 | X11: =+V11 -> 0 | Y11: X | Z11: =VLOOKUP(C11,Tarif!A:B,2,FALSE) -> 30000 | AA11: = | AB11: =X11*Z11 -> 0 | AC11: =COUNTIFS(F11:U11,">=2")+COUNTIFS(F12:T12,">=2")-AC12 -> 0 | AD11: =VLOOKUP(C11,Tarif!D:E,2,FALSE) -> 37000 | AE11: =+AD11*AC11 -> 0 | AG11: =AB11+AE11 -> 0 | AH11: =VLOOKUP(C11,Tarif!G:H,2,FALSE)*AG11 -> 0 | AI11: =AG11-AH11 -> 0 | AK11: IPORT
N12: 7.5 | X12: =+W11 -> 7.5 | Y12: X | Z12: =Z11*2 -> 60000 | AA12: = | AB12: =X12*Z12 -> 450000 | AC12: =COUNTIFS(F11:G11,">=2")+COUNTIFS(M11:N11,">=2")+COUNTIFS(T11:U11,">=2")+COUNTIFS(F12,">=2")+COUNTIFS(K12:L12,">=2")+COUNTIFS(N12,">=2")+COUNTIFS(R12:S12,">=2") -> 1 | AD12: =AD11 -> 37000 | AE12: =+AD12*AC12 -> 37000 | AG12: =AB12+AE12 -> 487000 | AH12: =VLOOKUP(C11,Tarif!G:H,2,FALSE)*AG12 -> 24350 | AI12: =AG12-AH12 -> 462650
X13: =SUM(X11:X12) -> 7.5 | AB13: =SUM(AB11:AB12) -> 450000 | AC13: =SUM(AC11:AC12) -> 1 | AE13: =SUM(AE11:AE12) -> 37000 | AF13: JML | AG13: =SUM(AG11:AG12) -> 487000 | AH13: =SUM(AH11:AH12) -> 24350 | AI13: =SUM(AI11:AI12) -> 462650 | AJ13: 1220007142113 | AL13: =VLOOKUP(D11,P3K24!A:F,6,FALSE) -> PPPK 2024 | AM13: =VLOOKUP(D11,P3K24!A:F,5,FALSE) -> 1220007142113 | AN13: =AJ13-AM13 -> 0
A14: 2 | B14: =VLOOKUP(D14,P3K24!A:E,2,FALSE) -> CICI DIAH CAHYANTI | C14: =VLOOKUP(D14,P3K24!A:E,3,FALSE) -> II/C | D14: 199801132024212019 | E14: =VLOOKUP(D14,P3K24!A:E,4,FALSE) -> 921047304004000 | U14: 4.5 | V14: =SUM(F14:U14)+SUM(F15:T15)-W14 -> 0 | W14: =SUM(F14:G14,M14:N14,T14:U14,F15,K15:L15,N15,R15:S15) -> 18.5 | X14: =+V14 -> 0 | Y14: X | Z14: =VLOOKUP(C14,Tarif!A:B,2,FALSE) -> 24000 | AA14: = | AB14: =X14*Z14 -> 0 | AC14: =COUNTIFS(F14:U14,">=2")+COUNTIFS(F15:T15,">=2")-AC15 -> 0 | AD14: =VLOOKUP(C14,Tarif!D:E,2,FALSE) -> 35000 | AE14: =+AD14*AC14 -> 0 | AG14: =AB14+AE14 -> 0 | AH14: =VLOOKUP(C14,Tarif!G:H,2,FALSE)*AG14 -> 0 | AI14: =AG14-AH14 -> 0 | AK14: IPORT
F15: 6 | N15: 8 | X15: =+W14 -> 18.5 | Y15: X | Z15: =Z14*2 -> 48000 | AA15: = | AB15: =X15*Z15 -> 888000 | AC15: =COUNTIFS(F14:G14,">=2")+COUNTIFS(M14:N14,">=2")+COUNTIFS(T14:U14,">=2")+COUNTIFS(F15,">=2")+COUNTIFS(K15:L15,">=2")+COUNTIFS(N15,">=2")+COUNTIFS(R15:S15,">=2") -> 3 | AD15: =AD14 -> 35000 | AE15: =+AD15*AC15 -> 105000 | AG15: =AB15+AE15 -> 993000 | AH15: =VLOOKUP(C14,Tarif!G:H,2,FALSE)*AG15 -> 0 | AI15: =AG15-AH15 -> 993000
X16: =SUM(X14:X15) -> 18.5 | AB16: =SUM(AB14:AB15) -> 888000 | AC16: =SUM(AC14:AC15) -> 3 | AE16: =SUM(AE14:AE15) -> 105000 | AF16: JML | AG16: =SUM(AG14:AG15) -> 993000 | AH16: =SUM(AH14:AH15) -> 0 | AI16: =SUM(AI14:AI15) -> 993000 | AJ16: 1220012963305 | AL16: =VLOOKUP(D14,P3K24!A:F,6,FALSE) -> PPPK 2024 | AM16: =VLOOKUP(D14,P3K24!A:F,5,FALSE) -> 1220012963305 | AN16: =AJ16-AM16 -> 0
A17: 3 | B17: =VLOOKUP(D17,P3K24!A:E,2,FALSE) -> MUHAMAD ZUHRI ATIQ AL IKHWAN | C17: =VLOOKUP(D17,P3K24!A:E,3,FALSE) -> II/C | D17: 200002142024211007 | E17: =VLOOKUP(D17,P3K24!A:E,4,FALSE) -> 420296329009000 | V17: =SUM(F17:U17)+SUM(F18:T18)-W17 -> 0 | W17: =SUM(F17:G17,M17:N17,T17:U17,F18,K18:L18,N18,R18:S18) -> 8.5 | X17: =+V17 -> 0 | Y17: X | Z17: =VLOOKUP(C17,Tarif!A:B,2,FALSE) -> 24000 | AA17: = | AB17: =X17*Z17 -> 0 | AC17: =COUNTIFS(F17:U17,">=2")+COUNTIFS(F18:T18,">=2")-AC18 -> 0 | AD17: =VLOOKUP(C17,Tarif!D:E,2,FALSE) -> 35000 | AE17: =+AD17*AC17 -> 0 | AG17: =AB17+AE17 -> 0 | AH17: =VLOOKUP(C17,Tarif!G:H,2,FALSE)*AG17 -> 0 | AI17: =AG17-AH17 -> 0 | AK17: IPORT
N18: 8.5 | X18: =+W17 -> 8.5 | Y18: X | Z18: =Z17*2 -> 48000 | AA18: = | AB18: =X18*Z18 -> 408000 | AC18: =COUNTIFS(F17:G17,">=2")+COUNTIFS(M17:N17,">=2")+COUNTIFS(T17:U17,">=2")+COUNTIFS(F18,">=2")+COUNTIFS(K18:L18,">=2")+COUNTIFS(N18,">=2")+COUNTIFS(R18:S18,">=2") -> 1 | AD18: =AD17 -> 35000 | AE18: =+AD18*AC18 -> 35000 | AG18: =AB18+AE18 -> 443000 | AH18: =VLOOKUP(C17,Tarif!G:H,2,FALSE)*AG18 -> 0 | AI18: =AG18-AH18 -> 443000
X19: =SUM(X17:X18) -> 8.5 | AB19: =SUM(AB17:AB18) -> 408000 | AC19: =SUM(AC17:AC18) -> 1 | AE19: =SUM(AE17:AE18) -> 35000 | AF19: JML | AG19: =SUM(AG17:AG18) -> 443000 | AH19: =SUM(AH17:AH18) -> 0 | AI19: =SUM(AI17:AI18) -> 443000 | AJ19: 1220012963289 | AL19: =VLOOKUP(D17,P3K24!A:F,6,FALSE) -> PPPK 2024 | AM19: =VLOOKUP(D17,P3K24!A:F,5,FALSE) -> 1220012963289 | AN19: =AJ19-AM19 -> 0
A20: 4 | B20: =VLOOKUP(D20,P3K24!A:E,2,FALSE) -> ANINDA FITRIANDINI | C20: =VLOOKUP(D20,P3K24!A:E,3,FALSE) -> III/A | D20: 199505042024212053 | E20: =VLOOKUP(D20,P3K24!A:E,4,FALSE) -> 761569334448000 | F20: 7.5 | T20: 10 | V20: =SUM(F20:U20)+SUM(F21:T21)-W20 -> 0 | W20: =SUM(F20:G20,M20:N20,T20:U20,F21,K21:L21,N21,R21:S21) -> 37 | X20: =+V20 -> 0 | Y20: X | Z20: =VLOOKUP(C20,Tarif!A:B,2,FALSE) -> 30000 | AA20: = | AB20: =X20*Z20 -> 0 | AC20: =COUNTIFS(F20:U20,">=2")+COUNTIFS(F21:T21,">=2")-AC21 -> 0 | AD20: =VLOOKUP(C20,Tarif!D:E,2,FALSE) -> 37000 | AE20: =+AD20*AC20 -> 0 | AG20: =AB20+AE20 -> 0 | AH20: =VLOOKUP(C20,Tarif!G:H,2,FALSE)*AG20 -> 0 | AI20: =AG20-AH20 -> 0 | AK20: IPORT
L21: 11 | R21: 8.5 | X21: =+W20 -> 37 | Y21: X | Z21: =Z20*2 -> 60000 | AA21: = | AB21: =X21*Z21 -> 2220000 | AC21: =COUNTIFS(F20:G20,">=2")+COUNTIFS(M20:N20,">=2")+COUNTIFS(T20:U20,">=2")+COUNTIFS(F21,">=2")+COUNTIFS(K21:L21,">=2")+COUNTIFS(N21,">=2")+COUNTIFS(R21:S21,">=2") -> 4 | AD21: =AD20 -> 37000 | AE21: =+AD21*AC21 -> 148000 | AG21: =AB21+AE21 -> 2368000 | AH21: =VLOOKUP(C20,Tarif!G:H,2,FALSE)*AG21 -> 118400 | AI21: =AG21-AH21 -> 2249600
X22: =SUM(X20:X21) -> 37 | AB22: =SUM(AB20:AB21) -> 2220000 | AC22: =SUM(AC20:AC21) -> 4 | AE22: =SUM(AE20:AE21) -> 148000 | AF22: JML | AG22: =SUM(AG20:AG21) -> 2368000 | AH22: =SUM(AH20:AH21) -> 118400 | AI22: =SUM(AI20:AI21) -> 2249600 | AJ22: 1220010098468 | AL22: =VLOOKUP(D20,P3K24!A:F,6,FALSE) -> PPPK 2024 | AM22: =VLOOKUP(D20,P3K24!A:F,5,FALSE) -> 1220010098468 | AN22: =AJ22-AM22 -> 0
A24: T O T A L | AG24: =SUMIFS(AG:AG,$AF:$AF,#REF!,AG:AG,">0") -> #REF! | AH24: =SUMIFS(AH:AH,$AF:$AF,#REF!,AH:AH,">0") -> #REF! | AI24: =SUMIFS(AI:AI,$AF:$AF,#REF!,AI:AI,">0") -> #REF!
AH27: Mengetahui,
AH28: Kepala Instalasi Pelayanan Onkologi Radiasi Terpadu
AH35: Dr. dr. Angela Giselvania, Sp.Onk.Rad(K)
AH36: NIP. 198205252014122003

Sheet Rekap PPPK2025
A1: DIREKTORAT JENDERAL PELAYANAN KESEHATAN
A2: RUMAH SAKIT UMUM PUSAT NASIONAL DR. CIPTO MANGUNKUSUMO
A3: DAFTAR PERHITUNGAN UANG LEMBUR (INSTALASI PELAYANAN ONKOLOGI RADIASI TERPADU) - PEGAWAI PPPK 2025 RSCM
A4: BULAN JUNI 2026
A6: NO | B6: NAMA | C6: GOL | D6: NIP | E6: NPWP | F6: JUMLAH JAM LEMBUR TANGGAL | V6: JUMLAH JAM | X6: PERHITUNGAN UANG LEMBUR DAN UANG MAKAN | AF6: SUM | AG6: JUMLAH KOTOR (Rp) | AH6: PPH | AI6: JUMLAH BERSIH (Rp) | AJ6: NOMOR REKENING | AK6: UNIT KERJA | AL6: DAFTAR GAJI | AM6: NOREK-GAJI | AN6: CEK
F7: 1 | G7: 2 | H7: 3 | I7: 4 | J7: 5 | K7: 6 | L7: 7 | M7: 8 | N7: 9 | O7: 10 | P7: 11 | Q7: 12 | R7: 13 | S7: 14 | T7: 15 | U7: 16 | V7: HARI KERJA (Jam) | W7: HARI LIBUR (Jam) | X7: UANG LEMBUR | AA7: JUMLAH UANG LEMBUR | AC7: UANG MAKAN | AE7: JUMLAH UANG MAKAN
F8: 17 | G8: 18 | H8: 19 | I8: 20 | J8: 21 | K8: 22 | L8: 23 | M8: 24 | N8: 25 | O8: 26 | P8: 27 | Q8: 28 | R8: 29 | S8: 30 | T8: 31
A10: 1 | B10: 2 | C10: 3 | D10: 4 | E10: 5 | F10: 6 | V10: 7 | W10: 8 | X10: 9 | AC10: 10 | AG10: 11 | AH10: 12 | AI10: 13 | AJ10: 14 | AK10: 15 | AL10: 16
A11: 1 | B11: =VLOOKUP(D11,P3K25!A:E,2,FALSE) -> Febriyanti | C11: =VLOOKUP(D11,P3K25!A:E,3,FALSE) -> II/C | D11: 198202112025212037 | E11: =VLOOKUP(D11,P3K25!A:E,4,FALSE) -> 3175055102820009 | V11: =SUM(F11:U11)+SUM(F12:T12)-W11 -> 0 | W11: =SUM(F11:G11,M11:N11,T11:U11,F12,K12:L12,N12,R12:S12) -> 8.5 | X11: =+V11 -> 0 | Y11: X | Z11: =VLOOKUP(C11,Tarif!A:B,2,FALSE) -> 24000 | AA11: = | AB11: =X11*Z11 -> 0 | AC11: =COUNTIFS(F11:U11,">=2")+COUNTIFS(F12:T12,">=2")-AC12 -> 0 | AD11: =VLOOKUP(C11,Tarif!D:E,2,FALSE) -> 35000 | AE11: =+AD11*AC11 -> 0 | AG11: =AB11+AE11 -> 0 | AH11: =VLOOKUP(C11,Tarif!G:H,2,FALSE)*AG11 -> 0 | AI11: =AG11-AH11 -> 0 | AK11: IPORT
N12: 8.5 | X12: =+W11 -> 8.5 | Y12: X | Z12: =Z11*2 -> 48000 | AA12: = | AB12: =X12*Z12 -> 408000 | AC12: =COUNTIFS(F11:G11,">=2")+COUNTIFS(M11:N11,">=2")+COUNTIFS(T11:U11,">=2")+COUNTIFS(F12,">=2")+COUNTIFS(K12:L12,">=2")+COUNTIFS(N12,">=2")+COUNTIFS(R12:S12,">=2") -> 1 | AD12: =AD11 -> 35000 | AE12: =+AD12*AC12 -> 35000 | AG12: =AB12+AE12 -> 443000 | AH12: =VLOOKUP(C11,Tarif!G:H,2,FALSE)*AG12 -> 0 | AI12: =AG12-AH12 -> 443000
X13: =SUM(X11:X12) -> 8.5 | AB13: =SUM(AB11:AB12) -> 408000 | AC13: =SUM(AC11:AC12) -> 1 | AE13: =SUM(AE11:AE12) -> 35000 | AF13: JML | AG13: =SUM(AG11:AG12) -> 443000 | AH13: =SUM(AH11:AH12) -> 0 | AI13: =SUM(AI11:AI12) -> 443000 | AJ13: 1220005981280 | AL13: =VLOOKUP(D11,P3K25!A:F,6,FALSE) -> PPPK P3 | AM13: =VLOOKUP(D11,P3K25!A:F,5,FALSE) -> 1220005981280 | AN13: =AJ13-AM13 -> 0
A14: =1+A11 -> 2 | B14: =VLOOKUP(D14,P3K25!A:E,2,FALSE) -> Awarudin Syaipuloh, A.Md | C14: =VLOOKUP(D14,P3K25!A:E,3,FALSE) -> II/C | D14: 198408072025211043 | E14: =VLOOKUP(D14,P3K25!A:E,4,FALSE) -> 679010884024000 | H14: 3.5 | I14: 3 | V14: =SUM(F14:U14)+SUM(F15:T15)-W14 -> 9.5 | W14: =SUM(F14:G14,M14:N14,T14:U14,F15,K15:L15,N15,R15:S15) -> 0 | X14: =+V14 -> 9.5 | Y14: X | Z14: =VLOOKUP(C14,Tarif!A:B,2,FALSE) -> 24000 | AA14: = | AB14: =X14*Z14 -> 228000 | AC14: =COUNTIFS(F14:U14,">=2")+COUNTIFS(F15:T15,">=2")-AC15 -> 3 | AD14: =VLOOKUP(C14,Tarif!D:E,2,FALSE) -> 35000 | AE14: =+AD14*AC14 -> 105000 | AG14: =AB14+AE14 -> 333000 | AH14: =VLOOKUP(C14,Tarif!G:H,2,FALSE)*AG14 -> 0 | AI14: =AG14-AH14 -> 333000 | AK14: IPORT
T15: 3 | X15: =+W14 -> 0 | Y15: X | Z15: =Z14*2 -> 48000 | AA15: = | AB15: =X15*Z15 -> 0 | AC15: =COUNTIFS(F14:G14,">=2")+COUNTIFS(M14:N14,">=2")+COUNTIFS(T14:U14,">=2")+COUNTIFS(F15,">=2")+COUNTIFS(K15:L15,">=2")+COUNTIFS(N15,">=2")+COUNTIFS(R15:S15,">=2") -> 0 | AD15: =AD14 -> 35000 | AE15: =+AD15*AC15 -> 0 | AG15: =AB15+AE15 -> 0 | AH15: =VLOOKUP(C14,Tarif!G:H,2,FALSE)*AG15 -> 0 | AI15: =AG15-AH15 -> 0
X16: =SUM(X14:X15) -> 9.5 | AB16: =SUM(AB14:AB15) -> 228000 | AC16: =SUM(AC14:AC15) -> 3 | AE16: =SUM(AE14:AE15) -> 105000 | AF16: JML | AG16: =SUM(AG14:AG15) -> 333000 | AH16: =SUM(AH14:AH15) -> 0 | AI16: =SUM(AI14:AI15) -> 333000 | AJ16: 1220004346972 | AL16: =VLOOKUP(D14,P3K25!A:F,6,FALSE) -> PPPK P3 | AM16: =VLOOKUP(D14,P3K25!A:F,5,FALSE) -> 1220004346972 | AN16: =AJ16-AM16 -> 0
A17: =1+A14 -> 3 | B17: =VLOOKUP(D17,P3K25!A:E,2,FALSE) -> #N/A | C17: =VLOOKUP(D17,P3K25!A:E,3,FALSE) -> #N/A | E17: =VLOOKUP(D17,P3K25!A:E,4,FALSE) -> #N/A | V17: =SUM(F17:U17)+SUM(F18:T18)-W17 -> 0 | W17: =SUM(F17:G17,M17:N17,T17:U17,F18,K18:L18,N18,R18:S18) -> 0 | X17: =+V17 -> 0 | Y17: X | Z17: =VLOOKUP(C17,Tarif!A:B,2,FALSE) -> #N/A | AA17: = | AB17: =X17*Z17 -> #N/A | AC17: =COUNTIFS(F17:U17,">=2")+COUNTIFS(F18:T18,">=2")-AC18 -> 0 | AD17: =VLOOKUP(C17,Tarif!D:E,2,FALSE) -> #N/A | AE17: =+AD17*AC17 -> #N/A | AG17: =AB17+AE17 -> #N/A | AH17: =VLOOKUP(C17,Tarif!G:H,2,FALSE)*AG17 -> #N/A | AI17: =AG17-AH17 -> #N/A | AK17: IPORT
X18: =+W17 -> 0 | Y18: X | Z18: =Z17*2 -> #N/A | AA18: = | AB18: =X18*Z18 -> #N/A | AC18: =COUNTIFS(F17:G17,">=2")+COUNTIFS(M17:N17,">=2")+COUNTIFS(T17:U17,">=2")+COUNTIFS(F18,">=2")+COUNTIFS(K18:L18,">=2")+COUNTIFS(N18,">=2")+COUNTIFS(R18:S18,">=2") -> 0 | AD18: =AD17 -> #N/A | AE18: =+AD18*AC18 -> #N/A | AG18: =AB18+AE18 -> #N/A | AH18: =VLOOKUP(C17,Tarif!G:H,2,FALSE)*AG18 -> #N/A | AI18: =AG18-AH18 -> #N/A
X19: =SUM(X17:X18) -> 0 | AB19: =SUM(AB17:AB18) -> #N/A | AC19: =SUM(AC17:AC18) -> 0 | AE19: =SUM(AE17:AE18) -> #N/A | AF19: JML | AG19: =SUM(AG17:AG18) -> #N/A | AH19: =SUM(AH17:AH18) -> #N/A | AI19: =SUM(AI17:AI18) -> #N/A | AJ19: 1220005981280 | AL19: =VLOOKUP(D17,P3K25!A:F,6,FALSE) -> #N/A | AM19: =VLOOKUP(D17,P3K25!A:F,5,FALSE) -> #N/A | AN19: =AJ19-AM19 -> #N/A
A20: =+#REF!+1 -> #REF! | B20: =VLOOKUP(D20,P3K25!A:E,2,FALSE) -> Yun Maulida, SE. | C20: =VLOOKUP(D20,P3K25!A:E,3,FALSE) -> III/A | D20: 198202022025212071 | E20: =VLOOKUP(D20,P3K25!A:E,4,FALSE) -> 799537436412000 | V20: =SUM(F20:U20)+SUM(F21:T21)-W20 -> 0 | W20: =SUM(F20,K20:L20,R20:S20,U20,I21:J21,P21:Q21) -> 0 | X20: =+V20 -> 0 | Y20: X | Z20: =VLOOKUP(C20,Tarif!A:B,2,FALSE) -> 30000 | AA20: = | AB20: =X20*Z20 -> 0 | AC20: =COUNTIFS(F20:U20,">=3")+COUNTIFS(F21:T21,">=3")-AC21 -> 0 | AD20: =VLOOKUP(C20,Tarif!D:E,2,FALSE) -> 37000 | AE20: =+AD20*AC20 -> 0 | AG20: =AB20+AE20 -> 0 | AH20: =VLOOKUP(C20,Tarif!G:H,2,FALSE)*AG20 -> 0 | AI20: =AG20-AH20 -> 0
X21: =+W20 -> 0 | Y21: X | Z21: =Z20*2 -> 60000 | AA21: = | AB21: =X21*Z21 -> 0 | AC21: =COUNTIFS(F20:G20,">=3")+COUNTIFS(M20:N20,">=3")+COUNTIFS(K21:L21,">=3")+COUNTIFS(R21:S21,">=3")+COUNTIFS(T20:U20,">=3") -> 0 | AD21: =AD20 -> 37000 | AE21: =+AD21*AC21 -> 0 | AG21: =AB21+AE21 -> 0 | AH21: =VLOOKUP(C20,Tarif!G:H,2,FALSE)*AG21 -> 0 | AI21: =AG21-AH21 -> 0
X22: =SUM(X20:X21) -> 0 | AB22: =SUM(AB20:AB21) -> 0 | AC22: =SUM(AC20:AC21) -> 0 | AE22: =SUM(AE20:AE21) -> 0 | AF22: JML | AG22: =SUM(AG20:AG21) -> 0 | AH22: =SUM(AH20:AH21) -> 0 | AI22: =SUM(AI20:AI21) -> 0 | AL22: =VLOOKUP(D20,P3K25!A:F,6,FALSE) -> PPPK P3 | AM22: =VLOOKUP(D20,P3K25!A:F,5,FALSE) -> 1220005252799 | AN22: =AJ22-AM22 -> -1220005252799
A23: =+A20+1 -> #REF! | B23: =VLOOKUP(D23,P3K25!A:E,2,FALSE) -> #N/A | C23: =VLOOKUP(D23,P3K25!A:E,3,FALSE) -> #N/A | E23: =VLOOKUP(D23,P3K25!A:E,4,FALSE) -> #N/A | V23: =SUM(F23:U23)+SUM(F24:T24)-W23 -> 0 | W23: =SUM(F23,K23:L23,R23:S23,U23,I24:J24,P24:Q24) -> 0 | X23: =+V23 -> 0 | Y23: X | Z23: =VLOOKUP(C23,Tarif!A:B,2,FALSE) -> #N/A | AA23: = | AB23: =X23*Z23 -> #N/A | AC23: =COUNTIFS(F23:U23,">=3")+COUNTIFS(F24:T24,">=3")-AC24 -> 0 | AD23: =VLOOKUP(C23,Tarif!D:E,2,FALSE) -> #N/A | AE23: =+AD23*AC23 -> #N/A | AG23: =AB23+AE23 -> #N/A | AH23: =VLOOKUP(C23,Tarif!G:H,2,FALSE)*AG23 -> #N/A | AI23: =AG23-AH23 -> #N/A
X24: =+W23 -> 0 | Y24: X | Z24: =Z23*2 -> #N/A | AA24: = | AB24: =X24*Z24 -> #N/A | AC24: =COUNTIFS(F23:G23,">=3")+COUNTIFS(M23:N23,">=3")+COUNTIFS(K24:L24,">=3")+COUNTIFS(R24:S24,">=3")+COUNTIFS(T23:U23,">=3") -> 0 | AD24: =AD23 -> #N/A | AE24: =+AD24*AC24 -> #N/A | AG24: =AB24+AE24 -> #N/A | AH24: =VLOOKUP(C23,Tarif!G:H,2,FALSE)*AG24 -> #N/A | AI24: =AG24-AH24 -> #N/A
X25: =SUM(X23:X24) -> 0 | AB25: =SUM(AB23:AB24) -> #N/A | AC25: =SUM(AC23:AC24) -> 0 | AE25: =SUM(AE23:AE24) -> #N/A | AF25: JML | AG25: =SUM(AG23:AG24) -> #N/A | AH25: =SUM(AH23:AH24) -> #N/A | AI25: =SUM(AI23:AI24) -> #N/A | AL25: =VLOOKUP(D23,P3K25!A:F,6,FALSE) -> #N/A | AM25: =VLOOKUP(D23,P3K25!A:F,5,FALSE) -> #N/A | AN25: =AJ25-AM25 -> #N/A
A26: =+A23+1 -> #REF! | B26: =VLOOKUP(D26,P3K25!A:E,2,FALSE) -> #N/A | C26: =VLOOKUP(D26,P3K25!A:E,3,FALSE) -> #N/A | E26: =VLOOKUP(D26,P3K25!A:E,4,FALSE) -> #N/A | V26: =SUM(F26:U26)+SUM(F27:T27)-W26 -> 0 | W26: =SUM(F26,K26:L26,R26:S26,U26,I27:J27,P27:Q27) -> 0 | X26: =+V26 -> 0 | Y26: X | Z26: =VLOOKUP(C26,Tarif!A:B,2,FALSE) -> #N/A | AA26: = | AB26: =X26*Z26 -> #N/A | AC26: =COUNTIFS(F26:U26,">=3")+COUNTIFS(F27:T27,">=3")-AC27 -> 0 | AD26: =VLOOKUP(C26,Tarif!D:E,2,FALSE) -> #N/A | AE26: =+AD26*AC26 -> #N/A | AG26: =AB26+AE26 -> #N/A | AH26: =VLOOKUP(C26,Tarif!G:H,2,FALSE)*AG26 -> #N/A | AI26: =AG26-AH26 -> #N/A
X27: =+W26 -> 0 | Y27: X | Z27: =Z26*2 -> #N/A | AA27: = | AB27: =X27*Z27 -> #N/A | AC27: =COUNTIFS(F26:G26,">=3")+COUNTIFS(M26:N26,">=3")+COUNTIFS(K27:L27,">=3")+COUNTIFS(R27:S27,">=3")+COUNTIFS(T26:U26,">=3") -> 0 | AD27: =AD26 -> #N/A | AE27: =+AD27*AC27 -> #N/A | AG27: =AB27+AE27 -> #N/A | AH27: =VLOOKUP(C26,Tarif!G:H,2,FALSE)*AG27 -> #N/A | AI27: =AG27-AH27 -> #N/A
X28: =SUM(X26:X27) -> 0 | AB28: =SUM(AB26:AB27) -> #N/A | AC28: =SUM(AC26:AC27) -> 0 | AE28: =SUM(AE26:AE27) -> #N/A | AF28: JML | AG28: =SUM(AG26:AG27) -> #N/A | AH28: =SUM(AH26:AH27) -> #N/A | AI28: =SUM(AI26:AI27) -> #N/A | AL28: =VLOOKUP(D26,P3K25!A:F,6,FALSE) -> #N/A | AM28: =VLOOKUP(D26,P3K25!A:F,5,FALSE) -> #N/A | AN28: =AJ28-AM28 -> #N/A
A29: =+A26+1 -> #REF! | B29: =VLOOKUP(D29,P3K25!A:E,2,FALSE) -> #N/A | C29: =VLOOKUP(D29,P3K25!A:E,3,FALSE) -> #N/A | E29: =VLOOKUP(D29,P3K25!A:E,4,FALSE) -> #N/A | V29: =SUM(F29:U29)+SUM(F30:T30)-W29 -> 0 | W29: =SUM(F29,K29:L29,R29:S29,U29,I30:J30,P30:Q30) -> 0 | X29: =+V29 -> 0 | Y29: X | Z29: =VLOOKUP(C29,Tarif!A:B,2,FALSE) -> #N/A | AA29: = | AB29: =X29*Z29 -> #N/A | AC29: =COUNTIFS(F29:U29,">=3")+COUNTIFS(F30:T30,">=3")-AC30 -> 0 | AD29: =VLOOKUP(C29,Tarif!D:E,2,FALSE) -> #N/A | AE29: =+AD29*AC29 -> #N/A | AG29: =AB29+AE29 -> #N/A | AH29: =VLOOKUP(C29,Tarif!G:H,2,FALSE)*AG29 -> #N/A | AI29: =AG29-AH29 -> #N/A
X30: =+W29 -> 0 | Y30: X | Z30: =Z29*2 -> #N/A | AA30: = | AB30: =X30*Z30 -> #N/A | AC30: =COUNTIFS(F29:G29,">=3")+COUNTIFS(M29:N29,">=3")+COUNTIFS(K30:L30,">=3")+COUNTIFS(R30:S30,">=3")+COUNTIFS(T29:U29,">=3") -> 0 | AD30: =AD29 -> #N/A | AE30: =+AD30*AC30 -> #N/A | AG30: =AB30+AE30 -> #N/A | AH30: =VLOOKUP(C29,Tarif!G:H,2,FALSE)*AG30 -> #N/A | AI30: =AG30-AH30 -> #N/A
X31: =SUM(X29:X30) -> 0 | AB31: =SUM(AB29:AB30) -> #N/A | AC31: =SUM(AC29:AC30) -> 0 | AE31: =SUM(AE29:AE30) -> #N/A | AF31: JML | AG31: =SUM(AG29:AG30) -> #N/A | AH31: =SUM(AH29:AH30) -> #N/A | AI31: =SUM(AI29:AI30) -> #N/A | AL31: =VLOOKUP(D29,P3K25!A:F,6,FALSE) -> #N/A | AM31: =VLOOKUP(D29,P3K25!A:F,5,FALSE) -> #N/A | AN31: =AJ31-AM31 -> #N/A
A32: =+A29+1 -> #REF! | B32: =VLOOKUP(D32,P3K25!A:E,2,FALSE) -> #N/A | C32: =VLOOKUP(D32,P3K25!A:E,3,FALSE) -> #N/A | E32: =VLOOKUP(D32,P3K25!A:E,4,FALSE) -> #N/A | V32: =SUM(F32:U32)+SUM(F33:T33)-W32 -> 0 | W32: =SUM(F32,K32:L32,R32:S32,U32,I33:J33,P33:Q33) -> 0 | X32: =+V32 -> 0 | Y32: X | Z32: =VLOOKUP(C32,Tarif!A:B,2,FALSE) -> #N/A | AA32: = | AB32: =X32*Z32 -> #N/A | AC32: =COUNTIFS(F32:U32,">=3")+COUNTIFS(F33:T33,">=3")-AC33 -> 0 | AD32: =VLOOKUP(C32,Tarif!D:E,2,FALSE) -> #N/A | AE32: =+AD32*AC32 -> #N/A | AG32: =AB32+AE32 -> #N/A | AH32: =VLOOKUP(C32,Tarif!G:H,2,FALSE)*AG32 -> #N/A | AI32: =AG32-AH32 -> #N/A
X33: =+W32 -> 0 | Y33: X | Z33: =Z32*2 -> #N/A | AA33: = | AB33: =X33*Z33 -> #N/A | AC33: =COUNTIFS(F32:G32,">=3")+COUNTIFS(M32:N32,">=3")+COUNTIFS(K33:L33,">=3")+COUNTIFS(R33:S33,">=3")+COUNTIFS(T32:U32,">=3") -> 0 | AD33: =AD32 -> #N/A | AE33: =+AD33*AC33 -> #N/A | AG33: =AB33+AE33 -> #N/A | AH33: =VLOOKUP(C32,Tarif!G:H,2,FALSE)*AG33 -> #N/A | AI33: =AG33-AH33 -> #N/A
X34: =SUM(X32:X33) -> 0 | AB34: =SUM(AB32:AB33) -> #N/A | AC34: =SUM(AC32:AC33) -> 0 | AE34: =SUM(AE32:AE33) -> #N/A | AF34: JML | AG34: =SUM(AG32:AG33) -> #N/A | AH34: =SUM(AH32:AH33) -> #N/A | AI34: =SUM(AI32:AI33) -> #N/A | AL34: =VLOOKUP(D32,P3K25!A:F,6,FALSE) -> #N/A | AM34: =VLOOKUP(D32,P3K25!A:F,5,FALSE) -> #N/A | AN34: =AJ34-AM34 -> #N/A
A35: =+A32+1 -> #REF! | B35: =VLOOKUP(D35,P3K25!A:E,2,FALSE) -> #N/A | C35: =VLOOKUP(D35,P3K25!A:E,3,FALSE) -> #N/A | E35: =VLOOKUP(D35,P3K25!A:E,4,FALSE) -> #N/A | V35: =SUM(F35:U35)+SUM(F36:T36)-W35 -> 0 | W35: =SUM(F35,K35:L35,R35:S35,U35,I36:J36,P36:Q36) -> 0 | X35: =+V35 -> 0 | Y35: X | Z35: =VLOOKUP(C35,Tarif!A:B,2,FALSE) -> #N/A | AA35: = | AB35: =X35*Z35 -> #N/A | AC35: =COUNTIFS(F35:U35,">=3")+COUNTIFS(F36:T36,">=3")-AC36 -> 0 | AD35: =VLOOKUP(C35,Tarif!D:E,2,FALSE) -> #N/A | AE35: =+AD35*AC35 -> #N/A | AG35: =AB35+AE35 -> #N/A | AH35: =VLOOKUP(C35,Tarif!G:H,2,FALSE)*AG35 -> #N/A | AI35: =AG35-AH35 -> #N/A
X36: =+W35 -> 0 | Y36: X | Z36: =Z35*2 -> #N/A | AA36: = | AB36: =X36*Z36 -> #N/A | AC36: =COUNTIFS(F35:G35,">=3")+COUNTIFS(M35:N35,">=3")+COUNTIFS(K36:L36,">=3")+COUNTIFS(R36:S36,">=3")+COUNTIFS(T35:U35,">=3") -> 0 | AD36: =AD35 -> #N/A | AE36: =+AD36*AC36 -> #N/A | AG36: =AB36+AE36 -> #N/A | AH36: =VLOOKUP(C35,Tarif!G:H,2,FALSE)*AG36 -> #N/A | AI36: =AG36-AH36 -> #N/A
X37: =SUM(X35:X36) -> 0 | AB37: =SUM(AB35:AB36) -> #N/A | AC37: =SUM(AC35:AC36) -> 0 | AE37: =SUM(AE35:AE36) -> #N/A | AF37: JML | AG37: =SUM(AG35:AG36) -> #N/A | AH37: =SUM(AH35:AH36) -> #N/A | AI37: =SUM(AI35:AI36) -> #N/A | AL37: =VLOOKUP(D35,P3K25!A:F,6,FALSE) -> #N/A | AM37: =VLOOKUP(D35,P3K25!A:F,5,FALSE) -> #N/A | AN37: =AJ37-AM37 -> #N/A
A38: =+A35+1 -> #REF! | B38: =VLOOKUP(D38,P3K25!A:E,2,FALSE) -> #N/A | C38: =VLOOKUP(D38,P3K25!A:E,3,FALSE) -> #N/A | E38: =VLOOKUP(D38,P3K25!A:E,4,FALSE) -> #N/A | V38: =SUM(F38:U38)+SUM(F39:T39)-W38 -> 0 | W38: =SUM(F38,K38:L38,R38:S38,U38,I39:J39,P39:Q39) -> 0 | X38: =+V38 -> 0 | Y38: X | Z38: =VLOOKUP(C38,Tarif!A:B,2,FALSE) -> #N/A | AA38: = | AB38: =X38*Z38 -> #N/A | AC38: =COUNTIFS(F38:U38,">=3")+COUNTIFS(F39:T39,">=3")-AC39 -> 0 | AD38: =VLOOKUP(C38,Tarif!D:E,2,FALSE) -> #N/A | AE38: =+AD38*AC38 -> #N/A | AG38: =AB38+AE38 -> #N/A | AH38: =VLOOKUP(C38,Tarif!G:H,2,FALSE)*AG38 -> #N/A | AI38: =AG38-AH38 -> #N/A
X39: =+W38 -> 0 | Y39: X | Z39: =Z38*2 -> #N/A | AA39: = | AB39: =X39*Z39 -> #N/A | AC39: =COUNTIFS(F38:G38,">=3")+COUNTIFS(M38:N38,">=3")+COUNTIFS(K39:L39,">=3")+COUNTIFS(R39:S39,">=3")+COUNTIFS(T38:U38,">=3") -> 0 | AD39: =AD38 -> #N/A | AE39: =+AD39*AC39 -> #N/A | AG39: =AB39+AE39 -> #N/A | AH39: =VLOOKUP(C38,Tarif!G:H,2,FALSE)*AG39 -> #N/A | AI39: =AG39-AH39 -> #N/A
X40: =SUM(X38:X39) -> 0 | AB40: =SUM(AB38:AB39) -> #N/A | AC40: =SUM(AC38:AC39) -> 0 | AE40: =SUM(AE38:AE39) -> #N/A | AF40: JML | AG40: =SUM(AG38:AG39) -> #N/A | AH40: =SUM(AH38:AH39) -> #N/A | AI40: =SUM(AI38:AI39) -> #N/A | AL40: =VLOOKUP(D38,P3K25!A:F,6,FALSE) -> #N/A | AM40: =VLOOKUP(D38,P3K25!A:F,5,FALSE) -> #N/A | AN40: =AJ40-AM40 -> #N/A
A41: =+A38+1 -> #REF! | B41: =VLOOKUP(D41,P3K25!A:E,2,FALSE) -> #N/A | C41: =VLOOKUP(D41,P3K25!A:E,3,FALSE) -> #N/A | E41: =VLOOKUP(D41,P3K25!A:E,4,FALSE) -> #N/A | V41: =SUM(F41:U41)+SUM(F42:T42)-W41 -> 0 | W41: =SUM(F41,K41:L41,R41:S41,U41,I42:J42,P42:Q42) -> 0 | X41: =+V41 -> 0 | Y41: X | Z41: =VLOOKUP(C41,Tarif!A:B,2,FALSE) -> #N/A | AA41: = | AB41: =X41*Z41 -> #N/A | AC41: =COUNTIFS(F41:U41,">=3")+COUNTIFS(F42:T42,">=3")-AC42 -> 0 | AD41: =VLOOKUP(C41,Tarif!D:E,2,FALSE) -> #N/A | AE41: =+AD41*AC41 -> #N/A | AG41: =AB41+AE41 -> #N/A | AH41: =VLOOKUP(C41,Tarif!G:H,2,FALSE)*AG41 -> #N/A | AI41: =AG41-AH41 -> #N/A
