Workbook

Sheet PANDUAN
A2: Panduan dalam Mengisi Template Pengajuan Usulan Pembayaran Lembur Pegawai di RSCM | N2: Panduan Khusus dalam Mengisi Template untuk Pegawai dengan Jadwal Kerja Non-Reguler (Shift)
A4: 1 | B4: Pengajuan usulan lembur pegawai ASN dan pegawai BLU RSCM dipisah oleh unit kerjanya | O4: Perbedaannya ada pada perumusan awal penghitungan
A5: 2 | B5: Isi nama unit kerja dan periode pengajuan lembur pada bagian judul | O5: - Jumlah Jam Hari Kerja
B6: Pada dasarnya, hanya mengisi "NIP/NPS", "NPWP", "Jumlah Jam Lembur Tanggal", dan "Nomor Rekening" | O6: - Jumlah Jam Hari Libur
A7: 3 | B7: Isi NIP/NPS | O7: - Uang Makan
B8: - Diketik tanpa spasi | O8: ... dan pengaturan warna hitam & merah pada Jumlah Jam Lembur Tanggal
B9: - Diawali dengan tanda petik (')
B10: - Format: text
A11: 4 | B11: Isi NPWP
A12: 5 | B12: Isi Jumlah Jam Lembur tanggal (harian) | J12: Pembulatan jam lembur | O12: Rumus Jumlah Jam Hari Libur
B13: - Jumlah jam lembur pada hari libur diwarnai merah | J13: - Menit ke-0 s.d. 25 = 0 | O13: Jumlah cell berisikan jam lembur pada hari libur
B14: - Tidak ada batasan maksimal jumlah jam lembur per harinya | J14: - Menit ke-26 s.d. 45 = 0,5 | O14: = SUM(G11:I11) + M11
B15: - Urutan pegawai dengan jadwal kerja reguler dan shift sebaiknya dipisah | J15: - Menit ke-46 s.d. 60 = 1
A16: 6 | B16: Isi Nomor Rekening | O16: Rumus Uang Makan Hari Libur (pada baris kedua)
B17: - Diketik tanpa spasi dan tanpa tanda hubung (hanya angka) | O17: Tambahkan/ganti "SUM" dengan "COUNTIFS", beri tanda "," atau ";", kemudian ketik ">=3" dengan tanda petik dua
B18: - Diawali dengan tanda petik (') | O18: = COUNTIFS(G11:I11,">=3") + COUNTIFS(M11,">=3") | U18: Pilih cell hari libur
B19: - Format: text
B20: - Isi di baris ketiga | O20: HANYA ATUR RUMUS DI HARI LIBUR
A21: 7 | B21: Hapus rows yang kosong agar totalnya terlihat | O21: Rumus di hari kerja tidak perlu diganti
B23: Ketentuan lainnya (hal ini perlu dilakukan jika hasil pengisian data ada yang "#N/A")
A24: 1 | B24: Isi NIP/NPS
A25: 2 | B25: Isi Nama
A26: 3 | B26: Isi Gol/KJ
B27: - Diketik tanpa spasi
B28: - Golongan: huruf kapital semua dan dengan tanda garis miring. Contoh: "III/A", bukan "III-A" ataupun "IIIa" | O28: Selanjutnya, rumus di atas bisa di copy-paste untuk pegawai lainnya dengan jadwal shift yang sama
B29: - KJ: diawali "KJ" dan sesuaikan jumlah digitnya. Contoh: "KJ2" atau "KJ11", bukan "KJ02", "KJ 2", "2", "P 2"
A30: 4 | B30: Isi NPWP
B31: - Diketik tanpa spasi dan tanpa tanda hubung (hanya angka)
B32: - Diawali dengan tanda petik (')
A33: 5 | B33: Isi Jumlah Jam Lembur tanggal (harian)
A34: 6 | B34: Isi Nomor Rekening
O36: Sebelum mengisi bagian kuning,
B37: Pastikan data berikut benar! | H37: Jangan lupa berdoa terlebih dahulu sebelum memulai aktivitas dan bekerja! :) | O37: - Pada Jumlah Jam Lembur Tanggal, atur warna merah
B38: Jangan sampai tertukar dengan milik pegawai lain | O38: - Pada Jumlah Jam Hari Kerja & Hari Libur, serta Uang Makan Hari Kerja & Hari Libur, atur rumusnya
O39: - Setelah itu, baru copy-paste untuk pegawai lainnya dengan jadwal shift (roaster) yang sama
B40: - NIP/NPS
B41: - Nomor Rekening
B43: Mohon crosscheck kebenaran data golongan/kelas jabatan pegawai
B46: Jika ada kendala/pertanyaan/saran, bisa hubungi | H46: Submit softfile rekap lembur dengan subject email dan nama file:
B48: https://wa.me/ | H48: (Unit Kerja)_Lembur ..... 202... | O48: Contoh pewarnaan hari libur pada jadwal shift
H49: subremunerasi@gmail.com

Sheet Rekap ASN
A1: DIREKTORAT JENDERAL PELAYANAN KESEHATAN
A2: RUMAH SAKIT UMUM PUSAT NASIONAL DR. CIPTO MANGUNKUSUMO
A3: DAFTAR PERHITUNGAN UANG LEMBUR (INSTALASI PELAYANAN ONKOLOGI RADIASI TERPADU) - PEGAWAI ASN RSCM
A4: BULAN JULI 2026
A6: NO | B6: NAMA | C6: GOL | D6: NIP | E6: NPWP | F6: JUMLAH JAM LEMBUR TANGGAL | V6: JUMLAH JAM | X6: PERHITUNGAN UANG LEMBUR DAN UANG MAKAN | AF6: SUM | AG6: JUMLAH KOTOR (Rp) | AH6: PPH | AI6: JUMLAH BERSIH (Rp) | AJ6: NOMOR REKENING | AK6: UNIT KERJA | AL6: DAFTAR GAJI | AM6: NOREK-GAJI | AN6: CEK
F7: 1 | G7: 2 | H7: 3 | I7: 4 | J7: 5 | K7: 6 | L7: 7 | M7: 8 | N7: 9 | O7: 10 | P7: 11 | Q7: 12 | R7: 13 | S7: 14 | T7: 15 | U7: 16 | V7: HARI KERJA (Jam) | W7: HARI LIBUR (Jam) | X7: UANG LEMBUR | AA7: JUMLAH UANG LEMBUR | AC7: UANG MAKAN | AE7: JUMLAH UANG MAKAN
F8: 17 | G8: 18 | H8: 19 | I8: 20 | J8: 21 | K8: 22 | L8: 23 | M8: 24 | N8: 25 | O8: 26 | P8: 27 | Q8: 28 | R8: 29 | S8: 30 | T8: 31
A10: 1 | B10: 2 | C10: 3 | D10: 4 | E10: 5 | F10: 6 | V10: 7 | W10: 8 | X10: 9 | AC10: 10 | AG10: 11 | AH10: 12 | AI10: 13 | AJ10: 14 | AK10: 15 | AL10: 16
A11: 1 | B11: =VLOOKUP(D11,NIP!A:F,2,FALSE) -> Akwandi | C11: =VLOOKUP(D11,NIP!A:F,3,FALSE) -> ASN | D11: 196903192008121001 | E11: =VLOOKUP(D11,NIP!A:F,4,FALSE) -> II/D | V11: =SUM(F11:U11)+SUM(F12:T12)-W11 -> 0 | W11: =SUM(F11:G11)+SUM(M11:N11)+SUM(T11:U11)+SUM(K12:L12)+SUM(R12+S12) -> 0 | X11: =+V11 -> 0 | Y11: X | Z11: =VLOOKUP(C11,Tarif!A:B,2,FALSE) -> #N/A | AA11: = | AB11: =X11*Z11 -> #N/A | AC11: =COUNTIFS(F11:U11,">=2")+COUNTIFS(F12:T12,">=2")-AC12 -> 0 | AD11: =VLOOKUP(C11,Tarif!D:E,2,FALSE) -> #N/A | AE11: =+AD11*AC11 -> #N/A | AG11: =AB11+AE11 -> #N/A | AH11: =VLOOKUP(C11,Tarif!G:H,2,FALSE)*AG11 -> #N/A | AI11: =AG11-AH11 -> #N/A
X12: =+W11 -> 0 | Y12: X | Z12: =Z11*2 -> #N/A | AA12: = | AB12: =X12*Z12 -> #N/A | AC12: =COUNTIFS(F11:G11,">=2")+COUNTIFS(M11:N11,">=2")+COUNTIFS(K12:L12,">=2")+COUNTIFS(R12:S12,">=2")+COUNTIFS(T11:U11,">=2") -> 0 | AD12: =AD11 -> #N/A | AE12: =+AD12*AC12 -> #N/A | AG12: =AB12+AE12 -> #N/A | AH12: =VLOOKUP(C11,Tarif!G:H,2,FALSE)*AG12 -> #N/A | AI12: =AG12-AH12 -> #N/A
X13: =SUM(X11:X12) -> 0 | AB13: =SUM(AB11:AB12) -> #N/A | AC13: =SUM(AC11:AC12) -> 0 | AE13: =SUM(AE11:AE12) -> #N/A | AF13: JML | AG13: =SUM(AG11:AG12) -> #N/A | AH13: =SUM(AH11:AH12) -> #N/A | AI13: =SUM(AI11:AI12) -> #N/A | AL13: =VLOOKUP(D11,NIP!A:G,6,FALSE) -> 1220002108440 | AM13: =VLOOKUP(D11,NIP!A:G,5,FALSE) -> 799536867027000 | AN13: =AJ13-AM13 -> -799536867027000
A14: 1 | B14: =VLOOKUP(D14,NIP!A:F,2,FALSE) -> Indriani | C14: =VLOOKUP(D14,NIP!A:F,3,FALSE) -> ASN | D14: 198101262009122001 | E14: =VLOOKUP(D14,NIP!A:F,4,FALSE) -> II/D | F14: 8 | H14: 4 | I14: 3 | V14: =SUM(F14:U14)+SUM(F15:T15)-W14 -> 13 | W14: =SUM(F14:G14,M14:N14,T14:U14,F15,K15:L15,N15,R15:S15) -> 8 | X14: =+V14 -> 13 | Y14: X | Z14: =VLOOKUP(C14,Tarif!A:B,2,FALSE) -> #N/A | AA14: = | AB14: =X14*Z14 -> #N/A | AC14: =COUNTIFS(F14:U14,">=2")+COUNTIFS(F15:T15,">=2")-AC15 -> 4 | AD14: =VLOOKUP(C14,Tarif!D:E,2,FALSE) -> #N/A | AE14: =+AD14*AC14 -> #N/A | AG14: =AB14+AE14 -> #N/A | AH14: =VLOOKUP(C14,Tarif!G:H,2,FALSE)*AG14 -> #N/A | AI14: =AG14-AH14 -> #N/A | AK14: IPORT
O15: 3 | T15: 3 | X15: =+W14 -> 8 | Y15: X | Z15: =Z14*2 -> #N/A | AA15: = | AB15: =X15*Z15 -> #N/A | AC15: =COUNTIFS(F14:G14,">=2")+COUNTIFS(M14:N14,">=2")+COUNTIFS(T14:U14,">=2")+COUNTIFS(F15,">=2")+COUNTIFS(K15:L15,">=2")+COUNTIFS(N15,">=2")+COUNTIFS(R15:S15,">=2") -> 1 | AD15: =AD14 -> #N/A | AE15: =+AD15*AC15 -> #N/A | AG15: =AB15+AE15 -> #N/A | AH15: =VLOOKUP(C14,Tarif!G:H,2,FALSE)*AG15 -> #N/A | AI15: =AG15-AH15 -> #N/A
X16: =SUM(X14:X15) -> 21 | AB16: =SUM(AB14:AB15) -> #N/A | AC16: =SUM(AC14:AC15) -> 5 | AE16: =SUM(AE14:AE15) -> #N/A | AF16: JML | AG16: =SUM(AG14:AG15) -> #N/A | AH16: =SUM(AH14:AH15) -> #N/A | AI16: =SUM(AI14:AI15) -> #N/A | AJ16: 1220004015577 | AL16: =VLOOKUP(D14,NIP!A:G,6,FALSE) -> 1220004015577 | AM16: =VLOOKUP(D14,NIP!A:G,5,FALSE) -> 679010892008000 | AN16: =AJ16-AM16 -> -677790887992423
A17: =1+A14 -> 2 | B17: =VLOOKUP(D17,NIP!A:F,2,FALSE) -> YUDI WINARNO | C17: =VLOOKUP(D17,NIP!A:F,3,FALSE) -> ASN | D17: 197406162009121001 | E17: =VLOOKUP(D17,NIP!A:F,4,FALSE) -> II/D | T17: 6 | V17: =SUM(F17:U17)+SUM(F18:T18)-W17 -> 0 | W17: =SUM(F17:G17,M17:N17,T17:U17,F18,K18:L18,N18,R18:S18) -> 14 | X17: =+V17 -> 0 | Y17: X | Z17: =VLOOKUP(C17,Tarif!A:B,2,FALSE) -> #N/A | AA17: = | AB17: =X17*Z17 -> #N/A | AC17: =COUNTIFS(F17:U17,">=2")+COUNTIFS(F18:T18,">=2")-AC18 -> 0 | AD17: =VLOOKUP(C17,Tarif!D:E,2,FALSE) -> #N/A | AE17: =+AD17*AC17 -> #N/A | AG17: =AB17+AE17 -> #N/A | AH17: =VLOOKUP(C17,Tarif!G:H,2,FALSE)*AG17 -> #N/A | AI17: =AG17-AH17 -> #N/A | AK17: IPORT
N18: 8 | X18: =+W17 -> 14 | Y18: X | Z18: =Z17*2 -> #N/A | AA18: = | AB18: =X18*Z18 -> #N/A | AC18: =COUNTIFS(F17:G17,">=2")+COUNTIFS(M17:N17,">=2")+COUNTIFS(T17:U17,">=2")+COUNTIFS(F18,">=2")+COUNTIFS(K18:L18,">=2")+COUNTIFS(N18,">=2")+COUNTIFS(R18:S18,">=2") -> 2 | AD18: =AD17 -> #N/A | AE18: =+AD18*AC18 -> #N/A | AG18: =AB18+AE18 -> #N/A | AH18: =VLOOKUP(C17,Tarif!G:H,2,FALSE)*AG18 -> #N/A | AI18: =AG18-AH18 -> #N/A
X19: =SUM(X17:X18) -> 14 | AB19: =SUM(AB17:AB18) -> #N/A | AC19: =SUM(AC17:AC18) -> 2 | AE19: =SUM(AE17:AE18) -> #N/A | AF19: JML | AG19: =SUM(AG17:AG18) -> #N/A | AH19: =SUM(AH17:AH18) -> #N/A | AI19: =SUM(AI17:AI18) -> #N/A | AJ19: 1220004347400 | AL19: =VLOOKUP(D17,NIP!A:G,6,FALSE) -> 1220004347400 | AM19: =VLOOKUP(D17,NIP!A:G,5,FALSE) -> 340450246008000 | AN19: =AJ19-AM19 -> -339230241660600
A20: =1+A17 -> 3 | B20: =VLOOKUP(D20,NIP!A:F,2,FALSE) -> #N/A | C20: =VLOOKUP(D20,NIP!A:F,3,FALSE) -> #N/A | E20: =VLOOKUP(D20,NIP!A:F,4,FALSE) -> #N/A | V20: =SUM(F20:U20)+SUM(F21:T21)-W20 -> 0 | W20: =SUM(F20:G20,M20:N20,T20:U20,F21,K21:L21,N21,R21:S21) -> 0 | X20: =+V20 -> 0 | Y20: X | Z20: =VLOOKUP(C20,Tarif!A:B,2,FALSE) -> #N/A | AA20: = | AB20: =X20*Z20 -> #N/A | AC20: =COUNTIFS(F20:U20,">=2")+COUNTIFS(F21:T21,">=2")-AC21 -> 0 | AD20: =VLOOKUP(C20,Tarif!D:E,2,FALSE) -> #N/A | AE20: =+AD20*AC20 -> #N/A | AG20: =AB20+AE20 -> #N/A | AH20: =VLOOKUP(C20,Tarif!G:H,2,FALSE)*AG20 -> #N/A | AI20: =AG20-AH20 -> #N/A | AK20: IPORT
X21: =+W20 -> 0 | Y21: X | Z21: =Z20*2 -> #N/A | AA21: = | AB21: =X21*Z21 -> #N/A | AC21: =COUNTIFS(F20:G20,">=2")+COUNTIFS(M20:N20,">=2")+COUNTIFS(T20:U20,">=2")+COUNTIFS(F21,">=2")+COUNTIFS(K21:L21,">=2")+COUNTIFS(N21,">=2")+COUNTIFS(R21:S21,">=2") -> 0 | AD21: =AD20 -> #N/A | AE21: =+AD21*AC21 -> #N/A | AG21: =AB21+AE21 -> #N/A | AH21: =VLOOKUP(C20,Tarif!G:H,2,FALSE)*AG21 -> #N/A | AI21: =AG21-AH21 -> #N/A
X22: =SUM(X20:X21) -> 0 | AB22: =SUM(AB20:AB21) -> #N/A | AC22: =SUM(AC20:AC21) -> 0 | AE22: =SUM(AE20:AE21) -> #N/A | AF22: JML | AG22: =SUM(AG20:AG21) -> #N/A | AH22: =SUM(AH20:AH21) -> #N/A | AI22: =SUM(AI20:AI21) -> #N/A | AL22: =VLOOKUP(D20,NIP!A:G,6,FALSE) -> #N/A | AM22: =VLOOKUP(D20,NIP!A:G,5,FALSE) -> #N/A | AN22: =AJ22-AM22 -> #N/A
A23: =1+A20 -> 4 | B23: =VLOOKUP(D23,NIP!A:F,2,FALSE) -> #N/A | C23: =VLOOKUP(D23,NIP!A:F,3,FALSE) -> #N/A | E23: =VLOOKUP(D23,NIP!A:F,4,FALSE) -> #N/A | V23: =SUM(F23:U23)+SUM(F24:T24)-W23 -> 0 | W23: =SUM(F23:G23,M23:N23,T23:U23,F24,K24:L24,N24,R24:S24) -> 0 | X23: =+V23 -> 0 | Y23: X | Z23: =VLOOKUP(C23,Tarif!A:B,2,FALSE) -> #N/A | AA23: = | AB23: =X23*Z23 -> #N/A | AC23: =COUNTIFS(F23:U23,">=2")+COUNTIFS(F24:T24,">=2")-AC24 -> 0 | AD23: =VLOOKUP(C23,Tarif!D:E,2,FALSE) -> #N/A | AE23: =+AD23*AC23 -> #N/A | AG23: =AB23+AE23 -> #N/A | AH23: =VLOOKUP(C23,Tarif!G:H,2,FALSE)*AG23 -> #N/A | AI23: =AG23-AH23 -> #N/A | AK23: IPORT
X24: =+W23 -> 0 | Y24: X | Z24: =Z23*2 -> #N/A | AA24: = | AB24: =X24*Z24 -> #N/A | AC24: =COUNTIFS(F23:G23,">=2")+COUNTIFS(M23:N23,">=2")+COUNTIFS(T23:U23,">=2")+COUNTIFS(F24,">=2")+COUNTIFS(K24:L24,">=2")+COUNTIFS(N24,">=2")+COUNTIFS(R24:S24,">=2") -> 0 | AD24: =AD23 -> #N/A | AE24: =+AD24*AC24 -> #N/A | AG24: =AB24+AE24 -> #N/A | AH24: =VLOOKUP(C23,Tarif!G:H,2,FALSE)*AG24 -> #N/A | AI24: =AG24-AH24 -> #N/A
X25: =SUM(X23:X24) -> 0 | AB25: =SUM(AB23:AB24) -> #N/A | AC25: =SUM(AC23:AC24) -> 0 | AE25: =SUM(AE23:AE24) -> #N/A | AF25: JML | AG25: =SUM(AG23:AG24) -> #N/A | AH25: =SUM(AH23:AH24) -> #N/A | AI25: =SUM(AI23:AI24) -> #N/A | AL25: =VLOOKUP(D23,NIP!A:G,6,FALSE) -> #N/A | AM25: =VLOOKUP(D23,NIP!A:G,5,FALSE) -> #N/A | AN25: =AJ25-AM25 -> #N/A
A26: 3 | B26: =VLOOKUP(D26,NIP!A:F,2,FALSE) -> Antriyanus Daeli, Ns.S.Kep | C26: =VLOOKUP(D26,NIP!A:F,3,FALSE) -> ASN | D26: 199605172025061004 | E26: =VLOOKUP(D26,NIP!A:F,4,FALSE) -> III/B | U26: 3.5 | V26: =SUM(F26:U26)+SUM(F27:T27)-W26 -> 0 | W26: =SUM(F26:G26,M26:N26,T26:U26,F27,K27:L27,N27,R27:S27) -> 18 | X26: =+V26 -> 0 | Y26: X | Z26: =VLOOKUP(C26,Tarif!A:B,2,FALSE) -> #N/A | AA26: = | AB26: =X26*Z26 -> #N/A | AC26: =COUNTIFS(F26:U26,">=2")+COUNTIFS(F27:T27,">=2")-AC27 -> 0 | AD26: =VLOOKUP(C26,Tarif!D:E,2,FALSE) -> #N/A | AE26: =+AD26*AC26 -> #N/A | AG26: =AB26+AE26 -> #N/A | AH26: =VLOOKUP(C26,Tarif!G:H,2,FALSE)*AG26 -> #N/A | AI26: =AG26-AH26 -> #N/A | AK26: IPORT
F27: 5 | N27: 9.5 | X27: =+W26 -> 18 | Y27: X | Z27: =Z26*2 -> #N/A | AA27: = | AB27: =X27*Z27 -> #N/A | AC27: =COUNTIFS(F26:G26,">=2")+COUNTIFS(M26:N26,">=2")+COUNTIFS(T26:U26,">=2")+COUNTIFS(F27,">=2")+COUNTIFS(K27:L27,">=2")+COUNTIFS(N27,">=2")+COUNTIFS(R27:S27,">=2") -> 3 | AD27: =AD26 -> #N/A | AE27: =+AD27*AC27 -> #N/A | AG27: =AB27+AE27 -> #N/A | AH27: =VLOOKUP(C26,Tarif!G:H,2,FALSE)*AG27 -> #N/A | AI27: =AG27-AH27 -> #N/A
X28: =SUM(X26:X27) -> 18 | AB28: =SUM(AB26:AB27) -> #N/A | AC28: =SUM(AC26:AC27) -> 3 | AE28: =SUM(AE26:AE27) -> #N/A | AF28: JML | AG28: =SUM(AG26:AG27) -> #N/A | AH28: =SUM(AH26:AH27) -> #N/A | AI28: =SUM(AI26:AI27) -> #N/A | AJ28: 1760003359948 | AL28: =VLOOKUP(D26,NIP!A:G,6,FALSE) -> 1760003359948 | AM28: =VLOOKUP(D26,NIP!A:G,5,FALSE) -> 0 | AN28: =AJ28-AM28 -> 1760003359948
A29: =1+A26 -> 4 | B29: =VLOOKUP(D29,NIP!A:F,2,FALSE) -> #N/A | C29: =VLOOKUP(D29,NIP!A:F,3,FALSE) -> #N/A | E29: =VLOOKUP(D29,NIP!A:F,4,FALSE) -> #N/A | V29: =SUM(F29:U29)+SUM(F30:T30)-W29 -> 0 | W29: =SUM(F29:G29,M29:N29,T29:U29,F30,K30:L30,N30,R30:S30) -> 0 | X29: =+V29 -> 0 | Y29: X | Z29: =VLOOKUP(C29,Tarif!A:B,2,FALSE) -> #N/A | AA29: = | AB29: =X29*Z29 -> #N/A | AC29: =COUNTIFS(F29:U29,">=2")+COUNTIFS(F30:T30,">=2")-AC30 -> 0 | AD29: =VLOOKUP(C29,Tarif!D:E,2,FALSE) -> #N/A | AE29: =+AD29*AC29 -> #N/A | AG29: =AB29+AE29 -> #N/A | AH29: =VLOOKUP(C29,Tarif!G:H,2,FALSE)*AG29 -> #N/A | AI29: =AG29-AH29 -> #N/A | AK29: IPORT
X30: =+W29 -> 0 | Y30: X | Z30: =Z29*2 -> #N/A | AA30: = | AB30: =X30*Z30 -> #N/A | AC30: =COUNTIFS(F29:G29,">=2")+COUNTIFS(M29:N29,">=2")+COUNTIFS(T29:U29,">=2")+COUNTIFS(F30,">=2")+COUNTIFS(K30:L30,">=2")+COUNTIFS(N30,">=2")+COUNTIFS(R30:S30,">=2") -> 0 | AD30: =AD29 -> #N/A | AE30: =+AD30*AC30 -> #N/A | AG30: =AB30+AE30 -> #N/A | AH30: =VLOOKUP(C29,Tarif!G:H,2,FALSE)*AG30 -> #N/A | AI30: =AG30-AH30 -> #N/A
X31: =SUM(X29:X30) -> 0 | AB31: =SUM(AB29:AB30) -> #N/A | AC31: =SUM(AC29:AC30) -> 0 | AE31: =SUM(AE29:AE30) -> #N/A | AF31: JML | AG31: =SUM(AG29:AG30) -> #N/A | AH31: =SUM(AH29:AH30) -> #N/A | AI31: =SUM(AI29:AI30) -> #N/A | AL31: =VLOOKUP(D29,NIP!A:G,6,FALSE) -> #N/A | AM31: =VLOOKUP(D29,NIP!A:G,5,FALSE) -> #N/A | AN31: =AJ31-AM31 -> #N/A
A32: 4 | B32: =VLOOKUP(D32,NIP!A:F,2,FALSE) -> MUHAMMAD ARI HIJRAH S. | C32: =VLOOKUP(D32,NIP!A:F,3,FALSE) -> ASN | D32: 198408192010121002 | E32: =VLOOKUP(D32,NIP!A:F,4,FALSE) -> III/A | U32: 6 | V32: =SUM(F32:U32)+SUM(F33:T33)-W32 -> 0 | W32: =SUM(F32:G32,M32:N32,T32:U32,F33,K33:L33,N33,R33:S33) -> 10.5 | X32: =+V32 -> 0 | Y32: X | Z32: =VLOOKUP(C32,Tarif!A:B,2,FALSE) -> #N/A | AA32: = | AB32: =X32*Z32 -> #N/A | AC32: =COUNTIFS(F32:U32,">=2")+COUNTIFS(F33:T33,">=2")-AC33 -> 0 | AD32: =VLOOKUP(C32,Tarif!D:E,2,FALSE) -> #N/A | AE32: =+AD32*AC32 -> #N/A | AG32: =AB32+AE32 -> #N/A | AH32: =VLOOKUP(C32,Tarif!G:H,2,FALSE)*AG32 -> #N/A | AI32: =AG32-AH32 -> #N/A | AK32: IPORT
F33: 4.5 | X33: =+W32 -> 10.5 | Y33: X | Z33: =Z32*2 -> #N/A | AA33: = | AB33: =X33*Z33 -> #N/A | AC33: =COUNTIFS(F32:G32,">=2")+COUNTIFS(M32:N32,">=2")+COUNTIFS(T32:U32,">=2")+COUNTIFS(F33,">=2")+COUNTIFS(K33:L33,">=2")+COUNTIFS(N33,">=2")+COUNTIFS(R33:S33,">=2") -> 2 | AD33: =AD32 -> #N/A | AE33: =+AD33*AC33 -> #N/A | AG33: =AB33+AE33 -> #N/A | AH33: =VLOOKUP(C32,Tarif!G:H,2,FALSE)*AG33 -> #N/A | AI33: =AG33-AH33 -> #N/A
X34: =SUM(X32:X33) -> 10.5 | AB34: =SUM(AB32:AB33) -> #N/A | AC34: =SUM(AC32:AC33) -> 2 | AE34: =SUM(AE32:AE33) -> #N/A | AF34: JML | AG34: =SUM(AG32:AG33) -> #N/A | AH34: =SUM(AH32:AH33) -> #N/A | AI34: =SUM(AI32:AI33) -> #N/A | AJ34: 1220004656735 | AL34: =VLOOKUP(D32,NIP!A:G,6,FALSE) -> 1220004656735 | AM34: =VLOOKUP(D32,NIP!A:G,5,FALSE) -> 672063245402000 | AN34: =AJ34-AM34 -> -670843240745265
A35: 5 | B35: =VLOOKUP(D35,NIP!A:F,2,FALSE) -> ABDUROCHIM | C35: =VLOOKUP(D35,NIP!A:F,3,FALSE) -> ASN | D35: 199102082019021001 | E35: =VLOOKUP(D35,NIP!A:F,4,FALSE) -> III/A | O35: 3 | V35: =SUM(F35:U35)+SUM(F36:T36)-W35 -> 3 | W35: =SUM(F35:G35,M35:N35,T35:U35,F36,K36:L36,N36,R36:S36) -> 7 | X35: =+V35 -> 3 | Y35: X | Z35: =VLOOKUP(C35,Tarif!A:B,2,FALSE) -> #N/A | AA35: = | AB35: =X35*Z35 -> #N/A | AC35: =COUNTIFS(F35:U35,">=2")+COUNTIFS(F36:T36,">=2")-AC36 -> 1 | AD35: =VLOOKUP(C35,Tarif!D:E,2,FALSE) -> #N/A | AE35: =+AD35*AC35 -> #N/A | AG35: =AB35+AE35 -> #N/A | AH35: =VLOOKUP(C35,Tarif!G:H,2,FALSE)*AG35 -> #N/A | AI35: =AG35-AH35 -> #N/A | AK35: IPORT
N36: 7 | X36: =+W35 -> 7 | Y36: X | Z36: =Z35*2 -> #N/A | AA36: = | AB36: =X36*Z36 -> #N/A | AC36: =COUNTIFS(F35:G35,">=2")+COUNTIFS(M35:N35,">=2")+COUNTIFS(T35:U35,">=2")+COUNTIFS(F36,">=2")+COUNTIFS(K36:L36,">=2")+COUNTIFS(N36,">=2")+COUNTIFS(R36:S36,">=2") -> 1 | AD36: =AD35 -> #N/A | AE36: =+AD36*AC36 -> #N/A | AG36: =AB36+AE36 -> #N/A | AH36: =VLOOKUP(C35,Tarif!G:H,2,FALSE)*AG36 -> #N/A | AI36: =AG36-AH36 -> #N/A
X37: =SUM(X35:X36) -> 10 | AB37: =SUM(AB35:AB36) -> #N/A | AC37: =SUM(AC35:AC36) -> 2 | AE37: =SUM(AE35:AE36) -> #N/A | AF37: JML | AG37: =SUM(AG35:AG36) -> #N/A | AH37: =SUM(AH35:AH36) -> #N/A | AI37: =SUM(AI35:AI36) -> #N/A | AJ37: 1020006473653 | AL37: =VLOOKUP(D35,NIP!A:G,6,FALSE) -> 1020006473653 | AM37: =VLOOKUP(D35,NIP!A:G,5,FALSE) -> 724902945501000 | AN37: =AJ37-AM37 -> -723882939027347
A38: =1+A35 -> 6 | B38: =VLOOKUP(D38,NIP!A:F,2,FALSE) -> ADE HARYADI HERLAMBANG | C38: =VLOOKUP(D38,NIP!A:F,3,FALSE) -> ASN | D38: 197604242006041007 | E38: =VLOOKUP(D38,NIP!A:F,4,FALSE) -> III/C | O38: 3 | V38: =SUM(F38:U38)+SUM(F39:T39)-W38 -> 3 | W38: =SUM(F38:G38,M38:N38,T38:U38,F39,K39:L39,N39,R39:S39) -> 8 | X38: =+V38 -> 3 | Y38: X | Z38: =VLOOKUP(C38,Tarif!A:B,2,FALSE) -> #N/A | AA38: = | AB38: =X38*Z38 -> #N/A | AC38: =COUNTIFS(F38:U38,">=2")+COUNTIFS(F39:T39,">=2")-AC39 -> 1 | AD38: =VLOOKUP(C38,Tarif!D:E,2,FALSE) -> #N/A | AE38: =+AD38*AC38 -> #N/A | AG38: =AB38+AE38 -> #N/A | AH38: =VLOOKUP(C38,Tarif!G:H,2,FALSE)*AG38 -> #N/A | AI38: =AG38-AH38 -> #N/A | AK38: IPORT
N39: 8 | X39: =+W38 -> 8 | Y39: X | Z39: =Z38*2 -> #N/A | AA39: = | AB39: =X39*Z39 -> #N/A | AC39: =COUNTIFS(F38:G38,">=2")+COUNTIFS(M38:N38,">=2")+COUNTIFS(T38:U38,">=2")+COUNTIFS(F39,">=2")+COUNTIFS(K39:L39,">=2")+COUNTIFS(N39,">=2")+COUNTIFS(R39:S39,">=2") -> 1 | AD39: =AD38 -> #N/A | AE39: =+AD39*AC39 -> #N/A | AG39: =AB39+AE39 -> #N/A | AH39: =VLOOKUP(C38,Tarif!G:H,2,FALSE)*AG39 -> #N/A | AI39: =AG39-AH39 -> #N/A
X40: =SUM(X38:X39) -> 11 | AB40: =SUM(AB38:AB39) -> #N/A | AC40: =SUM(AC38:AC39) -> 2 | AE40: =SUM(AE38:AE39) -> #N/A | AF40: JML | AG40: =SUM(AG38:AG39) -> #N/A | AH40: =SUM(AH38:AH39) -> #N/A | AI40: =SUM(AI38:AI39) -> #N/A | AJ40: 1220004347996 | AL40: =VLOOKUP(D38,NIP!A:G,6,FALSE) -> 1220004347996 | AM40: =VLOOKUP(D38,NIP!A:G,5,FALSE) -> 594286346027000 | AN40: =AJ40-AM40 -> -593066341679004
A41: =1+A38 -> 7 | B41: =VLOOKUP(D41,NIP!A:F,2,FALSE) -> JOKO BAGUS BAWONO,APRO | C41: =VLOOKUP(D41,NIP!A:F,3,FALSE) -> ASN | D41: 197504171998031001 | E41: =VLOOKUP(D41,NIP!A:F,4,FALSE) -> III/D | V41: =SUM(F41:U41)+SUM(F42:T42)-W41 -> 0 | W41: =SUM(F41:G41,M41:N41,T41:U41,F42,K42:L42,N42,R42:S42) -> 7 | X41: =+V41 -> 0 | Y41: X | Z41: =VLOOKUP(C41,Tarif!A:B,2,FALSE) -> #N/A | AA41: = | AB41: =X41*Z41 -> #N/A | AC41: =COUNTIFS(F41:U41,">=2")+COUNTIFS(F42:T42,">=2")-AC42 -> 0 | AD41: =VLOOKUP(C41,Tarif!D:E,2,FALSE) -> #N/A | AE41: =+AD41*AC41 -> #N/A | AG41: =AB41+AE41 -> #N/A | AH41: =VLOOKUP(C41,Tarif!G:H,2,FALSE)*AG41 -> #N/A | AI41: =AG41-AH41 -> #N/A | AK41: IPORT
N42: 7 | X42: =+W41 -> 7 | Y42: X | Z42: =Z41*2 -> #N/A | AA42: = | AB42: =X42*Z42 -> #N/A | AC42: =COUNTIFS(F41:G41,">=2")+COUNTIFS(M41:N41,">=2")+COUNTIFS(T41:U41,">=2")+COUNTIFS(F42,">=2")+COUNTIFS(K42:L42,">=2")+COUNTIFS(N42,">=2")+COUNTIFS(R42:S42,">=2") -> 1 | AD42: =AD41 -> #N/A | AE42: =+AD42*AC42 -> #N/A | AG42: =AB42+AE42 -> #N/A | AH42: =VLOOKUP(C41,Tarif!G:H,2,FALSE)*AG42 -> #N/A | AI42: =AG42-AH42 -> #N/A
X43: =SUM(X41:X42) -> 7 | AB43: =SUM(AB41:AB42) -> #N/A | AC43: =SUM(AC41:AC42) -> 1 | AE43: =SUM(AE41:AE42) -> #N/A | AF43: JML | AG43: =SUM(AG41:AG42) -> #N/A | AH43: =SUM(AH41:AH42) -> #N/A | AI43: =SUM(AI41:AI42) -> #N/A | AJ43: 1220000089667 | AL43: =VLOOKUP(D41,NIP!A:G,6,FALSE) -> 1220000089667 | AM43: =VLOOKUP(D41,NIP!A:G,5,FALSE) -> 594286601064000 | AN43: =AJ43-AM43 -> -593066600974333
A44: =1+A41 -> 8 | B44: =VLOOKUP(D44,NIP!A:F,2,FALSE) -> Maria Desria Gomangani, S.Tr.Kes. | C44: =VLOOKUP(D44,NIP!A:F,3,FALSE) -> ASN | D44: 200012122025062012 | E44: =VLOOKUP(D44,NIP!A:F,4,FALSE) -> III/A | V44: =SUM(F44:U44)+SUM(F45:T45)-W44 -> 0 | W44: =SUM(F44:G44,M44:N44,T44:U44,F45,K45:L45,N45,R45:S45) -> 7.5 | X44: =+V44 -> 0 | Y44: X | Z44: =VLOOKUP(C44,Tarif!A:B,2,FALSE) -> #N/A | AA44: = | AB44: =X44*Z44 -> #N/A | AC44: =COUNTIFS(F44:U44,">=2")+COUNTIFS(F45:T45,">=2")-AC45 -> 0 | AD44: =VLOOKUP(C44,Tarif!D:E,2,FALSE) -> #N/A | AE44: =+AD44*AC44 -> #N/A | AG44: =AB44+AE44 -> #N/A | AH44: =VLOOKUP(C44,Tarif!G:H,2,FALSE)*AG44 -> #N/A | AI44: =AG44-AH44 -> #N/A | AK44: IPORT
N45: 7.5 | X45: =+W44 -> 7.5 | Y45: X | Z45: =Z44*2 -> #N/A | AA45: = | AB45: =X45*Z45 -> #N/A | AC45: =COUNTIFS(F44:G44,">=2")+COUNTIFS(M44:N44,">=2")+COUNTIFS(T44:U44,">=2")+COUNTIFS(F45,">=2")+COUNTIFS(K45:L45,">=2")+COUNTIFS(N45,">=2")+COUNTIFS(R45:S45,">=2") -> 1 | AD45: =AD44 -> #N/A | AE45: =+AD45*AC45 -> #N/A | AG45: =AB45+AE45 -> #N/A | AH45: =VLOOKUP(C44,Tarif!G:H,2,FALSE)*AG45 -> #N/A | AI45: =AG45-AH45 -> #N/A
X46: =SUM(X44:X45) -> 7.5 | AB46: =SUM(AB44:AB45) -> #N/A | AC46: =SUM(AC44:AC45) -> 1 | AE46: =SUM(AE44:AE45) -> #N/A | AF46: JML | AG46: =SUM(AG44:AG45) -> #N/A | AH46: =SUM(AH44:AH45) -> #N/A | AI46: =SUM(AI44:AI45) -> #N/A | AJ46: 1220014141959 | AL46: =VLOOKUP(D44,NIP!A:G,6,FALSE) -> 1220014141959 | AM46: =VLOOKUP(D44,NIP!A:G,5,FALSE) -> 2171025212009002 | AN46: =AJ46-AM46 -> -2.16981e+15
A47: =1+A44 -> 9 | B47: =VLOOKUP(D47,NIP!A:F,2,FALSE) -> RATIH HERYANA | C47: =VLOOKUP(D47,NIP!A:F,3,FALSE) -> ASN | D47: 198709042019022001 | E47: =VLOOKUP(D47,NIP!A:F,4,FALSE) -> II/D | V47: =SUM(F47:U47)+SUM(F48:T48)-W47 -> 0 | W47: =SUM(F47:G47,M47:N47,T47:U47,F48,K48:L48,N48,R48:S48) -> 7.5 | X47: =+V47 -> 0 | Y47: X | Z47: =VLOOKUP(C47,Tarif!A:B,2,FALSE) -> #N/A | AA47: = | AB47: =X47*Z47 -> #N/A | AC47: =COUNTIFS(F47:U47,">=2")+COUNTIFS(F48:T48,">=2")-AC48 -> 0 | AD47: =VLOOKUP(C47,Tarif!D:E,2,FALSE) -> #N/A | AE47: =+AD47*AC47 -> #N/A | AG47: =AB47+AE47 -> #N/A | AH47: =VLOOKUP(C47,Tarif!G:H,2,FALSE)*AG47 -> #N/A | AI47: =AG47-AH47 -> #N/A | AK47: IPORT
N48: 7.5 | X48: =+W47 -> 7.5 | Y48: X | Z48: =Z47*2 -> #N/A | AA48: = | AB48: =X48*Z48 -> #N/A | AC48: =COUNTIFS(F47:G47,">=2")+COUNTIFS(M47:N47,">=2")+COUNTIFS(T47:U47,">=2")+COUNTIFS(F48,">=2")+COUNTIFS(K48:L48,">=2")+COUNTIFS(N48,">=2")+COUNTIFS(R48:S48,">=2") -> 1 | AD48: =AD47 -> #N/A | AE48: =+AD48*AC48 -> #N/A | AG48: =AB48+AE48 -> #N/A | AH48: =VLOOKUP(C47,Tarif!G:H,2,FALSE)*AG48 -> #N/A | AI48: =AG48-AH48 -> #N/A
X49: =SUM(X47:X48) -> 7.5 | AB49: =SUM(AB47:AB48) -> #N/A | AC49: =SUM(AC47:AC48) -> 1 | AE49: =SUM(AE47:AE48) -> #N/A | AF49: JML | AG49: =SUM(AG47:AG48) -> #N/A | AH49: =SUM(AH47:AH48) -> #N/A | AI49: =SUM(AI47:AI48) -> #N/A | AJ49: 1250001366343 | AL49: =VLOOKUP(D47,NIP!A:G,6,FALSE) -> 1250001366343 | AM49: =VLOOKUP(D47,NIP!A:G,5,FALSE) -> 467043097008000 | AN49: =AJ49-AM49 -> -465793095641657
A50: =1+A47 -> 10 | B50: =VLOOKUP(D50,NIP!A:F,2,FALSE) -> Ruth Marcheline Maretina, S.Tr.Kes. | C50: =VLOOKUP(D50,NIP!A:F,3,FALSE) -> ASN | D50: 199903162025062005 | E50: =VLOOKUP(D50,NIP!A:F,4,FALSE) -> III/A | V50: =SUM(F50:U50)+SUM(F51:T51)-W50 -> 0 | W50: =SUM(F50:G50,M50:N50,T50:U50,F51,K51:L51,N51,R51:S51) -> 7.5 | X50: =+V50 -> 0 | Y50: X | Z50: =VLOOKUP(C50,Tarif!A:B,2,FALSE) -> #N/A | AA50: = | AB50: =X50*Z50 -> #N/A | AC50: =COUNTIFS(F50:U50,">=2")+COUNTIFS(F51:T51,">=2")-AC51 -> 0 | AD50: =VLOOKUP(C50,Tarif!D:E,2,FALSE) -> #N/A | AE50: =+AD50*AC50 -> #N/A | AG50: =AB50+AE50 -> #N/A | AH50: =VLOOKUP(C50,Tarif!G:H,2,FALSE)*AG50 -> #N/A | AI50: =AG50-AH50 -> #N/A | AK50: IPORT
N51: 7.5 | X51: =+W50 -> 7.5 | Y51: X | Z51: =Z50*2 -> #N/A | AA51: = | AB51: =X51*Z51 -> #N/A | AC51: =COUNTIFS(F50:G50,">=2")+COUNTIFS(M50:N50,">=2")+COUNTIFS(T50:U50,">=2")+COUNTIFS(F51,">=2")+COUNTIFS(K51:L51,">=2")+COUNTIFS(N51,">=2")+COUNTIFS(R51:S51,">=2") -> 1 | AD51: =AD50 -> #N/A | AE51: =+AD51*AC51 -> #N/A | AG51: =AB51+AE51 -> #N/A | AH51: =VLOOKUP(C50,Tarif!G:H,2,FALSE)*AG51 -> #N/A | AI51: =AG51-AH51 -> #N/A
X52: =SUM(X50:X51) -> 7.5 | AB52: =SUM(AB50:AB51) -> #N/A | AC52: =SUM(AC50:AC51) -> 1 | AE52: =SUM(AE50:AE51) -> #N/A | AF52: JML | AG52: =SUM(AG50:AG51) -> #N/A | AH52: =SUM(AH50:AH51) -> #N/A | AI52: =SUM(AI50:AI51) -> #N/A | AJ52: 1220014135084 | AL52: =VLOOKUP(D50,NIP!A:G,6,FALSE) -> 1220014135084 | AM52: =VLOOKUP(D50,NIP!A:G,5,FALSE) -> 3275095603990006 | AN52: =AJ52-AM52 -> -3.27388e+15
A53: =1+A50 -> 11 | B53: =VLOOKUP(D53,NIP!A:F,2,FALSE) -> Shafrin Eka Aullya, S.Tr.Kes. | C53: =VLOOKUP(D53,NIP!A:F,3,FALSE) -> ASN | D53: 199803232025062017 | E53: =VLOOKUP(D53,NIP!A:F,4,FALSE) -> III/A | V53: =SUM(F53:U53)+SUM(F54:T54)-W53 -> 0 | W53: =SUM(F53:G53,M53:N53,T53:U53,F54,K54:L54,N54,R54:S54) -> 8 | X53: =+V53 -> 0 | Y53: X | Z53: =VLOOKUP(C53,Tarif!A:B,2,FALSE) -> #N/A | AA53: = | AB53: =X53*Z53 -> #N/A | AC53: =COUNTIFS(F53:U53,">=2")+COUNTIFS(F54:T54,">=2")-AC54 -> 0 | AD53: =VLOOKUP(C53,Tarif!D:E,2,FALSE) -> #N/A | AE53: =+AD53*AC53 -> #N/A | AG53: =AB53+AE53 -> #N/A | AH53: =VLOOKUP(C53,Tarif!G:H,2,FALSE)*AG53 -> #N/A | AI53: =AG53-AH53 -> #N/A | AK53: IPORT
N54: 8 | X54: =+W53 -> 8 | Y54: X | Z54: =Z53*2 -> #N/A | AA54: = | AB54: =X54*Z54 -> #N/A | AC54: =COUNTIFS(F53:G53,">=2")+COUNTIFS(M53:N53,">=2")+COUNTIFS(T53:U53,">=2")+COUNTIFS(F54,">=2")+COUNTIFS(K54:L54,">=2")+COUNTIFS(N54,">=2")+COUNTIFS(R54:S54,">=2") -> 1 | AD54: =AD53 -> #N/A | AE54: =+AD54*AC54 -> #N/A | AG54: =AB54+AE54 -> #N/A | AH54: =VLOOKUP(C53,Tarif!G:H,2,FALSE)*AG54 -> #N/A | AI54: =AG54-AH54 -> #N/A
X55: =SUM(X53:X54) -> 8 | AB55: =SUM(AB53:AB54) -> #N/A | AC55: =SUM(AC53:AC54) -> 1 | AE55: =SUM(AE53:AE54) -> #N/A | AF55: JML | AG55: =SUM(AG53:AG54) -> #N/A | AH55: =SUM(AH53:AH54) -> #N/A | AI55: =SUM(AI53:AI54) -> #N/A | AJ55: 1220014135035 | AL55: =VLOOKUP(D53,NIP!A:G,6,FALSE) -> 1220014135035 | AM55: =VLOOKUP(D53,NIP!A:G,5,FALSE) -> 3175046303980003 | AN55: =AJ55-AM55 -> -3.17383e+15
A56: =1+A53 -> 12 | B56: =VLOOKUP(D56,NIP!A:F,2,FALSE) -> Yosephene Theresia Siregar, S.Tr. Kes. | C56: =VLOOKUP(D56,NIP!A:F,3,FALSE) -> ASN | D56: 199804162025062001 | E56: =VLOOKUP(D56,NIP!A:F,4,FALSE) -> III/A | V56: =SUM(F56:U56)+SUM(F57:T57)-W56 -> 0 | W56: =SUM(F56:G56,M56:N56,T56:U56,F57,K57:L57,N57,R57:S57) -> 8.5 | X56: =+V56 -> 0 | Y56: X | Z56: =VLOOKUP(C56,Tarif!A:B,2,FALSE) -> #N/A | AA56: = | AB56: =X56*Z56 -> #N/A | AC56: =COUNTIFS(F56:U56,">=2")+COUNTIFS(F57:T57,">=2")-AC57 -> 0 | AD56: =VLOOKUP(C56,Tarif!D:E,2,FALSE) -> #N/A | AE56: =+AD56*AC56 -> #N/A | AG56: =AB56+AE56 -> #N/A | AH56: =VLOOKUP(C56,Tarif!G:H,2,FALSE)*AG56 -> #N/A | AI56: =AG56-AH56 -> #N/A | AK56: IPORT
N57: 8.5 | X57: =+W56 -> 8.5 | Y57: X | Z57: =Z56*2 -> #N/A | AA57: = | AB57: =X57*Z57 -> #N/A | AC57: =COUNTIFS(F56:G56,">=2")+COUNTIFS(M56:N56,">=2")+COUNTIFS(T56:U56,">=2")+COUNTIFS(F57,">=2")+COUNTIFS(K57:L57,">=2")+COUNTIFS(N57,">=2")+COUNTIFS(R57:S57,">=2") -> 1 | AD57: =AD56 -> #N/A | AE57: =+AD57*AC57 -> #N/A | AG57: =AB57+AE57 -> #N/A | AH57: =VLOOKUP(C56,Tarif!G:H,2,FALSE)*AG57 -> #N/A | AI57: =AG57-AH57 -> #N/A
X58: =SUM(X56:X57) -> 8.5 | AB58: =SUM(AB56:AB57) -> #N/A | AC58: =SUM(AC56:AC57) -> 1 | AE58: =SUM(AE56:AE57) -> #N/A | AF58: JML | AG58: =SUM(AG56:AG57) -> #N/A | AH58: =SUM(AH56:AH57) -> #N/A | AI58: =SUM(AI56:AI57) -> #N/A | AJ58: 1220014135076 | AL58: =VLOOKUP(D56,NIP!A:G,6,FALSE) -> 1220014135076 | AM58: =VLOOKUP(D56,NIP!A:G,5,FALSE) -> 6171055604980010 | AN58: =AJ58-AM58 -> -6.16984e+15
A59: =1+A56 -> 13 | B59: =VLOOKUP(D59,NIP!A:F,2,FALSE) -> YUDHA ARIES PRATAMA, S.ST | C59: =VLOOKUP(D59,NIP!A:F,3,FALSE) -> ASN | D59: 199204062022031003 | E59: =VLOOKUP(D59,NIP!A:F,4,FALSE) -> III/B | V59: =SUM(F59:U59)+SUM(F60:T60)-W59 -> 0 | W59: =SUM(F59:G59,M59:N59,T59:U59,F60,K60:L60,N60,R60:S60) -> 9 | X59: =+V59 -> 0 | Y59: X | Z59: =VLOOKUP(C59,Tarif!A:B,2,FALSE) -> #N/A | AA59: = | AB59: =X59*Z59 -> #N/A | AC59: =COUNTIFS(F59:U59,">=2")+COUNTIFS(F60:T60,">=2")-AC60 -> 0 | AD59: =VLOOKUP(C59,Tarif!D:E,2,FALSE) -> #N/A | AE59: =+AD59*AC59 -> #N/A | AG59: =AB59+AE59 -> #N/A | AH59: =VLOOKUP(C59,Tarif!G:H,2,FALSE)*AG59 -> #N/A | AI59: =AG59-AH59 -> #N/A | AK59: IPORT
F60: 2 | N60: 7 | X60: =+W59 -> 9 | Y60: X | Z60: =Z59*2 -> #N/A | AA60: = | AB60: =X60*Z60 -> #N/A | AC60: =COUNTIFS(F59:G59,">=2")+COUNTIFS(M59:N59,">=2")+COUNTIFS(T59:U59,">=2")+COUNTIFS(F60,">=2")+COUNTIFS(K60:L60,">=2")+COUNTIFS(N60,">=2")+COUNTIFS(R60:S60,">=2") -> 2 | AD60: =AD59 -> #N/A | AE60: =+AD60*AC60 -> #N/A | AG60: =AB60+AE60 -> #N/A | AH60: =VLOOKUP(C59,Tarif!G:H,2,FALSE)*AG60 -> #N/A | AI60: =AG60-AH60 -> #N/A
X61: =SUM(X59:X60) -> 9 | AB61: =SUM(AB59:AB60) -> #N/A | AC61: =SUM(AC59:AC60) -> 2 | AE61: =SUM(AE59:AE60) -> #N/A | AF61: JML | AG61: =SUM(AG59:AG60) -> #N/A | AH61: =SUM(AH59:AH60) -> #N/A | AI61: =SUM(AI59:AI60) -> #N/A | AJ61: 9000034061425 | AL61: =VLOOKUP(D59,NIP!A:G,6,FALSE) -> 9000034061425 | AM61: =VLOOKUP(D59,NIP!A:G,5,FALSE) -> 741497903002000 | AN61: =AJ61-AM61 -> -732497868940575
A62: =1+A59 -> 14 | B62: =VLOOKUP(D62,NIP!A:F,2,FALSE) -> NOVI SUSANTI,S.Tr.Rad | C62: =VLOOKUP(D62,NIP!A:F,3,FALSE) -> ASN | D62: 199311212022032002 | E62: =VLOOKUP(D62,NIP!A:F,4,FALSE) -> III/B | V62: =SUM(F62:U62)+SUM(F63:T63)-W62 -> 0 | W62: =SUM(F62:G62,M62:N62,T62:U62,F63,K63:L63,N63,R63:S63) -> 7.5 | X62: =+V62 -> 0 | Y62: X | Z62: =VLOOKUP(C62,Tarif!A:B,2,FALSE) -> #N/A | AA62: = | AB62: =X62*Z62 -> #N/A | AC62: =COUNTIFS(F62:U62,">=2")+COUNTIFS(F63:T63,">=2")-AC63 -> 0 | AD62: =VLOOKUP(C62,Tarif!D:E,2,FALSE) -> #N/A | AE62: =+AD62*AC62 -> #N/A | AG62: =AB62+AE62 -> #N/A | AH62: =VLOOKUP(C62,Tarif!G:H,2,FALSE)*AG62 -> #N/A | AI62: =AG62-AH62 -> #N/A | AK62: IPORT
N63: 7.5 | X63: =+W62 -> 7.5 | Y63: X | Z63: =Z62*2 -> #N/A | AA63: = | AB63: =X63*Z63 -> #N/A | AC63: =COUNTIFS(F62:G62,">=2")+COUNTIFS(M62:N62,">=2")+COUNTIFS(T62:U62,">=2")+COUNTIFS(F63,">=2")+COUNTIFS(K63:L63,">=2")+COUNTIFS(N63,">=2")+COUNTIFS(R63:S63,">=2") -> 1 | AD63: =AD62 -> #N/A | AE63: =+AD63*AC63 -> #N/A | AG63: =AB63+AE63 -> #N/A | AH63: =VLOOKUP(C62,Tarif!G:H,2,FALSE)*AG63 -> #N/A | AI63: =AG63-AH63 -> #N/A
X64: =SUM(X62:X63) -> 7.5 | AB64: =SUM(AB62:AB63) -> #N/A | AC64: =SUM(AC62:AC63) -> 1 | AE64: =SUM(AE62:AE63) -> #N/A | AF64: JML | AG64: =SUM(AG62:AG63) -> #N/A | AH64: =SUM(AH62:AH63) -> #N/A | AI64: =SUM(AI62:AI63) -> #N/A | AJ64: 1190006670630 | AL64: =VLOOKUP(D62,NIP!A:G,6,FALSE) -> 1190006670630 | AM64: =VLOOKUP(D62,NIP!A:G,5,FALSE) -> 743429037043000 | AN64: =AJ64-AM64 -> -742239030372370
A65: =1+A62 -> 15 | B65: =VLOOKUP(D65,NIP!A:F,2,FALSE) -> Dwi Aprilia Mahfirotin, M.Si | C65: =VLOOKUP(D65,NIP!A:F,3,FALSE) -> ASN | D65: 199604012025062003 | E65: =VLOOKUP(D65,NIP!A:F,4,FALSE) -> III/B | S65: 4 | V65: =SUM(F65:U65)+SUM(F66:T66)-W65 -> 4 | W65: =SUM(F65:G65,M65:N65,T65:U65,F66,K66:L66,N66,R66:S66) -> 15 | X65: =+V65 -> 4 | Y65: X | Z65: =VLOOKUP(C65,Tarif!A:B,2,FALSE) -> #N/A | AA65: = | AB65: =X65*Z65 -> #N/A | AC65: =COUNTIFS(F65:U65,">=2")+COUNTIFS(F66:T66,">=2")-AC66 -> 1 | AD65: =VLOOKUP(C65,Tarif!D:E,2,FALSE) -> #N/A | AE65: =+AD65*AC65 -> #N/A | AG65: =AB65+AE65 -> #N/A | AH65: =VLOOKUP(C65,Tarif!G:H,2,FALSE)*AG65 -> #N/A | AI65: =AG65-AH65 -> #N/A | AK65: IPORT
F66: 4 | N66: 11 | X66: =+W65 -> 15 | Y66: X | Z66: =Z65*2 -> #N/A | AA66: = | AB66: =X66*Z66 -> #N/A | AC66: =COUNTIFS(F65:G65,">=2")+COUNTIFS(M65:N65,">=2")+COUNTIFS(T65:U65,">=2")+COUNTIFS(F66,">=2")+COUNTIFS(K66:L66,">=2")+COUNTIFS(N66,">=2")+COUNTIFS(R66:S66,">=2") -> 2 | AD66: =AD65 -> #N/A | AE66: =+AD66*AC66 -> #N/A | AG66: =AB66+AE66 -> #N/A | AH66: =VLOOKUP(C65,Tarif!G:H,2,FALSE)*AG66 -> #N/A | AI66: =AG66-AH66 -> #N/A
X67: =SUM(X65:X66) -> 19 | AB67: =SUM(AB65:AB66) -> #N/A | AC67: =SUM(AC65:AC66) -> 3 | AE67: =SUM(AE65:AE66) -> #N/A | AF67: JML | AG67: =SUM(AG65:AG66) -> #N/A | AH67: =SUM(AH65:AH66) -> #N/A | AI67: =SUM(AI65:AI66) -> #N/A | AJ67: 1430014310757 | AL67: =VLOOKUP(D65,NIP!A:G,6,FALSE) -> 1430014310757 | AM67: =VLOOKUP(D65,NIP!A:G,5,FALSE) -> 3510214104960002 | AN67: =AJ67-AM67 -> -3.50878e+15
A68: =1+A65 -> 16 | B68: =VLOOKUP(D68,NIP!A:F,2,FALSE) -> Felitha, S.Si. | C68: =VLOOKUP(D68,NIP!A:F,3,FALSE) -> ASN | D68: 200108012025062007 | E68: =VLOOKUP(D68,NIP!A:F,4,FALSE) -> III/A | R68: 2 | S68: 3.5 | V68: =SUM(F68:U68)+SUM(F69:T69)-W68 -> 5.5 | W68: =SUM(F68:G68,M68:N68,T68:U68,F69,K69:L69,N69,R69:S69) -> 0 | X68: =+V68 -> 5.5 | Y68: X | Z68: =VLOOKUP(C68,Tarif!A:B,2,FALSE) -> #N/A | AA68: = | AB68: =X68*Z68 -> #N/A | AC68: =COUNTIFS(F68:U68,">=2")+COUNTIFS(F69:T69,">=2")-AC69 -> 2 | AD68: =VLOOKUP(C68,Tarif!D:E,2,FALSE) -> #N/A | AE68: =+AD68*AC68 -> #N/A | AG68: =AB68+AE68 -> #N/A | AH68: =VLOOKUP(C68,Tarif!G:H,2,FALSE)*AG68 -> #N/A | AI68: =AG68-AH68 -> #N/A | AK68: IPORT
X69: =+W68 -> 0 | Y69: X | Z69: =Z68*2 -> #N/A | AA69: = | AB69: =X69*Z69 -> #N/A | AC69: =COUNTIFS(F68:G68,">=2")+COUNTIFS(M68:N68,">=2")+COUNTIFS(T68:U68,">=2")+COUNTIFS(F69,">=2")+COUNTIFS(K69:L69,">=2")+COUNTIFS(N69,">=2")+COUNTIFS(R69:S69,">=2") -> 0 | AD69: =AD68 -> #N/A | AE69: =+AD69*AC69 -> #N/A | AG69: =AB69+AE69 -> #N/A | AH69: =VLOOKUP(C68,Tarif!G:H,2,FALSE)*AG69 -> #N/A | AI69: =AG69-AH69 -> #N/A
X70: =SUM(X68:X69) -> 5.5 | AB70: =SUM(AB68:AB69) -> #N/A | AC70: =SUM(AC68:AC69) -> 2 | AE70: =SUM(AE68:AE69) -> #N/A | AF70: JML | AG70: =SUM(AG68:AG69) -> #N/A | AH70: =SUM(AH68:AH69) -> #N/A | AI70: =SUM(AI68:AI69) -> #N/A | AJ70: 1220014134103 | AL70: =VLOOKUP(D68,NIP!A:G,6,FALSE) -> 1220014134103 | AM70: =VLOOKUP(D68,NIP!A:G,5,FALSE) -> 3171024108010006 | AN70: =AJ70-AM70 -> -3.1698e+15
A71: =1+A68 -> 17 | B71: =VLOOKUP(D71,NIP!A:F,2,FALSE) -> WAHYU EDY WIBOWO, S.Si | C71: =VLOOKUP(D71,NIP!A:F,3,FALSE) -> ASN | D71: 198606262020121002 | E71: =VLOOKUP(D71,NIP!A:F,4,FALSE) -> III/B | F71: 7.5 | M71: 7 | V71: =SUM(F71:U71)+SUM(F72:T72)-W71 -> 0 | W71: =SUM(F71:G71,M71:N71,T71:U71,F72,K72:L72,N72,R72:S72) -> 28.5 | X71: =+V71 -> 0 | Y71: X | Z71: =VLOOKUP(C71,Tarif!A:B,2,FALSE) -> #N/A | AA71: = | AB71: =X71*Z71 -> #N/A | AC71: =COUNTIFS(F71:U71,">=2")+COUNTIFS(F72:T72,">=2")-AC72 -> 0 | AD71: =VLOOKUP(C71,Tarif!D:E,2,FALSE) -> #N/A | AE71: =+AD71*AC71 -> #N/A | AG71: =AB71+AE71 -> #N/A | AH71: =VLOOKUP(C71,Tarif!G:H,2,FALSE)*AG71 -> #N/A | AI71: =AG71-AH71 -> #N/A | AK71: IPORT
K72: 6.5 | R72: 7.5 | X72: =+W71 -> 28.5 | Y72: X | Z72: =Z71*2 -> #N/A | AA72: = | AB72: =X72*Z72 -> #N/A | AC72: =COUNTIFS(F71:G71,">=2")+COUNTIFS(M71:N71,">=2")+COUNTIFS(T71:U71,">=2")+COUNTIFS(F72,">=2")+COUNTIFS(K72:L72,">=2")+COUNTIFS(N72,">=2")+COUNTIFS(R72:S72,">=2") -> 4 | AD72: =AD71 -> #N/A | AE72: =+AD72*AC72 -> #N/A | AG72: =AB72+AE72 -> #N/A | AH72: =VLOOKUP(C71,Tarif!G:H,2,FALSE)*AG72 -> #N/A | AI72: =AG72-AH72 -> #N/A
X73: =SUM(X71:X72) -> 28.5 | AB73: =SUM(AB71:AB72) -> #N/A | AC73: =SUM(AC71:AC72) -> 4 | AE73: =SUM(AE71:AE72) -> #N/A | AF73: JML | AG73: =SUM(AG71:AG72) -> #N/A | AH73: =SUM(AH71:AH72) -> #N/A | AI73: =SUM(AI71:AI72) -> #N/A | AJ73: 1220005335750 | AL73: =VLOOKUP(D71,NIP!A:G,6,FALSE) -> 1220005335750 | AM73: =VLOOKUP(D71,NIP!A:G,5,FALSE) -> 582108650018000 | AN73: =AJ73-AM73 -> -580888644682250
A74: 15 | B74: =VLOOKUP(D74,NIP!A:F,2,FALSE) -> MISJUHERLINA | C74: =VLOOKUP(D74,NIP!A:F,3,FALSE) -> ASN | D74: 197302241998112001 | E74: =VLOOKUP(D74,NIP!A:F,4,FALSE) -> IV/B | M74: 7.5 | V74: =SUM(F74:U74)+SUM(F75:T75)-W74 -> 0 | W74: =SUM(F74:G74,M74:N74,T74:U74,F75,K75:L75,N75,R75:S75) -> 24.5 | X74: =+V74 -> 0 | Y74: X | Z74: =VLOOKUP(C74,Tarif!A:B,2,FALSE) -> #N/A | AA74: = | AB74: =X74*Z74 -> #N/A | AC74: =COUNTIFS(F74:U74,">=2")+COUNTIFS(F75:T75,">=2")-AC75 -> 0 | AD74: =VLOOKUP(C74,Tarif!D:E,2,FALSE) -> #N/A | AE74: =+AD74*AC74 -> #N/A | AG74: =AB74+AE74 -> #N/A | AH74: =VLOOKUP(C74,Tarif!G:H,2,FALSE)*AG74 -> #N/A | AI74: =AG74-AH74 -> #N/A
K75: 8.5 | R75: 8.5 | X75: =+W74 -> 24.5 | Y75: X | Z75: =Z74*2 -> #N/A | AA75: = | AB75: =X75*Z75 -> #N/A | AC75: =COUNTIFS(F74:G74,">=2")+COUNTIFS(M74:N74,">=2")+COUNTIFS(T74:U74,">=2")+COUNTIFS(F75,">=2")+COUNTIFS(K75:L75,">=2")+COUNTIFS(N75,">=2")+COUNTIFS(R75:S75,">=2") -> 3 | AD75: =AD74 -> #N/A | AE75: =+AD75*AC75 -> #N/A | AG75: =AB75+AE75 -> #N/A | AH75: =VLOOKUP(C74,Tarif!G:H,2,FALSE)*AG75 -> #N/A | AI75: =AG75-AH75 -> #N/A
X76: =SUM(X74:X75) -> 24.5 | AB76: =SUM(AB74:AB75) -> #N/A | AC76: =SUM(AC74:AC75) -> 3 | AE76: =SUM(AE74:AE75) -> #N/A | AF76: JML | AG76: =SUM(AG74:AG75) -> #N/A | AH76: =SUM(AH74:AH75) -> #N/A | AI76: =SUM(AI74:AI75) -> #N/A | AJ76: 1220000054422 | AL76: =VLOOKUP(D74,NIP!A:G,6,FALSE) -> 1220000054422 | AM76: =VLOOKUP(D74,NIP!A:G,5,FALSE) -> 594286411432000 | AN76: =AJ76-AM76 -> -593066411377578
A77: 16 | B77: =VLOOKUP(D77,NIP!A:F,2,FALSE) -> NURUDDIN | C77: =VLOOKUP(D77,NIP!A:F,3,FALSE) -> ASN | D77: 198504102014021001 | E77: =VLOOKUP(D77,NIP!A:F,4,FALSE) -> III/B | F77: 8 | M77: 8 | O77: 4.5 | V77: =SUM(F77:U77)+SUM(F78:T78)-W77 -> 8.5 | W77: =SUM(F77:G77,M77:N77,T77:U77,F78,K78:L78,N78,R78:S78) -> 44 | X77: =+V77 -> 8.5 | Y77: X | Z77: =VLOOKUP(C77,Tarif!A:B,2,FALSE) -> #N/A | AA77: = | AB77: =X77*Z77 -> #N/A | AC77: =COUNTIFS(F77:U77,">=2")+COUNTIFS(F78:T78,">=2")-AC78 -> 2 | AD77: =VLOOKUP(C77,Tarif!D:E,2,FALSE) -> #N/A | AE77: =+AD77*AC77 -> #N/A | AG77: =AB77+AE77 -> #N/A | AH77: =VLOOKUP(C77,Tarif!G:H,2,FALSE)*AG77 -> #N/A | AI77: =AG77-AH77 -> #N/A
K78: 9.5 | N78: 9.5 | P78: 4 | R78: 9 | X78: =+W77 -> 44 | Y78: X | Z78: =Z77*2 -> #N/A | AA78: = | AB78: =X78*Z78 -> #N/A | AC78: =COUNTIFS(F77:G77,">=2")+COUNTIFS(M77:N77,">=2")+COUNTIFS(T77:U77,">=2")+COUNTIFS(F78,">=2")+COUNTIFS(K78:L78,">=2")+COUNTIFS(N78,">=2")+COUNTIFS(R78:S78,">=2") -> 5 | AD78: =AD77 -> #N/A | AE78: =+AD78*AC78 -> #N/A | AG78: =AB78+AE78 -> #N/A | AH78: =VLOOKUP(C77,Tarif!G:H,2,FALSE)*AG78 -> #N/A | AI78: =AG78-AH78 -> #N/A
X79: =SUM(X77:X78) -> 52.5 | AB79: =SUM(AB77:AB78) -> #N/A | AC79: =SUM(AC77:AC78) -> 7 | AE79: =SUM(AE77:AE78) -> #N/A | AF79: JML | AG79: =SUM(AG77:AG78) -> #N/A | AH79: =SUM(AH77:AH78) -> #N/A | AI79: =SUM(AI77:AI78) -> #N/A | AJ79: 1220004656750 | AL79: =VLOOKUP(D77,NIP!A:G,6,FALSE) -> 1220004656750 | AM79: =VLOOKUP(D77,NIP!A:G,5,FALSE) -> 683094817003000 | AN79: =AJ79-AM79 -> -681874812346250
A80: 17 | B80: =VLOOKUP(D80,NIP!A:F,2,FALSE) -> FENIA, S.Si | C80: =VLOOKUP(D80,NIP!A:F,3,FALSE) -> ASN | D80: 199505072020122003 | E80: =VLOOKUP(D80,NIP!A:F,4,FALSE) -> III/B | F80: 7 | M80: 9 | O80: 3 | V80: =SUM(F80:U80)+SUM(F81:T81)-W80 -> 3 | W80: =SUM(F80:G80,M80:N80,T80:U80,F81,K81:L81,N81,R81:S81) -> 34 | X80: =+V80 -> 3 | Y80: X | Z80: =VLOOKUP(C80,Tarif!A:B,2,FALSE) -> #N/A | AA80: = | AB80: =X80*Z80 -> #N/A | AC80: =COUNTIFS(F80:U80,">=2")+COUNTIFS(F81:T81,">=2")-AC81 -> 1 | AD80: =VLOOKUP(C80,Tarif!D:E,2,FALSE) -> #N/A | AE80: =+AD80*AC80 -> #N/A | AG80: =AB80+AE80 -> #N/A | AH80: =VLOOKUP(C80,Tarif!G:H,2,FALSE)*AG80 -> #N/A | AI80: =AG80-AH80 -> #N/A
K81: 9 | R81: 9 | X81: =+W80 -> 34 | Y81: X | Z81: =Z80*2 -> #N/A | AA81: = | AB81: =X81*Z81 -> #N/A | AC81: =COUNTIFS(F80:G80,">=2")+COUNTIFS(M80:N80,">=2")+COUNTIFS(T80:U80,">=2")+COUNTIFS(F81,">=2")+COUNTIFS(K81:L81,">=2")+COUNTIFS(N81,">=2")+COUNTIFS(R81:S81,">=2") -> 4 | AD81: =AD80 -> #N/A | AE81: =+AD81*AC81 -> #N/A | AG81: =AB81+AE81 -> #N/A | AH81: =VLOOKUP(C80,Tarif!G:H,2,FALSE)*AG81 -> #N/A | AI81: =AG81-AH81 -> #N/A
X82: =SUM(X80:X81) -> 37 | AB82: =SUM(AB80:AB81) -> #N/A | AC82: =SUM(AC80:AC81) -> 5 | AE82: =SUM(AE80:AE81) -> #N/A | AF82: JML | AG82: =SUM(AG80:AG81) -> #N/A | AH82: =SUM(AH80:AH81) -> #N/A | AI82: =SUM(AI80:AI81) -> #N/A | AJ82: 1230007975305 | AL82: =VLOOKUP(D80,NIP!A:G,6,FALSE) -> 1230007975305 | AM82: =VLOOKUP(D80,NIP!A:G,5,FALSE) -> 912594108006000 | AN82: =AJ82-AM82 -> -911364100030695
A83: 18 | B83: =VLOOKUP(D83,NIP!A:F,2,FALSE) -> YULIANA MARIANA N.,AMK | C83: =VLOOKUP(D83,NIP!A:F,3,FALSE) -> ASN | D83: 197707051997032001 | E83: =VLOOKUP(D83,NIP!A:F,4,FALSE) -> III/D | V83: =SUM(F83:U83)+SUM(F84:T84)-W83 -> 0 | W83: =SUM(F83:G83,M83:N83,T83:U83,F84,K84:L84,N84,R84:S84) -> 4 | X83: =+V83 -> 0 | Y83: X | Z83: =VLOOKUP(C83,Tarif!A:B,2,FALSE) -> #N/A | AA83: = | AB83: =X83*Z83 -> #N/A | AC83: =COUNTIFS(F83:U83,">=2")+COUNTIFS(F84:T84,">=2")-AC84 -> 0 | AD83: =VLOOKUP(C83,Tarif!D:E,2,FALSE) -> #N/A | AE83: =+AD83*AC83 -> #N/A | AG83: =AB83+AE83 -> #N/A | AH83: =VLOOKUP(C83,Tarif!G:H,2,FALSE)*AG83 -> #N/A | AI83: =AG83-AH83 -> #N/A
F84: 4 | X84: =+W83 -> 4 | Y84: X | Z84: =Z83*2 -> #N/A | AA84: = | AB84: =X84*Z84 -> #N/A | AC84: =COUNTIFS(F83:G83,">=2")+COUNTIFS(M83:N83,">=2")+COUNTIFS(T83:U83,">=2")+COUNTIFS(F84,">=2")+COUNTIFS(K84:L84,">=2")+COUNTIFS(N84,">=2")+COUNTIFS(R84:S84,">=2") -> 1 | AD84: =AD83 -> #N/A | AE84: =+AD84*AC84 -> #N/A | AG84: =AB84+AE84 -> #N/A | AH84: =VLOOKUP(C83,Tarif!G:H,2,FALSE)*AG84 -> #N/A | AI84: =AG84-AH84 -> #N/A
X85: =SUM(X83:X84) -> 4 | AB85: =SUM(AB83:AB84) -> #N/A | AC85: =SUM(AC83:AC84) -> 1 | AE85: =SUM(AE83:AE84) -> #N/A | AF85: JML | AG85: =SUM(AG83:AG84) -> #N/A | AH85: =SUM(AH83:AH84) -> #N/A | AI85: =SUM(AI83:AI84) -> #N/A | AJ85: 1220000095177 | AL85: =VLOOKUP(D83,NIP!A:G,6,FALSE) -> 1220000095177 | AM85: =VLOOKUP(D83,NIP!A:G,5,FALSE) -> 594286577048000 | AN85: =AJ85-AM85 -> -593066576952823
A86: 19 | B86: =VLOOKUP(D86,NIP!A:F,2,FALSE) -> Salami Purnamaningtyas | C86: =VLOOKUP(D86,NIP!A:F,3,FALSE) -> ASN | D86: 198105192008122004 | E86: =VLOOKUP(D86,NIP!A:F,4,FALSE) -> III/C | U86: 3 | V86: =SUM(F86:U86)+SUM(F87:T87)-W86 -> 0 | W86: =SUM(F86:G86,M86:N86,T86:U86,F87,K87:L87,N87,R87:S87) -> 3 | X86: =+V86 -> 0 | Y86: X | Z86: =VLOOKUP(C86,Tarif!A:B,2,FALSE) -> #N/A | AA86: = | AB86: =X86*Z86 -> #N/A | AC86: =COUNTIFS(F86:U86,">=2")+COUNTIFS(F87:T87,">=2")-AC87 -> 0 | AD86: =VLOOKUP(C86,Tarif!D:E,2,FALSE) -> #N/A | AE86: =+AD86*AC86 -> #N/A | AG86: =AB86+AE86 -> #N/A | AH86: =VLOOKUP(C86,Tarif!G:H,2,FALSE)*AG86 -> #N/A | AI86: =AG86-AH86 -> #N/A
X87: =+W86 -> 3 | Y87: X | Z87: =Z86*2 -> #N/A | AA87: = | AB87: =X87*Z87 -> #N/A | AC87: =COUNTIFS(F86:G86,">=2")+COUNTIFS(M86:N86,">=2")+COUNTIFS(T86:U86,">=2")+COUNTIFS(F87,">=2")+COUNTIFS(K87:L87,">=2")+COUNTIFS(N87,">=2")+COUNTIFS(R87:S87,">=2") -> 1 | AD87: =AD86 -> #N/A | AE87: =+AD87*AC87 -> #N/A | AG87: =AB87+AE87 -> #N/A | AH87: =VLOOKUP(C86,Tarif!G:H,2,FALSE)*AG87 -> #N/A | AI87: =AG87-AH87 -> #N/A
X88: =SUM(X86:X87) -> 3 | AB88: =SUM(AB86:AB87) -> #N/A | AC88: =SUM(AC86:AC87) -> 1 | AE88: =SUM(AE86:AE87) -> #N/A | AF88: JML | AG88: =SUM(AG86:AG87) -> #N/A | AH88: =SUM(AH86:AH87) -> #N/A | AI88: =SUM(AI86:AI87) -> #N/A | AJ88: 1220005463701 | AL88: =VLOOKUP(D86,NIP!A:G,6,FALSE) -> 1220005463701 | AM88: =VLOOKUP(D86,NIP!A:G,5,FALSE) -> 353031867008000 | AN88: =AJ88-AM88 -> -351811861544299
A89: 20 | B89: =VLOOKUP(D89,NIP!A:F,2,FALSE) -> TIRTA RIAWAN NOPIANDHIKA | C89: =VLOOKUP(D89,NIP!A:F,3,FALSE) -> ASN | D89: 198811212012121001 | E89: =VLOOKUP(D89,NIP!A:F,4,FALSE) -> III/A | L89: 2 | V89: =SUM(F89:U89)+SUM(F90:T90)-W89 -> 4 | W89: =SUM(F89:G89,M89:N89,T89:U89,F90,K90:L90,N90,R90:S90) -> 0 | X89: =+V89 -> 4 | Y89: X | Z89: =VLOOKUP(C89,Tarif!A:B,2,FALSE) -> #N/A | AA89: = | AB89: =X89*Z89 -> #N/A | AC89: =COUNTIFS(F89:U89,">=2")+COUNTIFS(F90:T90,">=2")-AC90 -> 2 | AD89: =VLOOKUP(C89,Tarif!D:E,2,FALSE) -> #N/A | AE89: =+AD89*AC89 -> #N/A | AG89: =AB89+AE89 -> #N/A | AH89: =VLOOKUP(C89,Tarif!G:H,2,FALSE)*AG89 -> #N/A | AI89: =AG89-AH89 -> #N/A
T90: 2 | X90: =+W89 -> 0 | Y90: X | Z90: =Z89*2 -> #N/A | AA90: = | AB90: =X90*Z90 -> #N/A | AC90: =COUNTIFS(F89:G89,">=2")+COUNTIFS(M89:N89,">=2")+COUNTIFS(T89:U89,">=2")+COUNTIFS(F90,">=2")+COUNTIFS(K90:L90,">=2")+COUNTIFS(N90,">=2")+COUNTIFS(R90:S90,">=2") -> 0 | AD90: =AD89 -> #N/A | AE90: =+AD90*AC90 -> #N/A | AG90: =AB90+AE90 -> #N/A | AH90: =VLOOKUP(C89,Tarif!G:H,2,FALSE)*AG90 -> #N/A | AI90: =AG90-AH90 -> #N/A
X91: =SUM(X89:X90) -> 4 | AB91: =SUM(AB89:AB90) -> #N/A | AC91: =SUM(AC89:AC90) -> 2 | AE91: =SUM(AE89:AE90) -> #N/A | AF91: JML | AG91: =SUM(AG89:AG90) -> #N/A | AH91: =SUM(AH89:AH90) -> #N/A | AI91: =SUM(AI89:AI90) -> #N/A | AJ91: 1220006163847 | AL91: =VLOOKUP(D89,NIP!A:G,6,FALSE) -> 1220006163847 | AM91: =VLOOKUP(D89,NIP!A:G,5,FALSE) -> 541770160438000 | AN91: =AJ91-AM91 -> -540550154274153
A92: 21 | B92: =VLOOKUP(D92,NIP!A:F,2,FALSE) -> ANNISA EKA | C92: =VLOOKUP(D92,NIP!A:F,3,FALSE) -> ASN | D92: 199001212019022001 | E92: =VLOOKUP(D92,NIP!A:F,4,FALSE) -> II/D | O92: 2 | V92: =SUM(F92:U92)+SUM(F93:T93)-W92 -> 2 | W92: =SUM(F92:G92,M92:N92,T92:U92,F93,K93:L93,N93,R93:S93) -> 9.5 | X92: =+V92 -> 2 | Y92: X | Z92: =VLOOKUP(C92,Tarif!A:B,2,FALSE) -> #N/A | AA92: = | AB92: =X92*Z92 -> #N/A | AC92: =COUNTIFS(F92:U92,">=2")+COUNTIFS(F93:T93,">=2")-AC93 -> 1 | AD92: =VLOOKUP(C92,Tarif!D:E,2,FALSE) -> #N/A | AE92: =+AD92*AC92 -> #N/A | AG92: =AB92+AE92 -> #N/A | AH92: =VLOOKUP(C92,Tarif!G:H,2,FALSE)*AG92 -> #N/A | AI92: =AG92-AH92 -> #N/A
N93: 9.5 | X93: =+W92 -> 9.5 | Y93: X | Z93: =Z92*2 -> #N/A | AA93: = | AB93: =X93*Z93 -> #N/A | AC93: =COUNTIFS(F92:G92,">=2")+COUNTIFS(M92:N92,">=2")+COUNTIFS(T92:U92,">=2")+COUNTIFS(F93,">=2")+COUNTIFS(K93:L93,">=2")+COUNTIFS(N93,">=2")+COUNTIFS(R93:S93,">=2") -> 1 | AD93: =AD92 -> #N/A | AE93: =+AD93*AC93 -> #N/A | AG93: =AB93+AE93 -> #N/A | AH93: =VLOOKUP(C92,Tarif!G:H,2,FALSE)*AG93 -> #N/A | AI93: =AG93-AH93 -> #N/A
X94: =SUM(X92:X93) -> 11.5 | AB94: =SUM(AB92:AB93) -> #N/A | AC94: =SUM(AC92:AC93) -> 2 | AE94: =SUM(AE92:AE93) -> #N/A | AF94: JML | AG94: =SUM(AG92:AG93) -> #N/A | AH94: =SUM(AH92:AH93) -> #N/A | AI94: =SUM(AI92:AI93) -> #N/A | AJ94: 1330015893852 | AL94: =VLOOKUP(D92,NIP!A:G,6,FALSE) -> 1330015893852 | AM94: =VLOOKUP(D92,NIP!A:G,5,FALSE) -> 982563256403000 | AN94: =AJ94-AM94 -> -981233240509148
A95: 22 | B95: =VLOOKUP(D95,NIP!A:F,2,FALSE) -> YATRIA MIRDA | C95: =VLOOKUP(D95,NIP!A:F,3,FALSE) -> ASN | D95: 198906042010122002 | E95: =VLOOKUP(D95,NIP!A:F,4,FALSE) -> III/B | V95: =SUM(F95:U95)+SUM(F96:T96)-W95 -> 0 | W95: =SUM(F95:G95,M95:N95,T95:U95,F96,K96:L96,N96,R96:S96) -> 9 | X95: =+V95 -> 0 | Y95: X | Z95: =VLOOKUP(C95,Tarif!A:B,2,FALSE) -> #N/A | AA95: = | AB95: =X95*Z95 -> #N/A | AC95: =COUNTIFS(F95:U95,">=2")+COUNTIFS(F96:T96,">=2")-AC96 -> 0 | AD95: =VLOOKUP(C95,Tarif!D:E,2,FALSE) -> #N/A | AE95: =+AD95*AC95 -> #N/A | AG95: =AB95+AE95 -> #N/A | AH95: =VLOOKUP(C95,Tarif!G:H,2,FALSE)*AG95 -> #N/A | AI95: =AG95-AH95 -> #N/A
N96: 9 | X96: =+W95 -> 9 | Y96: X | Z96: =Z95*2 -> #N/A | AA96: = | AB96: =X96*Z96 -> #N/A | AC96: =COUNTIFS(F95:G95,">=2")+COUNTIFS(M95:N95,">=2")+COUNTIFS(T95:U95,">=2")+COUNTIFS(F96,">=2")+COUNTIFS(K96:L96,">=2")+COUNTIFS(N96,">=2")+COUNTIFS(R96:S96,">=2") -> 1 | AD96: =AD95 -> #N/A | AE96: =+AD96*AC96 -> #N/A | AG96: =AB96+AE96 -> #N/A | AH96: =VLOOKUP(C95,Tarif!G:H,2,FALSE)*AG96 -> #N/A | AI96: =AG96-AH96 -> #N/A
X97: =SUM(X95:X96) -> 9 | AB97: =SUM(AB95:AB96) -> #N/A | AC97: =SUM(AC95:AC96) -> 1 | AE97: =SUM(AE95:AE96) -> #N/A | AF97: JML | AG97: =SUM(AG95:AG96) -> #N/A | AH97: =SUM(AH95:AH96) -> #N/A | AI97: =SUM(AI95:AI96) -> #N/A | AJ97: 1220005771293 | AL97: =VLOOKUP(D95,NIP!A:G,6,FALSE) -> 1220005771293 | AM97: =VLOOKUP(D95,NIP!A:G,5,FALSE) -> 361401177412000 | AN97: =AJ97-AM97 -> -360181171640707
A98: 23 | B98: =VLOOKUP(D98,NIP!A:F,2,FALSE) -> #N/A | C98: =VLOOKUP(D98,NIP!A:F,3,FALSE) -> #N/A | E98: =VLOOKUP(D98,NIP!A:F,4,FALSE) -> #N/A | V98: =SUM(F98:U98)+SUM(F99:T99)-W98 -> 0 | W98: =SUM(F98:G98)+SUM(M98:N98)+SUM(T98:U98)+SUM(K99:L99)+SUM(R99+S99) -> 0 | X98: =+V98 -> 0 | Y98: X | Z98: =VLOOKUP(C98,Tarif!A:B,2,FALSE) -> #N/A | AA98: = | AB98: =X98*Z98 -> #N/A | AC98: =COUNTIFS(F98:U98,">=2")+COUNTIFS(F99:T99,">=2")-AC99 -> 0 | AD98: =VLOOKUP(C98,Tarif!D:E,2,FALSE) -> #N/A | AE98: =+AD98*AC98 -> #N/A | AG98: =AB98+AE98 -> #N/A | AH98: =VLOOKUP(C98,Tarif!G:H,2,FALSE)*AG98 -> #N/A | AI98: =AG98-AH98 -> #N/A
X99: =+W98 -> 0 | Y99: X | Z99: =Z98*2 -> #N/A | AA99: = | AB99: =X99*Z99 -> #N/A | AC99: =COUNTIFS(F98:G98,">=2")+COUNTIFS(M98:N98,">=2")+COUNTIFS(K99:L99,">=2")+COUNTIFS(R99:S99,">=2")+COUNTIFS(T98:U98,">=2") -> 0 | AD99: =AD98 -> #N/A | AE99: =+AD99*AC99 -> #N/A | AG99: =AB99+AE99 -> #N/A | AH99: =VLOOKUP(C98,Tarif!G:H,2,FALSE)*AG99 -> #N/A | AI99: =AG99-AH99 -> #N/A
X100: =SUM(X98:X99) -> 0 | AB100: =SUM(AB98:AB99) -> #N/A | AC100: =SUM(AC98:AC99) -> 0 | AE100: =SUM(AE98:AE99) -> #N/A | AF100: JML | AG100: =SUM(AG98:AG99) -> #N/A | AH100: =SUM(AH98:AH99) -> #N/A | AI100: =SUM(AI98:AI99) -> #N/A | AL100: =VLOOKUP(D98,NIP!A:G,6,FALSE) -> #N/A | AM100: =VLOOKUP(D98,NIP!A:G,5,FALSE) -> #N/A | AN100: =AJ100-AM100 -> #N/A
A101: 24 | B101: =VLOOKUP(D101,NIP!A:F,2,FALSE) -> #N/A | C101: =VLOOKUP(D101,NIP!A:F,3,FALSE) -> #N/A | E101: =VLOOKUP(D101,NIP!A:F,4,FALSE) -> #N/A | V101: =SUM(F101:U101)+SUM(F102:T102)-W101 -> 0 | W101: =SUM(F101:G101)+SUM(M101:N101)+SUM(T101:U101)+SUM(K102:L102)+SUM(R102+S102) -> 0 | X101: =+V101 -> 0 | Y101: X | Z101: =VLOOKUP(C101,Tarif!A:B,2,FALSE) -> #N/A | AA101: = | AB101: =X101*Z101 -> #N/A | AC101: =COUNTIFS(F101:U101,">=2")+COUNTIFS(F102:T102,">=2")-AC102 -> 0 | AD101: =VLOOKUP(C101,Tarif!D:E,2,FALSE) -> #N/A | AE101: =+AD101*AC101 -> #N/A | AG101: =AB101+AE101 -> #N/A | AH101: =VLOOKUP(C101,Tarif!G:H,2,FALSE)*AG101 -> #N/A | AI101: =AG101-AH101 -> #N/A
X102: =+W101 -> 0 | Y102: X | Z102: =Z101*2 -> #N/A | AA102: = | AB102: =X102*Z102 -> #N/A | AC102: =COUNTIFS(F101:G101,">=2")+COUNTIFS(M101:N101,">=2")+COUNTIFS(K102:L102,">=2")+COUNTIFS(R102:S102,">=2")+COUNTIFS(T101:U101,">=2") -> 0 | AD102: =AD101 -> #N/A | AE102: =+AD102*AC102 -> #N/A | AG102: =AB102+AE102 -> #N/A | AH102: =VLOOKUP(C101,Tarif!G:H,2,FALSE)*AG102 -> #N/A | AI102: =AG102-AH102 -> #N/A
...

Sheet Rekap PPPK2023
A1: DIREKTORAT JENDERAL PELAYANAN KESEHATAN
A2: RUMAH SAKIT UMUM PUSAT NASIONAL DR. CIPTO MANGUNKUSUMO
A3: DAFTAR PERHITUNGAN UANG LEMBUR (INSTALASI PELAYANAN ONKOLOGI RADIASI TERPADU) - PEGAWAI PPPK 2023 RSCM
A4: BULAN JUNI 2026
A6: NO | B6: NAMA | C6: GOL | D6: NIP | E6: NPWP | F6: JUMLAH JAM LEMBUR TANGGAL | V6: JUMLAH JAM | X6: PERHITUNGAN UANG LEMBUR DAN UANG MAKAN | AF6: SUM | AG6: JUMLAH KOTOR (Rp) | AH6: PPH | AI6: JUMLAH BERSIH (Rp) | AJ6: NOMOR REKENING | AK6: UNIT KERJA | AL6: DAFTAR GAJI | AM6: NOREK-GAJI | AN6: CEK
F7: 1 | G7: 2 | H7: 3 | I7: 4 | J7: 5 | K7: 6 | L7: 7 | M7: 8 | N7: 9 | O7: 10 | P7: 11 | Q7: 12 | R7: 13 | S7: 14 | T7: 15 | U7: 16 | V7: HARI KERJA (Jam) | W7: HARI LIBUR (Jam) | X7: UANG LEMBUR | AA7: JUMLAH UANG LEMBUR | AC7: UANG MAKAN | AE7: JUMLAH UANG MAKAN
F8: 17 | G8: 18 | H8: 19 | I8: 20 | J8: 21 | K8: 22 | L8: 23 | M8: 24 | N8: 25 | O8: 26 | P8: 27 | Q8: 28 | R8: 29 | S8: 30 | T8: 31
A10: 1 | B10: 2 | C10: 3 | D10: 4 | E10: 5 | V10: 7 | W10: 8 | X10: 9 | AC10: 10 | AG10: 11 | AH10: 12 | AI10: 13 | AJ10: 14 | AK10: 15 | AL10: 16
A11: 1 | B11: =VLOOKUP(D11,P3K23!A:E,2,FALSE) -> SOLIKHAH HANDAYANI, A.Md. Kep | C11: =VLOOKUP(D11,P3K23!A:E,3,FALSE) -> II/C | D11: 199309292023212009 | E11: =VLOOKUP(D11,P3K23!A:E,4,FALSE) -> 723306718528000 | V11: =SUM(F11:U11)+SUM(F12:T12)-W11 -> 0 | W11: =SUM(F11:G11,M11:N11,T11:U11,F12,K12:L12,N12,R12:S12) -> 10 | X11: =+V11 -> 0 | Y11: X | Z11: =VLOOKUP(C11,Tarif!A:B,2,FALSE) -> 24000 | AA11: = | AB11: =X11*Z11 -> 0 | AC11: =COUNTIFS(F11:U11,">=2")+COUNTIFS(F12:T12,">=2")-AC12 -> 0 | AD11: =VLOOKUP(C11,Tarif!D:E,2,FALSE) -> 35000 | AE11: =+AD11*AC11 -> 0 | AG11: =AB11+AE11 -> 0 | AH11: =VLOOKUP(C11,Tarif!G:H,2,FALSE)*AG11 -> 0 | AI11: =AG11-AH11 -> 0 | AK11: IPORT
N12: 10 | X12: =+W11 -> 10 | Y12: X | Z12: =Z11*2 -> 48000 | AA12: = | AB12: =X12*Z12 -> 480000 | AC12: =COUNTIFS(F11:G11,">=2")+COUNTIFS(M11:N11,">=2")+COUNTIFS(T11:U11,">=2")+COUNTIFS(F12,">=2")+COUNTIFS(K12:L12,">=2")+COUNTIFS(N12,">=2")+COUNTIFS(R12:S12,">=2") -> 1 | AD12: =AD11 -> 35000 | AE12: =+AD12*AC12 -> 35000 | AG12: =AB12+AE12 -> 515000 | AH12: =VLOOKUP(C11,Tarif!G:H,2,FALSE)*AG12 -> 0 | AI12: =AG12-AH12 -> 515000
X13: =SUM(X11:X12) -> 10 | AB13: =SUM(AB11:AB12) -> 480000 | AC13: =SUM(AC11:AC12) -> 1 | AE13: =SUM(AE11:AE12) -> 35000 | AF13: JML | AG13: =SUM(AG11:AG12) -> 515000 | AH13: =SUM(AH11:AH12) -> 0 | AI13: =SUM(AI11:AI12) -> 515000 | AJ13: 9000029088219 | AL13: =VLOOKUP(D11,P3K23!A:F,6,FALSE) -> PPPK P1 | AM13: =VLOOKUP(D11,P3K23!A:F,5,FALSE) -> 9000029088219 | AN13: =AJ13-AM13 -> 0
A14: =1+A11 -> 2 | B14: =VLOOKUP(D14,P3K23!A:E,2,FALSE) -> NUR AHMAD GIRIYANTO, A.Md.Kep | C14: =VLOOKUP(D14,P3K23!A:E,3,FALSE) -> II/C | D14: 199302232023211003 | E14: =VLOOKUP(D14,P3K23!A:E,4,FALSE) -> 803183201522000 | I14: 2 | K14: 2 | V14: =SUM(F14:U14)+SUM(F15:T15)-W14 -> 10.5 | W14: =SUM(F14:G14,M14:N14,T14:U14,F15,K15:L15,N15,R15:S15) -> 9.5 | X14: =+V14 -> 10.5 | Y14: X | Z14: =VLOOKUP(C14,Tarif!A:B,2,FALSE) -> 24000 | AA14: = | AB14: =X14*Z14 -> 252000 | AC14: =COUNTIFS(F14:U14,">=2")+COUNTIFS(F15:T15,">=2")-AC15 -> 5 | AD14: =VLOOKUP(C14,Tarif!D:E,2,FALSE) -> 35000 | AE14: =+AD14*AC14 -> 175000 | AG14: =AB14+AE14 -> 427000 | AH14: =VLOOKUP(C14,Tarif!G:H,2,FALSE)*AG14 -> 0 | AI14: =AG14-AH14 -> 427000 | AK14: IPORT
I15: 2 | M15: 2 | N15: 9.5 | T15: 2.5 | X15: =+W14 -> 9.5 | Y15: X | Z15: =Z14*2 -> 48000 | AA15: = | AB15: =X15*Z15 -> 456000 | AC15: =COUNTIFS(F14:G14,">=2")+COUNTIFS(M14:N14,">=2")+COUNTIFS(T14:U14,">=2")+COUNTIFS(F15,">=2")+COUNTIFS(K15:L15,">=2")+COUNTIFS(N15,">=2")+COUNTIFS(R15:S15,">=2") -> 1 | AD15: =AD14 -> 35000 | AE15: =+AD15*AC15 -> 35000 | AG15: =AB15+AE15 -> 491000 | AH15: =VLOOKUP(C14,Tarif!G:H,2,FALSE)*AG15 -> 0 | AI15: =AG15-AH15 -> 491000
X16: =SUM(X14:X15) -> 20 | AB16: =SUM(AB14:AB15) -> 708000 | AC16: =SUM(AC14:AC15) -> 6 | AE16: =SUM(AE14:AE15) -> 210000 | AF16: JML | AG16: =SUM(AG14:AG15) -> 918000 | AH16: =SUM(AH14:AH15) -> 0 | AI16: =SUM(AI14:AI15) -> 918000 | AJ16: 9000029088870 | AL16: =VLOOKUP(D14,P3K23!A:F,6,FALSE) -> PPPK P1 | AM16: =VLOOKUP(D14,P3K23!A:F,5,FALSE) -> 9000029088870 | AN16: =AJ16-AM16 -> 0
A17: =1+A14 -> 3 | B17: =VLOOKUP(D17,P3K23!A:E,2,FALSE) -> #N/A | C17: =VLOOKUP(D17,P3K23!A:E,3,FALSE) -> #N/A | E17: =VLOOKUP(D17,P3K23!A:E,4,FALSE) -> #N/A | V17: =SUM(F17:U17)+SUM(F18:T18)-W17 -> 0 | W17: =SUM(F17:G17,M17:N17,T17:U17,F18,K18:L18,N18,R18:S18) -> 0 | X17: =+V17 -> 0 | Y17: X | Z17: =VLOOKUP(C17,Tarif!A:B,2,FALSE) -> #N/A | AA17: = | AB17: =X17*Z17 -> #N/A | AC17: =COUNTIFS(F17:U17,">=2")+COUNTIFS(F18:T18,">=2")-AC18 -> 0 | AD17: =VLOOKUP(C17,Tarif!D:E,2,FALSE) -> #N/A | AE17: =+AD17*AC17 -> #N/A | AG17: =AB17+AE17 -> #N/A | AH17: =VLOOKUP(C17,Tarif!G:H,2,FALSE)*AG17 -> #N/A | AI17: =AG17-AH17 -> #N/A | AK17: IPORT
X18: =+W17 -> 0 | Y18: X | Z18: =Z17*2 -> #N/A | AA18: = | AB18: =X18*Z18 -> #N/A | AC18: =COUNTIFS(F17:G17,">=2")+COUNTIFS(M17:N17,">=2")+COUNTIFS(T17:U17,">=2")+COUNTIFS(F18,">=2")+COUNTIFS(K18:L18,">=2")+COUNTIFS(N18,">=2")+COUNTIFS(R18:S18,">=2") -> 0 | AD18: =AD17 -> #N/A | AE18: =+AD18*AC18 -> #N/A | AG18: =AB18+AE18 -> #N/A | AH18: =VLOOKUP(C17,Tarif!G:H,2,FALSE)*AG18 -> #N/A | AI18: =AG18-AH18 -> #N/A
X19: =SUM(X17:X18) -> 0 | AB19: =SUM(AB17:AB18) -> #N/A | AC19: =SUM(AC17:AC18) -> 0 | AE19: =SUM(AE17:AE18) -> #N/A | AF19: JML | AG19: =SUM(AG17:AG18) -> #N/A | AH19: =SUM(AH17:AH18) -> #N/A | AI19: =SUM(AI17:AI18) -> #N/A | AL19: =VLOOKUP(D17,P3K23!A:F,6,FALSE) -> #N/A | AM19: =VLOOKUP(D17,P3K23!A:F,5,FALSE) -> #N/A | AN19: =AJ19-AM19 -> #N/A
A20: =1+A17 -> 4 | B20: =VLOOKUP(D20,P3K23!A:E,2,FALSE) -> MUHAMAD IQBAL ASSEGAB, S.Si | C20: =VLOOKUP(D20,P3K23!A:E,3,FALSE) -> III/A | D20: 198612022023211001 | E20: =VLOOKUP(D20,P3K23!A:E,4,FALSE) -> 686571381061000 | M20: 9.5 | T20: 11 | V20: =SUM(F20:U20)+SUM(F21:T21)-W20 -> 0 | W20: =SUM(F20:G20,M20:N20,T20:U20,F21,K21:L21,N21,R21:S21) -> 40 | X20: =+V20 -> 0 | Y20: X | Z20: =VLOOKUP(C20,Tarif!A:B,2,FALSE) -> 30000 | AA20: = | AB20: =X20*Z20 -> 0 | AC20: =COUNTIFS(F20:U20,">=2")+COUNTIFS(F21:T21,">=2")-AC21 -> 0 | AD20: =VLOOKUP(C20,Tarif!D:E,2,FALSE) -> 37000 | AE20: =+AD20*AC20 -> 0 | AG20: =AB20+AE20 -> 0 | AH20: =VLOOKUP(C20,Tarif!G:H,2,FALSE)*AG20 -> 0 | AI20: =AG20-AH20 -> 0 | AK20: IPORT
K21: 9.5 | R21: 10 | X21: =+W20 -> 40 | Y21: X | Z21: =Z20*2 -> 60000 | AA21: = | AB21: =X21*Z21 -> 2400000 | AC21: =COUNTIFS(F20:G20,">=2")+COUNTIFS(M20:N20,">=2")+COUNTIFS(T20:U20,">=2")+COUNTIFS(F21,">=2")+COUNTIFS(K21:L21,">=2")+COUNTIFS(N21,">=2")+COUNTIFS(R21:S21,">=2") -> 4 | AD21: =AD20 -> 37000 | AE21: =+AD21*AC21 -> 148000 | AG21: =AB21+AE21 -> 2548000 | AH21: =VLOOKUP(C20,Tarif!G:H,2,FALSE)*AG21 -> 127400 | AI21: =AG21-AH21 -> 2420600
X22: =SUM(X20:X21) -> 40 | AB22: =SUM(AB20:AB21) -> 2400000 | AC22: =SUM(AC20:AC21) -> 4 | AE22: =SUM(AE20:AE21) -> 148000 | AF22: JML | AG22: =SUM(AG20:AG21) -> 2548000 | AH22: =SUM(AH20:AH21) -> 127400 | AI22: =SUM(AI20:AI21) -> 2420600 | AJ22: 0700005196378 | AL22: =VLOOKUP(D20,P3K23!A:F,6,FALSE) -> PPPK P1 | AM22: =VLOOKUP(D20,P3K23!A:F,5,FALSE) -> 0700005196378 | AN22: =AJ22-AM22 -> 0
A23: =1+A20 -> 5 | B23: =VLOOKUP(D23,P3K23!A:E,2,FALSE) -> WAHYUNI SYIYAMSIH, A.Md.Rad | C23: =VLOOKUP(D23,P3K23!A:E,3,FALSE) -> II/C | D23: 198506062023212006 | E23: =VLOOKUP(D23,P3K23!A:E,4,FALSE) -> 253271803416000 | V23: =SUM(F23:U23)+SUM(F24:T24)-W23 -> 0 | W23: =SUM(F23:G23,M23:N23,T23:U23,F24,K24:L24,N24,R24:S24) -> 7.5 | X23: =+V23 -> 0 | Y23: X | Z23: =VLOOKUP(C23,Tarif!A:B,2,FALSE) -> 24000 | AA23: = | AB23: =X23*Z23 -> 0 | AC23: =COUNTIFS(F23:U23,">=2")+COUNTIFS(F24:T24,">=2")-AC24 -> 0 | AD23: =VLOOKUP(C23,Tarif!D:E,2,FALSE) -> 35000 | AE23: =+AD23*AC23 -> 0 | AG23: =AB23+AE23 -> 0 | AH23: =VLOOKUP(C23,Tarif!G:H,2,FALSE)*AG23 -> 0 | AI23: =AG23-AH23 -> 0 | AK23: IPORT
N24: 7.5 | X24: =+W23 -> 7.5 | Y24: X | Z24: =Z23*2 -> 48000 | AA24: = | AB24: =X24*Z24 -> 360000 | AC24: =COUNTIFS(F23:G23,">=2")+COUNTIFS(M23:N23,">=2")+COUNTIFS(T23:U23,">=2")+COUNTIFS(F24,">=2")+COUNTIFS(K24:L24,">=2")+COUNTIFS(N24,">=2")+COUNTIFS(R24:S24,">=2") -> 1 | AD24: =AD23 -> 35000 | AE24: =+AD24*AC24 -> 35000 | AG24: =AB24+AE24 -> 395000 | AH24: =VLOOKUP(C23,Tarif!G:H,2,FALSE)*AG24 -> 0 | AI24: =AG24-AH24 -> 395000
X25: =SUM(X23:X24) -> 7.5 | AB25: =SUM(AB23:AB24) -> 360000 | AC25: =SUM(AC23:AC24) -> 1 | AE25: =SUM(AE23:AE24) -> 35000 | AF25: JML | AG25: =SUM(AG23:AG24) -> 395000 | AH25: =SUM(AH23:AH24) -> 0 | AI25: =SUM(AI23:AI24) -> 395000 | AJ25: 1550000241904 | AL25: =VLOOKUP(D23,P3K23!A:F,6,FALSE) -> PPPK P1 | AM25: =VLOOKUP(D23,P3K23!A:F,5,FALSE) -> 1550000241904 | AN25: =AJ25-AM25 -> 0
A26: =1+A23 -> 6 | B26: =VLOOKUP(D26,P3K23!A:E,2,FALSE) -> NANA SUPRIATNA, Amd.Rad | C26: =VLOOKUP(D26,P3K23!A:E,3,FALSE) -> II/C | D26: 198312062023211004 | E26: =VLOOKUP(D26,P3K23!A:E,4,FALSE) -> 794839795403000 | V26: =SUM(F26:U26)+SUM(F27:T27)-W26 -> 0 | W26: =SUM(F26:G26,M26:N26,T26:U26,F27,K27:L27,N27,R27:S27) -> 7 | X26: =+V26 -> 0 | Y26: X | Z26: =VLOOKUP(C26,Tarif!A:B,2,FALSE) -> 24000 | AA26: = | AB26: =X26*Z26 -> 0 | AC26: =COUNTIFS(F26:U26,">=2")+COUNTIFS(F27:T27,">=2")-AC27 -> 0 | AD26: =VLOOKUP(C26,Tarif!D:E,2,FALSE) -> 35000 | AE26: =+AD26*AC26 -> 0 | AG26: =AB26+AE26 -> 0 | AH26: =VLOOKUP(C26,Tarif!G:H,2,FALSE)*AG26 -> 0 | AI26: =AG26-AH26 -> 0 | AK26: IPORT
N27: 7 | X27: =+W26 -> 7 | Y27: X | Z27: =Z26*2 -> 48000 | AA27: = | AB27: =X27*Z27 -> 336000 | AC27: =COUNTIFS(F26:G26,">=2")+COUNTIFS(M26:N26,">=2")+COUNTIFS(T26:U26,">=2")+COUNTIFS(F27,">=2")+COUNTIFS(K27:L27,">=2")+COUNTIFS(N27,">=2")+COUNTIFS(R27:S27,">=2") -> 1 | AD27: =AD26 -> 35000 | AE27: =+AD27*AC27 -> 35000 | AG27: =AB27+AE27 -> 371000 | AH27: =VLOOKUP(C26,Tarif!G:H,2,FALSE)*AG27 -> 0 | AI27: =AG27-AH27 -> 371000
X28: =SUM(X26:X27) -> 7 | AB28: =SUM(AB26:AB27) -> 336000 | AC28: =SUM(AC26:AC27) -> 1 | AE28: =SUM(AE26:AE27) -> 35000 | AF28: JML | AG28: =SUM(AG26:AG27) -> 371000 | AH28: =SUM(AH26:AH27) -> 0 | AI28: =SUM(AI26:AI27) -> 371000 | AJ28: 1220006058849 | AL28: =VLOOKUP(D26,P3K23!A:F,6,FALSE) -> PPPK P1 | AM28: =VLOOKUP(D26,P3K23!A:F,5,FALSE) -> 1220006058849 | AN28: =AJ28-AM28 -> 0
A29: =1+A26 -> 7 | B29: =VLOOKUP(D29,P3K23!A:E,2,FALSE) -> RINA ANGGRAENI, A.Md.Rad | C29: =VLOOKUP(D29,P3K23!A:E,3,FALSE) -> II/C | D29: 198608062023212005 | E29: =VLOOKUP(D29,P3K23!A:E,4,FALSE) -> 970351367412000 | V29: =SUM(F29:U29)+SUM(F30:T30)-W29 -> 0 | W29: =SUM(F29:G29,M29:N29,T29:U29,F30,K30:L30,N30,R30:S30) -> 7 | X29: =+V29 -> 0 | Y29: X | Z29: =VLOOKUP(C29,Tarif!A:B,2,FALSE) -> 24000 | AA29: = | AB29: =X29*Z29 -> 0 | AC29: =COUNTIFS(F29:U29,">=2")+COUNTIFS(F30:T30,">=2")-AC30 -> 0 | AD29: =VLOOKUP(C29,Tarif!D:E,2,FALSE) -> 35000 | AE29: =+AD29*AC29 -> 0 | AG29: =AB29+AE29 -> 0 | AH29: =VLOOKUP(C29,Tarif!G:H,2,FALSE)*AG29 -> 0 | AI29: =AG29-AH29 -> 0 | AK29: IPORT
N30: 7 | X30: =+W29 -> 7 | Y30: X | Z30: =Z29*2 -> 48000 | AA30: = | AB30: =X30*Z30 -> 336000 | AC30: =COUNTIFS(F29:G29,">=2")+COUNTIFS(M29:N29,">=2")+COUNTIFS(T29:U29,">=2")+COUNTIFS(F30,">=2")+COUNTIFS(K30:L30,">=2")+COUNTIFS(N30,">=2")+COUNTIFS(R30:S30,">=2") -> 1 | AD30: =AD29 -> 35000 | AE30: =+AD30*AC30 -> 35000 | AG30: =AB30+AE30 -> 371000 | AH30: =VLOOKUP(C29,Tarif!G:H,2,FALSE)*AG30 -> 0 | AI30: =AG30-AH30 -> 371000
X31: =SUM(X29:X30) -> 7 | AB31: =SUM(AB29:AB30) -> 336000 | AC31: =SUM(AC29:AC30) -> 1 | AE31: =SUM(AE29:AE30) -> 35000 | AF31: JML | AG31: =SUM(AG29:AG30) -> 371000 | AH31: =SUM(AH29:AH30) -> 0 | AI31: =SUM(AI29:AI30) -> 371000 | AJ31: 9000009546087 | AL31: =VLOOKUP(D29,P3K23!A:F,6,FALSE) -> PPPK P1 | AM31: =VLOOKUP(D29,P3K23!A:F,5,FALSE) -> 9000009546087 | AN31: =AJ31-AM31 -> 0
A32: =1+A29 -> 8 | B32: =VLOOKUP(D32,P3K23!A:E,2,FALSE) -> PANJI PRATAMA, Amd.Rad | C32: =VLOOKUP(D32,P3K23!A:E,3,FALSE) -> II/C | D32: 198706282023211001 | E32: =VLOOKUP(D32,P3K23!A:E,4,FALSE) -> 467461133407000 | V32: =SUM(F32:U32)+SUM(F33:T33)-W32 -> 0 | W32: =SUM(F32:G32,M32:N32,T32:U32,F33,K33:L33,N33,R33:S33) -> 8 | X32: =+V32 -> 0 | Y32: X | Z32: =VLOOKUP(C32,Tarif!A:B,2,FALSE) -> 24000 | AA32: = | AB32: =X32*Z32 -> 0 | AC32: =COUNTIFS(F32:U32,">=2")+COUNTIFS(F33:T33,">=2")-AC33 -> 0 | AD32: =VLOOKUP(C32,Tarif!D:E,2,FALSE) -> 35000 | AE32: =+AD32*AC32 -> 0 | AG32: =AB32+AE32 -> 0 | AH32: =VLOOKUP(C32,Tarif!G:H,2,FALSE)*AG32 -> 0 | AI32: =AG32-AH32 -> 0 | AK32: IPORT
N33: 8 | X33: =+W32 -> 8 | Y33: X | Z33: =Z32*2 -> 48000 | AA33: = | AB33: =X33*Z33 -> 384000 | AC33: =COUNTIFS(F32:G32,">=2")+COUNTIFS(M32:N32,">=2")+COUNTIFS(T32:U32,">=2")+COUNTIFS(F33,">=2")+COUNTIFS(K33:L33,">=2")+COUNTIFS(N33,">=2")+COUNTIFS(R33:S33,">=2") -> 1 | AD33: =AD32 -> 35000 | AE33: =+AD33*AC33 -> 35000 | AG33: =AB33+AE33 -> 419000 | AH33: =VLOOKUP(C32,Tarif!G:H,2,FALSE)*AG33 -> 0 | AI33: =AG33-AH33 -> 419000
X34: =SUM(X32:X33) -> 8 | AB34: =SUM(AB32:AB33) -> 384000 | AC34: =SUM(AC32:AC33) -> 1 | AE34: =SUM(AE32:AE33) -> 35000 | AF34: JML | AG34: =SUM(AG32:AG33) -> 419000 | AH34: =SUM(AH32:AH33) -> 0 | AI34: =SUM(AI32:AI33) -> 419000 | AJ34: 1220005801686 | AL34: =VLOOKUP(D32,P3K23!A:F,6,FALSE) -> PPPK P1 | AM34: =VLOOKUP(D32,P3K23!A:F,5,FALSE) -> 1220005801686 | AN34: =AJ34-AM34 -> 0
A35: =1+A32 -> 9 | B35: =VLOOKUP(D35,P3K23!A:E,2,FALSE) -> ALI ROZIQIN, A.Md.Rad | C35: =VLOOKUP(D35,P3K23!A:E,3,FALSE) -> II/C | D35: 198208132023211001 | E35: =VLOOKUP(D35,P3K23!A:E,4,FALSE) -> 672063419013000 | O35: 3 | V35: =SUM(F35:U35)+SUM(F36:T36)-W35 -> 3 | W35: =SUM(F35:G35,M35:N35,T35:U35,F36,K36:L36,N36,R36:S36) -> 7 | X35: =+V35 -> 3 | Y35: X | Z35: =VLOOKUP(C35,Tarif!A:B,2,FALSE) -> 24000 | AA35: = | AB35: =X35*Z35 -> 72000 | AC35: =COUNTIFS(F35:U35,">=2")+COUNTIFS(F36:T36,">=2")-AC36 -> 1 | AD35: =VLOOKUP(C35,Tarif!D:E,2,FALSE) -> 35000 | AE35: =+AD35*AC35 -> 35000 | AG35: =AB35+AE35 -> 107000 | AH35: =VLOOKUP(C35,Tarif!G:H,2,FALSE)*AG35 -> 0 | AI35: =AG35-AH35 -> 107000 | AK35: IPORT
N36: 7 | X36: =+W35 -> 7 | Y36: X | Z36: =Z35*2 -> 48000 | AA36: = | AB36: =X36*Z36 -> 336000 | AC36: =COUNTIFS(F35:G35,">=2")+COUNTIFS(M35:N35,">=2")+COUNTIFS(T35:U35,">=2")+COUNTIFS(F36,">=2")+COUNTIFS(K36:L36,">=2")+COUNTIFS(N36,">=2")+COUNTIFS(R36:S36,">=2") -> 1 | AD36: =AD35 -> 35000 | AE36: =+AD36*AC36 -> 35000 | AG36: =AB36+AE36 -> 371000 | AH36: =VLOOKUP(C35,Tarif!G:H,2,FALSE)*AG36 -> 0 | AI36: =AG36-AH36 -> 371000
X37: =SUM(X35:X36) -> 10 | AB37: =SUM(AB35:AB36) -> 408000 | AC37: =SUM(AC35:AC36) -> 2 | AE37: =SUM(AE35:AE36) -> 70000 | AF37: JML | AG37: =SUM(AG35:AG36) -> 478000 | AH37: =SUM(AH35:AH36) -> 0 | AI37: =SUM(AI35:AI36) -> 478000 | AJ37: 1220004570472 | AL37: =VLOOKUP(D35,P3K23!A:F,6,FALSE) -> PPPK P1 | AM37: =VLOOKUP(D35,P3K23!A:F,5,FALSE) -> 1220004570472 | AN37: =AJ37-AM37 -> 0
A38: =1+A35 -> 10 | B38: =VLOOKUP(D38,P3K23!A:E,2,FALSE) -> PRABU WIJAYA, AMK | C38: =VLOOKUP(D38,P3K23!A:E,3,FALSE) -> II/C | D38: 198711072023211001 | E38: =VLOOKUP(D38,P3K23!A:E,4,FALSE) -> 466897667435000 | S38: 3 | V38: =SUM(F38:U38)+SUM(F39:T39)-W38 -> 3 | W38: =SUM(F38:G38,M38:N38,T38:U38,F39,K39:L39,N39,R39:S39) -> 4 | X38: =+V38 -> 3 | Y38: X | Z38: =VLOOKUP(C38,Tarif!A:B,2,FALSE) -> 24000 | AA38: = | AB38: =X38*Z38 -> 72000 | AC38: =COUNTIFS(F38:U38,">=2")+COUNTIFS(F39:T39,">=2")-AC39 -> 1 | AD38: =VLOOKUP(C38,Tarif!D:E,2,FALSE) -> 35000 | AE38: =+AD38*AC38 -> 35000 | AG38: =AB38+AE38 -> 107000 | AH38: =VLOOKUP(C38,Tarif!G:H,2,FALSE)*AG38 -> 0 | AI38: =AG38-AH38 -> 107000 | AK38: IPORT
F39: 4 | X39: =+W38 -> 4 | Y39: X | Z39: =Z38*2 -> 48000 | AA39: = | AB39: =X39*Z39 -> 192000 | AC39: =COUNTIFS(F38:G38,">=2")+COUNTIFS(M38:N38,">=2")+COUNTIFS(T38:U38,">=2")+COUNTIFS(F39,">=2")+COUNTIFS(K39:L39,">=2")+COUNTIFS(N39,">=2")+COUNTIFS(R39:S39,">=2") -> 1 | AD39: =AD38 -> 35000 | AE39: =+AD39*AC39 -> 35000 | AG39: =AB39+AE39 -> 227000 | AH39: =VLOOKUP(C38,Tarif!G:H,2,FALSE)*AG39 -> 0 | AI39: =AG39-AH39 -> 227000
X40: =SUM(X38:X39) -> 7 | AB40: =SUM(AB38:AB39) -> 264000 | AC40: =SUM(AC38:AC39) -> 2 | AE40: =SUM(AE38:AE39) -> 70000 | AF40: JML | AG40: =SUM(AG38:AG39) -> 334000 | AH40: =SUM(AH38:AH39) -> 0 | AI40: =SUM(AI38:AI39) -> 334000 | AJ40: 1220006015906 | AL40: =VLOOKUP(D38,P3K23!A:F,6,FALSE) -> PPPK P1 | AM40: =VLOOKUP(D38,P3K23!A:F,5,FALSE) -> 1220006015906 | AN40: =AJ40-AM40 -> 0
A42: T O T A L | AG42: =SUMIFS(AG:AG,$AF:$AF,$AF$16,AG:AG,">0") -> #REF! | AH42: =SUMIFS(AH:AH,$AF:$AF,$AF$16,AH:AH,">0") -> #REF! | AI42: =SUMIFS(AI:AI,$AF:$AF,$AF$16,AI:AI,">0") -> #REF!
AG45: Mengetahui,
AG46: Kepala Instalasi Pelayanan Onkologi Radiasi Terpadu
AG53: Dr. dr. Angela Giselvania, Sp.Onk.Rad(K)
AG54: NIP. 198205252014122003

Sheet Rekap PPPK2024
A1: DIREKTORAT JENDERAL PELAYANAN KESEHATAN
A2: RUMAH SAKIT UMUM PUSAT NASIONAL DR. CIPTO MANGUNKUSUMO
A3: DAFTAR PERHITUNGAN UANG LEMBUR (INSTALASI PELAYANAN ONKOLOGI RADIASI TERPADU) - PEGAWAI PPPK 2024 RSCM
A4: BULAN JUNI 2026
A6: NO | B6: NAMA | C6: GOL | D6: NIP | E6: NPWP | F6: JUMLAH JAM LEMBUR TANGGAL | V6: JUMLAH JAM | X6: PERHITUNGAN UANG LEMBUR DAN UANG MAKAN | AF6: SUM | AG6: JUMLAH KOTOR (Rp) | AH6: PPH | AI6: JUMLAH BERSIH (Rp) | AJ6: NOMOR REKENING | AK6: UNIT KERJA | AL6: DAFTAR GAJI | AM6: NOREK-GAJI | AN6: CEK
F7: 1 | G7: 2 | H7: 3 | I7: 4 | J7: 5 | K7: 6 | L7: 7 | M7: 8 | N7: 9 | O7: 10 | P7: 11 | Q7: 12 | R7: 13 | S7: 14 | T7: 15 | U7: 16 | V7: HARI KERJA (Jam) | W7: HARI LIBUR (Jam) | X7: UANG LEMBUR | AA7: JUMLAH UANG LEMBUR | AC7: UANG MAKAN | AE7: JUMLAH UANG MAKAN
F8: 17 | G8: 18 | H8: 19 | I8: 20 | J8: 21 | K8: 22 | L8: 23 | M8: 24 | N8: 25 | O8: 26 | P8: 27 | Q8: 28 | R8: 29 | S8: 30 | T8: 31
A10: 1 | B10: 2 | C10: 3 | D10: 4 | E10: 5 | F10: 6 | V10: 7 | W10: 8 | X10: 9 | AC10: 10 | AG10: 11 | AH10: 12 | AI10: 13 | AJ10: 14 | AK10: 15 | AL10: 16
A11: 1 | B11: =VLOOKUP(D11,P3K24!A:E,2,FALSE) -> ARI YULI KRISTIAWAN | C11: =VLOOKUP(D11,P3K24!A:E,3,FALSE) -> III/A | D11: 199307132024211015 | E11: =VLOOKUP(D11,P3K24!A:E,4,FALSE) -> 753974005017000 | V11: =SUM(F11:U11)+SUM(F12:T12)-W11 -> 0 | W11: =SUM(F11:G11,M11:N11,T11:U11,F12,K12:L12,N12,R12:S12) -> 7.5 | X11: =+V11 -> 0 | Y11: X | Z11: =VLOOKUP(C11,Tarif!A:B,2,FALSE) -> 30000 | AA11: = | AB11: =X11*Z11 -> 0 | AC11: =COUNTIFS(F11:U11,">=2")+COUNTIFS(F12:T12,">=2")-AC12 -> 0 | AD11: =VLOOKUP(C11,Tarif!D:E,2,FALSE) -> 37000 | AE11: =+AD11*AC11 -> 0 | AG11: =AB11+AE11 -> 0 | AH11: =VLOOKUP(C11,Tarif!G:H,2,FALSE)*AG11 -> 0 | AI11: =AG11-AH11 -> 0 | AK11: IPORT
N12: 7.5 | X12: =+W11 -> 7.5 | Y12: X | Z12: =Z11*2 -> 60000 | AA12: = | AB12: =X12*Z12 -> 450000 | AC12: =COUNTIFS(F11:G11,">=2")+COUNTIFS(M11:N11,">=2")+COUNTIFS(T11:U11,">=2")+COUNTIFS(F12,">=2")+COUNTIFS(K12:L12,">=2")+COUNTIFS(N12,">=2")+COUNTIFS(R12:S12,">=2") -> 1 | AD12: =AD11 -> 37000 | AE12: =+AD12*AC12 -> 37000 | AG12: =AB12+AE12 -> 487000 | AH12: =VLOOKUP(C11,Tarif!G:H,2,FALSE)*AG12 -> 24350 | AI12: =AG12-AH12 -> 462650
X13: =SUM(X11:X12) -> 7.5 | AB13: =SUM(AB11:AB12) -> 450000 | AC13: =SUM(AC11:AC12) -> 1 | AE13: =SUM(AE11:AE12) -> 37000 | AF13: JML | AG13: =SUM(AG11:AG12) -> 487000 | AH13: =SUM(AH11:AH12) -> 24350 | AI13: =SUM(AI11:AI12) -> 462650 | AJ13: 1220007142113 | AL13: =VLOOKUP(D11,P3K24!A:F,6,FALSE) -> PPPK 2024 | AM13: =VLOOKUP(D11,P3K24!A:F,5,FALSE) -> 1220007142113 | AN13: =AJ13-AM13 -> 0
A14: 2 | B14: =VLOOKUP(D14,P3K24!A:E,2,FALSE) -> CICI DIAH CAHYANTI | C14: =VLOOKUP(D14,P3K24!A:E,3,FALSE) -> II/C | D14: 199801132024212019 | E14: =VLOOKUP(D14,P3K24!A:E,4,FALSE) -> 921047304004000 | U14: 4.5 | V14: =SUM(F14:U14)+SUM(F15:T15)-W14 -> 0 | W14: =SUM(F14:G14,M14:N14,T14:U14,F15,K15:L15,N15,R15:S15) -> 18.5 | X14: =+V14 -> 0 | Y14: X | Z14: =VLOOKUP(C14,Tarif!A:B,2,FALSE) -> 24000 | AA14: = | AB14: =X14*Z14 -> 0 | AC14: =COUNTIFS(F14:U14,">=2")+COUNTIFS(F15:T15,">=2")-AC15 -> 0 | AD14: =VLOOKUP(C14,Tarif!D:E,2,FALSE) -> 35000 | AE14: =+AD14*AC14 -> 0 | AG14: =AB14+AE14 -> 0 | AH14: =VLOOKUP(C14,Tarif!G:H,2,FALSE)*AG14 -> 0 | AI14: =AG14-AH14 -> 0 | AK14: IPORT
F15: 6 | N15: 8 | X15: =+W14 -> 18.5 | Y15: X | Z15: =Z14*2 -> 48000 | AA15: = | AB15: =X15*Z15 -> 888000 | AC15: =COUNTIFS(F14:G14,">=2")+COUNTIFS(M14:N14,">=2")+COUNTIFS(T14:U14,">=2")+COUNTIFS(F15,">=2")+COUNTIFS(K15:L15,">=2")+COUNTIFS(N15,">=2")+COUNTIFS(R15:S15,">=2") -> 3 | AD15: =AD14 -> 35000 | AE15: =+AD15*AC15 -> 105000 | AG15: =AB15+AE15 -> 993000 | AH15: =VLOOKUP(C14,Tarif!G:H,2,FALSE)*AG15 -> 0 | AI15: =AG15-AH15 -> 993000
X16: =SUM(X14:X15) -> 18.5 | AB16: =SUM(AB14:AB15) -> 888000 | AC16: =SUM(AC14:AC15) -> 3 | AE16: =SUM(AE14:AE15) -> 105000 | AF16: JML | AG16: =SUM(AG14:AG15) -> 993000 | AH16: =SUM(AH14:AH15) -> 0 | AI16: =SUM(AI14:AI15) -> 993000 | AJ16: 1220012963305 | AL16: =VLOOKUP(D14,P3K24!A:F,6,FALSE) -> PPPK 2024 | AM16: =VLOOKUP(D14,P3K24!A:F,5,FALSE) -> 1220012963305 | AN16: =AJ16-AM16 -> 0
A17: 3 | B17: =VLOOKUP(D17,P3K24!A:E,2,FALSE) -> MUHAMAD ZUHRI ATIQ AL IKHWAN | C17: =VLOOKUP(D17,P3K24!A:E,3,FALSE) -> II/C | D17: 200002142024211007 | E17: =VLOOKUP(D17,P3K24!A:E,4,FALSE) -> 420296329009000 | V17: =SUM(F17:U17)+SUM(F18:T18)-W17 -> 0 | W17: =SUM(F17:G17,M17:N17,T17:U17,F18,K18:L18,N18,R18:S18) -> 8.5 | X17: =+V17 -> 0 | Y17: X | Z17: =VLOOKUP(C17,Tarif!A:B,2,FALSE) -> 24000 | AA17: = | AB17: =X17*Z17 -> 0 | AC17: =COUNTIFS(F17:U17,">=2")+COUNTIFS(F18:T18,">=2")-AC18 -> 0 | AD17: =VLOOKUP(C17,Tarif!D:E,2,FALSE) -> 35000 | AE17: =+AD17*AC17 -> 0 | AG17: =AB17+AE17 -> 0 | AH17: =VLOOKUP(C17,Tarif!G:H,2,FALSE)*AG17 -> 0 | AI17: =AG17-AH17 -> 0 | AK17: IPORT
N18: 8.5 | X18: =+W17 -> 8.5 | Y18: X | Z18: =Z17*2 -> 48000 | AA18: = | AB18: =X18*Z18 -> 408000 | AC18: =COUNTIFS(F17:G17,">=2")+COUNTIFS(M17:N17,">=2")+COUNTIFS(T17:U17,">=2")+COUNTIFS(F18,">=2")+COUNTIFS(K18:L18,">=2")+COUNTIFS(N18,">=2")+COUNTIFS(R18:S18,">=2") -> 1 | AD18: =AD17 -> 35000 | AE18: =+AD18*AC18 -> 35000 | AG18: =AB18+AE18 -> 443000 | AH18: =VLOOKUP(C17,Tarif!G:H,2,FALSE)*AG18 -> 0 | AI18: =AG18-AH18 -> 443000
X19: =SUM(X17:X18) -> 8.5 | AB19: =SUM(AB17:AB18) -> 408000 | AC19: =SUM(AC17:AC18) -> 1 | AE19: =SUM(AE17:AE18) -> 35000 | AF19: JML | AG19: =SUM(AG17:AG18) -> 443000 | AH19: =SUM(AH17:AH18) -> 0 | AI19: =SUM(AI17:AI18) -> 443000 | AJ19: 1220012963289 | AL19: =VLOOKUP(D17,P3K24!A:F,6,FALSE) -> PPPK 2024 | AM19: =VLOOKUP(D17,P3K24!A:F,5,FALSE) -> 1220012963289 | AN19: =AJ19-AM19 -> 0
A20: 4 | B20: =VLOOKUP(D20,P3K24!A:E,2,FALSE) -> ANINDA FITRIANDINI | C20: =VLOOKUP(D20,P3K24!A:E,3,FALSE) -> III/A | D20: 199505042024212053 | E20: =VLOOKUP(D20,P3K24!A:E,4,FALSE) -> 761569334448000 | F20: 7.5 | T20: 10 | V20: =SUM(F20:U20)+SUM(F21:T21)-W20 -> 0 | W20: =SUM(F20:G20,M20:N20,T20:U20,F21,K21:L21,N21,R21:S21) -> 37 | X20: =+V20 -> 0 | Y20: X | Z20: =VLOOKUP(C20,Tarif!A:B,2,FALSE) -> 30000 | AA20: = | AB20: =X20*Z20 -> 0 | AC20: =COUNTIFS(F20:U20,">=2")+COUNTIFS(F21:T21,">=2")-AC21 -> 0 | AD20: =VLOOKUP(C20,Tarif!D:E,2,FALSE) -> 37000 | AE20: =+AD20*AC20 -> 0 | AG20: =AB20+AE20 -> 0 | AH20: =VLOOKUP(C20,Tarif!G:H,2,FALSE)*AG20 -> 0 | AI20: =AG20-AH20 -> 0 | AK20: IPORT
L21: 11 | R21: 8.5 | X21: =+W20 -> 37 | Y21: X | Z21: =Z20*2 -> 60000 | AA21: = | AB21: =X21*Z21 -> 2220000 | AC21: =COUNTIFS(F20:G20,">=2")+COUNTIFS(M20:N20,">=2")+COUNTIFS(T20:U20,">=2")+COUNTIFS(F21,">=2")+COUNTIFS(K21:L21,">=2")+COUNTIFS(N21,">=2")+COUNTIFS(R21:S21,">=2") -> 4 | AD21: =AD20 -> 37000 | AE21: =+AD21*AC21 -> 148000 | AG21: =AB21+AE21 -> 2368000 | AH21: =VLOOKUP(C20,Tarif!G:H,2,FALSE)*AG21 -> 118400 | AI21: =AG21-AH21 -> 2249600
X22: =SUM(X20:X21) -> 37 | AB22: =SUM(AB20:AB21) -> 2220000 | AC22: =SUM(AC20:AC21) -> 4 | AE22: =SUM(AE20:AE21) -> 148000 | AF22: JML | AG22: =SUM(AG20:AG21) -> 2368000 | AH22: =SUM(AH20:AH21) -> 118400 | AI22: =SUM(AI20:AI21) -> 2249600 | AJ22: 1220010098468 | AL22: =VLOOKUP(D20,P3K24!A:F,6,FALSE) -> PPPK 2024 | AM22: =VLOOKUP(D20,P3K24!A:F,5,FALSE) -> 1220010098468 | AN22: =AJ22-AM22 -> 0
A24: T O T A L | AG24: =SUMIFS(AG:AG,$AF:$AF,#REF!,AG:AG,">0") -> #REF! | AH24: =SUMIFS(AH:AH,$AF:$AF,#REF!,AH:AH,">0") -> #REF! | AI24: =SUMIFS(AI:AI,$AF:$AF,#REF!,AI:AI,">0") -> #REF!
AH27: Mengetahui,
AH28: Kepala Instalasi Pelayanan Onkologi Radiasi Terpadu
AH35: Dr. dr. Angela Giselvania, Sp.Onk.Rad(K)
AH36: NIP. 198205252014122003

Sheet Rekap PPPK2025
A1: DIREKTORAT JENDERAL PELAYANAN KESEHATAN
A2: RUMAH SAKIT UMUM PUSAT NASIONAL DR. CIPTO MANGUNKUSUMO
A3: DAFTAR PERHITUNGAN UANG LEMBUR (INSTALASI PELAYANAN ONKOLOGI RADIASI TERPADU) - PEGAWAI PPPK 2025 RSCM
A4: BULAN JUNI 2026
A6: NO | B6: NAMA | C6: GOL | D6: NIP | E6: NPWP | F6: JUMLAH JAM LEMBUR TANGGAL | V6: JUMLAH JAM | X6: PERHITUNGAN UANG LEMBUR DAN UANG MAKAN | AF6: SUM | AG6: JUMLAH KOTOR (Rp) | AH6: PPH | AI6: JUMLAH BERSIH (Rp) | AJ6: NOMOR REKENING | AK6: UNIT KERJA | AL6: DAFTAR GAJI | AM6: NOREK-GAJI | AN6: CEK
F7: 1 | G7: 2 | H7: 3 | I7: 4 | J7: 5 | K7: 6 | L7: 7 | M7: 8 | N7: 9 | O7: 10 | P7: 11 | Q7: 12 | R7: 13 | S7: 14 | T7: 15 | U7: 16 | V7: HARI KERJA (Jam) | W7: HARI LIBUR (Jam) | X7: UANG LEMBUR | AA7: JUMLAH UANG LEMBUR | AC7: UANG MAKAN | AE7: JUMLAH UANG MAKAN
F8: 17 | G8: 18 | H8: 19 | I8: 20 | J8: 21 | K8: 22 | L8: 23 | M8: 24 | N8: 25 | O8: 26 | P8: 27 | Q8: 28 | R8: 29 | S8: 30 | T8: 31
A10: 1 | B10: 2 | C10: 3 | D10: 4 | E10: 5 | F10: 6 | V10: 7 | W10: 8 | X10: 9 | AC10: 10 | AG10: 11 | AH10: 12 | AI10: 13 | AJ10: 14 | AK10: 15 | AL10: 16
A11: 1 | B11: =VLOOKUP(D11,P3K25!A:E,2,FALSE) -> Febriyanti | C11: =VLOOKUP(D11,P3K25!A:E,3,FALSE) -> II/C | D11: 198202112025212037 | E11: =VLOOKUP(D11,P3K25!A:E,4,FALSE) -> 3175055102820009 | V11: =SUM(F11:U11)+SUM(F12:T12)-W11 -> 0 | W11: =SUM(F11:G11,M11:N11,T11:U11,F12,K12:L12,N12,R12:S12) -> 8.5 | X11: =+V11 -> 0 | Y11: X | Z11: =VLOOKUP(C11,Tarif!A:B,2,FALSE) -> 24000 | AA11: = | AB11: =X11*Z11 -> 0 | AC11: =COUNTIFS(F11:U11,">=2")+COUNTIFS(F12:T12,">=2")-AC12 -> 0 | AD11: =VLOOKUP(C11,Tarif!D:E,2,FALSE) -> 35000 | AE11: =+AD11*AC11 -> 0 | AG11: =AB11+AE11 -> 0 | AH11: =VLOOKUP(C11,Tarif!G:H,2,FALSE)*AG11 -> 0 | AI11: =AG11-AH11 -> 0 | AK11: IPORT
N12: 8.5 | X12: =+W11 -> 8.5 | Y12: X | Z12: =Z11*2 -> 48000 | AA12: = | AB12: =X12*Z12 -> 408000 | AC12: =COUNTIFS(F11:G11,">=2")+COUNTIFS(M11:N11,">=2")+COUNTIFS(T11:U11,">=2")+COUNTIFS(F12,">=2")+COUNTIFS(K12:L12,">=2")+COUNTIFS(N12,">=2")+COUNTIFS(R12:S12,">=2") -> 1 | AD12: =AD11 -> 35000 | AE12: =+AD12*AC12 -> 35000 | AG12: =AB12+AE12 -> 443000 | AH12: =VLOOKUP(C11,Tarif!G:H,2,FALSE)*AG12 -> 0 | AI12: =AG12-AH12 -> 443000
X13: =SUM(X11:X12) -> 8.5 | AB13: =SUM(AB11:AB12) -> 408000 | AC13: =SUM(AC11:AC12) -> 1 | AE13: =SUM(AE11:AE12) -> 35000 | AF13: JML | AG13: =SUM(AG11:AG12) -> 443000 | AH13: =SUM(AH11:AH12) -> 0 | AI13: =SUM(AI11:AI12) -> 443000 | AJ13: 1220005981280 | AL13: =VLOOKUP(D11,P3K25!A:F,6,FALSE) -> PPPK P3 | AM13: =VLOOKUP(D11,P3K25!A:F,5,FALSE) -> 1220005981280 | AN13: =AJ13-AM13 -> 0
A14: =1+A11 -> 2 | B14: =VLOOKUP(D14,P3K25!A:E,2,FALSE) -> Awarudin Syaipuloh, A.Md | C14: =VLOOKUP(D14,P3K25!A:E,3,FALSE) -> II/C | D14: 198408072025211043 | E14: =VLOOKUP(D14,P3K25!A:E,4,FALSE) -> 679010884024000 | H14: 3.5 | I14: 3 | V14: =SUM(F14:U14)+SUM(F15:T15)-W14 -> 9.5 | W14: =SUM(F14:G14,M14:N14,T14:U14,F15,K15:L15,N15,R15:S15) -> 0 | X14: =+V14 -> 9.5 | Y14: X | Z14: =VLOOKUP(C14,Tarif!A:B,2,FALSE) -> 24000 | AA14: = | AB14: =X14*Z14 -> 228000 | AC14: =COUNTIFS(F14:U14,">=2")+COUNTIFS(F15:T15,">=2")-AC15 -> 3 | AD14: =VLOOKUP(C14,Tarif!D:E,2,FALSE) -> 35000 | AE14: =+AD14*AC14 -> 105000 | AG14: =AB14+AE14 -> 333000 | AH14: =VLOOKUP(C14,Tarif!G:H,2,FALSE)*AG14 -> 0 | AI14: =AG14-AH14 -> 333000 | AK14: IPORT
T15: 3 | X15: =+W14 -> 0 | Y15: X | Z15: =Z14*2 -> 48000 | AA15: = | AB15: =X15*Z15 -> 0 | AC15: =COUNTIFS(F14:G14,">=2")+COUNTIFS(M14:N14,">=2")+COUNTIFS(T14:U14,">=2")+COUNTIFS(F15,">=2")+COUNTIFS(K15:L15,">=2")+COUNTIFS(N15,">=2")+COUNTIFS(R15:S15,">=2") -> 0 | AD15: =AD14 -> 35000 | AE15: =+AD15*AC15 -> 0 | AG15: =AB15+AE15 -> 0 | AH15: =VLOOKUP(C14,Tarif!G:H,2,FALSE)*AG15 -> 0 | AI15: =AG15-AH15 -> 0
X16: =SUM(X14:X15) -> 9.5 | AB16: =SUM(AB14:AB15) -> 228000 | AC16: =SUM(AC14:AC15) -> 3 | AE16: =SUM(AE14:AE15) -> 105000 | AF16: JML | AG16: =SUM(AG14:AG15) -> 333000 | AH16: =SUM(AH14:AH15) -> 0 | AI16: =SUM(AI14:AI15) -> 333000 | AJ16: 1220004346972 | AL16: =VLOOKUP(D14,P3K25!A:F,6,FALSE) -> PPPK P3 | AM16: =VLOOKUP(D14,P3K25!A:F,5,FALSE) -> 1220004346972 | AN16: =AJ16-AM16 -> 0
A17: =1+A14 -> 3 | B17: =VLOOKUP(D17,P3K25!A:E,2,FALSE) -> #N/A | C17: =VLOOKUP(D17,P3K25!A:E,3,FALSE) -> #N/A | E17: =VLOOKUP(D17,P3K25!A:E,4,FALSE) -> #N/A | V17: =SUM(F17:U17)+SUM(F18:T18)-W17 -> 0 | W17: =SUM(F17:G17,M17:N17,T17:U17,F18,K18:L18,N18,R18:S18) -> 0 | X17: =+V17 -> 0 | Y17: X | Z17: =VLOOKUP(C17,Tarif!A:B,2,FALSE) -> #N/A | AA17: = | AB17: =X17*Z17 -> #N/A | AC17: =COUNTIFS(F17:U17,">=2")+COUNTIFS(F18:T18,">=2")-AC18 -> 0 | AD17: =VLOOKUP(C17,Tarif!D:E,2,FALSE) -> #N/A | AE17: =+AD17*AC17 -> #N/A | AG17: =AB17+AE17 -> #N/A | AH17: =VLOOKUP(C17,Tarif!G:H,2,FALSE)*AG17 -> #N/A | AI17: =AG17-AH17 -> #N/A | AK17: IPORT
X18: =+W17 -> 0 | Y18: X | Z18: =Z17*2 -> #N/A | AA18: = | AB18: =X18*Z18 -> #N/A | AC18: =COUNTIFS(F17:G17,">=2")+COUNTIFS(M17:N17,">=2")+COUNTIFS(T17:U17,">=2")+COUNTIFS(F18,">=2")+COUNTIFS(K18:L18,">=2")+COUNTIFS(N18,">=2")+COUNTIFS(R18:S18,">=2") -> 0 | AD18: =AD17 -> #N/A | AE18: =+AD18*AC18 -> #N/A | AG18: =AB18+AE18 -> #N/A | AH18: =VLOOKUP(C17,Tarif!G:H,2,FALSE)*AG18 -> #N/A | AI18: =AG18-AH18 -> #N/A
X19: =SUM(X17:X18) -> 0 | AB19: =SUM(AB17:AB18) -> #N/A | AC19: =SUM(AC17:AC18) -> 0 | AE19: =SUM(AE17:AE18) -> #N/A | AF19: JML | AG19: =SUM(AG17:AG18) -> #N/A | AH19: =SUM(AH17:AH18) -> #N/A | AI19: =SUM(AI17:AI18) -> #N/A | AJ19: 1220005981280 | AL19: =VLOOKUP(D17,P3K25!A:F,6,FALSE) -> #N/A | AM19: =VLOOKUP(D17,P3K25!A:F,5,FALSE) -> #N/A | AN19: =AJ19-AM19 -> #N/A
A20: =+#REF!+1 -> #REF! | B20: =VLOOKUP(D20,P3K25!A:E,2,FALSE) -> Yun Maulida, SE. | C20: =VLOOKUP(D20,P3K25!A:E,3,FALSE) -> III/A | D20: 198202022025212071 | E20: =VLOOKUP(D20,P3K25!A:E,4,FALSE) -> 799537436412000 | V20: =SUM(F20:U20)+SUM(F21:T21)-W20 -> 0 | W20: =SUM(F20,K20:L20,R20:S20,U20,I21:J21,P21:Q21) -> 0 | X20: =+V20 -> 0 | Y20: X | Z20: =VLOOKUP(C20,Tarif!A:B,2,FALSE) -> 30000 | AA20: = | AB20: =X20*Z20 -> 0 | AC20: =COUNTIFS(F20:U20,">=3")+COUNTIFS(F21:T21,">=3")-AC21 -> 0 | AD20: =VLOOKUP(C20,Tarif!D:E,2,FALSE) -> 37000 | AE20: =+AD20*AC20 -> 0 | AG20: =AB20+AE20 -> 0 | AH20: =VLOOKUP(C20,Tarif!G:H,2,FALSE)*AG20 -> 0 | AI20: =AG20-AH20 -> 0
X21: =+W20 -> 0 | Y21: X | Z21: =Z20*2 -> 60000 | AA21: = | AB21: =X21*Z21 -> 0 | AC21: =COUNTIFS(F20:G20,">=3")+COUNTIFS(M20:N20,">=3")+COUNTIFS(K21:L21,">=3")+COUNTIFS(R21:S21,">=3")+COUNTIFS(T20:U20,">=3") -> 0 | AD21: =AD20 -> 37000 | AE21: =+AD21*AC21 -> 0 | AG21: =AB21+AE21 -> 0 | AH21: =VLOOKUP(C20,Tarif!G:H,2,FALSE)*AG21 -> 0 | AI21: =AG21-AH21 -> 0
X22: =SUM(X20:X21) -> 0 | AB22: =SUM(AB20:AB21) -> 0 | AC22: =SUM(AC20:AC21) -> 0 | AE22: =SUM(AE20:AE21) -> 0 | AF22: JML | AG22: =SUM(AG20:AG21) -> 0 | AH22: =SUM(AH20:AH21) -> 0 | AI22: =SUM(AI20:AI21) -> 0 | AL22: =VLOOKUP(D20,P3K25!A:F,6,FALSE) -> PPPK P3 | AM22: =VLOOKUP(D20,P3K25!A:F,5,FALSE) -> 1220005252799 | AN22: =AJ22-AM22 -> -1220005252799
A23: =+A20+1 -> #REF! | B23: =VLOOKUP(D23,P3K25!A:E,2,FALSE) -> #N/A | C23: =VLOOKUP(D23,P3K25!A:E,3,FALSE) -> #N/A | E23: =VLOOKUP(D23,P3K25!A:E,4,FALSE) -> #N/A | V23: =SUM(F23:U23)+SUM(F24:T24)-W23 -> 0 | W23: =SUM(F23,K23:L23,R23:S23,U23,I24:J24,P24:Q24) -> 0 | X23: =+V23 -> 0 | Y23: X | Z23: =VLOOKUP(C23,Tarif!A:B,2,FALSE) -> #N/A | AA23: = | AB23: =X23*Z23 -> #N/A | AC23: =COUNTIFS(F23:U23,">=3")+COUNTIFS(F24:T24,">=3")-AC24 -> 0 | AD23: =VLOOKUP(C23,Tarif!D:E,2,FALSE) -> #N/A | AE23: =+AD23*AC23 -> #N/A | AG23: =AB23+AE23 -> #N/A | AH23: =VLOOKUP(C23,Tarif!G:H,2,FALSE)*AG23 -> #N/A | AI23: =AG23-AH23 -> #N/A
X24: =+W23 -> 0 | Y24: X | Z24: =Z23*2 -> #N/A | AA24: = | AB24: =X24*Z24 -> #N/A | AC24: =COUNTIFS(F23:G23,">=3")+COUNTIFS(M23:N23,">=3")+COUNTIFS(K24:L24,">=3")+COUNTIFS(R24:S24,">=3")+COUNTIFS(T23:U23,">=3") -> 0 | AD24: =AD23 -> #N/A | AE24: =+AD24*AC24 -> #N/A | AG24: =AB24+AE24 -> #N/A | AH24: =VLOOKUP(C23,Tarif!G:H,2,FALSE)*AG24 -> #N/A | AI24: =AG24-AH24 -> #N/A
X25: =SUM(X23:X24) -> 0 | AB25: =SUM(AB23:AB24) -> #N/A | AC25: =SUM(AC23:AC24) -> 0 | AE25: =SUM(AE23:AE24) -> #N/A | AF25: JML | AG25: =SUM(AG23:AG24) -> #N/A | AH25: =SUM(AH23:AH24) -> #N/A | AI25: =SUM(AI23:AI24) -> #N/A | AL25: =VLOOKUP(D23,P3K25!A:F,6,FALSE) -> #N/A | AM25: =VLOOKUP(D23,P3K25!A:F,5,FALSE) -> #N/A | AN25: =AJ25-AM25 -> #N/A
A26: =+A23+1 -> #REF! | B26: =VLOOKUP(D26,P3K25!A:E,2,FALSE) -> #N/A | C26: =VLOOKUP(D26,P3K25!A:E,3,FALSE) -> #N/A | E26: =VLOOKUP(D26,P3K25!A:E,4,FALSE) -> #N/A | V26: =SUM(F26:U26)+SUM(F27:T27)-W26 -> 0 | W26: =SUM(F26,K26:L26,R26:S26,U26,I27:J27,P27:Q27) -> 0 | X26: =+V26 -> 0 | Y26: X | Z26: =VLOOKUP(C26,Tarif!A:B,2,FALSE) -> #N/A | AA26: = | AB26: =X26*Z26 -> #N/A | AC26: =COUNTIFS(F26:U26,">=3")+COUNTIFS(F27:T27,">=3")-AC27 -> 0 | AD26: =VLOOKUP(C26,Tarif!D:E,2,FALSE) -> #N/A | AE26: =+AD26*AC26 -> #N/A | AG26: =AB26+AE26 -> #N/A | AH26: =VLOOKUP(C26,Tarif!G:H,2,FALSE)*AG26 -> #N/A | AI26: =AG26-AH26 -> #N/A
X27: =+W26 -> 0 | Y27: X | Z27: =Z26*2 -> #N/A | AA27: = | AB27: =X27*Z27 -> #N/A | AC27: =COUNTIFS(F26:G26,">=3")+COUNTIFS(M26:N26,">=3")+COUNTIFS(K27:L27,">=3")+COUNTIFS(R27:S27,">=3")+COUNTIFS(T26:U26,">=3") -> 0 | AD27: =AD26 -> #N/A | AE27: =+AD27*AC27 -> #N/A | AG27: =AB27+AE27 -> #N/A | AH27: =VLOOKUP(C26,Tarif!G:H,2,FALSE)*AG27 -> #N/A | AI27: =AG27-AH27 -> #N/A
X28: =SUM(X26:X27) -> 0 | AB28: =SUM(AB26:AB27) -> #N/A | AC28: =SUM(AC26:AC27) -> 0 | AE28: =SUM(AE26:AE27) -> #N/A | AF28: JML | AG28: =SUM(AG26:AG27) -> #N/A | AH28: =SUM(AH26:AH27) -> #N/A | AI28: =SUM(AI26:AI27) -> #N/A | AL28: =VLOOKUP(D26,P3K25!A:F,6,FALSE) -> #N/A | AM28: =VLOOKUP(D26,P3K25!A:F,5,FALSE) -> #N/A | AN28: =AJ28-AM28 -> #N/A
A29: =+A26+1 -> #REF! | B29: =VLOOKUP(D29,P3K25!A:E,2,FALSE) -> #N/A | C29: =VLOOKUP(D29,P3K25!A:E,3,FALSE) -> #N/A | E29: =VLOOKUP(D29,P3K25!A:E,4,FALSE) -> #N/A | V29: =SUM(F29:U29)+SUM(F30:T30)-W29 -> 0 | W29: =SUM(F29,K29:L29,R29:S29,U29,I30:J30,P30:Q30) -> 0 | X29: =+V29 -> 0 | Y29: X | Z29: =VLOOKUP(C29,Tarif!A:B,2,FALSE) -> #N/A | AA29: = | AB29: =X29*Z29 -> #N/A | AC29: =COUNTIFS(F29:U29,">=3")+COUNTIFS(F30:T30,">=3")-AC30 -> 0 | AD29: =VLOOKUP(C29,Tarif!D:E,2,FALSE) -> #N/A | AE29: =+AD29*AC29 -> #N/A | AG29: =AB29+AE29 -> #N/A | AH29: =VLOOKUP(C29,Tarif!G:H,2,FALSE)*AG29 -> #N/A | AI29: =AG29-AH29 -> #N/A
X30: =+W29 -> 0 | Y30: X | Z30: =Z29*2 -> #N/A | AA30: = | AB30: =X30*Z30 -> #N/A | AC30: =COUNTIFS(F29:G29,">=3")+COUNTIFS(M29:N29,">=3")+COUNTIFS(K30:L30,">=3")+COUNTIFS(R30:S30,">=3")+COUNTIFS(T29:U29,">=3") -> 0 | AD30: =AD29 -> #N/A | AE30: =+AD30*AC30 -> #N/A | AG30: =AB30+AE30 -> #N/A | AH30: =VLOOKUP(C29,Tarif!G:H,2,FALSE)*AG30 -> #N/A | AI30: =AG30-AH30 -> #N/A
X31: =SUM(X29:X30) -> 0 | AB31: =SUM(AB29:AB30) -> #N/A | AC31: =SUM(AC29:AC30) -> 0 | AE31: =SUM(AE29:AE30) -> #N/A | AF31: JML | AG31: =SUM(AG29:AG30) -> #N/A | AH31: =SUM(AH29:AH30) -> #N/A | AI31: =SUM(AI29:AI30) -> #N/A | AL31: =VLOOKUP(D29,P3K25!A:F,6,FALSE) -> #N/A | AM31: =VLOOKUP(D29,P3K25!A:F,5,FALSE) -> #N/A | AN31: =AJ31-AM31 -> #N/A
A32: =+A29+1 -> #REF! | B32: =VLOOKUP(D32,P3K25!A:E,2,FALSE) -> #N/A | C32: =VLOOKUP(D32,P3K25!A:E,3,FALSE) -> #N/A | E32: =VLOOKUP(D32,P3K25!A:E,4,FALSE) -> #N/A | V32: =SUM(F32:U32)+SUM(F33:T33)-W32 -> 0 | W32: =SUM(F32,K32:L32,R32:S32,U32,I33:J33,P33:Q33) -> 0 | X32: =+V32 -> 0 | Y32: X | Z32: =VLOOKUP(C32,Tarif!A:B,2,FALSE) -> #N/A | AA32: = | AB32: =X32*Z32 -> #N/A | AC32: =COUNTIFS(F32:U32,">=3")+COUNTIFS(F33:T33,">=3")-AC33 -> 0 | AD32: =VLOOKUP(C32,Tarif!D:E,2,FALSE) -> #N/A | AE32: =+AD32*AC32 -> #N/A | AG32: =AB32+AE32 -> #N/A | AH32: =VLOOKUP(C32,Tarif!G:H,2,FALSE)*AG32 -> #N/A | AI32: =AG32-AH32 -> #N/A
X33: =+W32 -> 0 | Y33: X | Z33: =Z32*2 -> #N/A | AA33: = | AB33: =X33*Z33 -> #N/A | AC33: =COUNTIFS(F32:G32,">=3")+COUNTIFS(M32:N32,">=3")+COUNTIFS(K33:L33,">=3")+COUNTIFS(R33:S33,">=3")+COUNTIFS(T32:U32,">=3") -> 0 | AD33: =AD32 -> #N/A | AE33: =+AD33*AC33 -> #N/A | AG33: =AB33+AE33 -> #N/A | AH33: =VLOOKUP(C32,Tarif!G:H,2,FALSE)*AG33 -> #N/A | AI33: =AG33-AH33 -> #N/A
X34: =SUM(X32:X33) -> 0 | AB34: =SUM(AB32:AB33) -> #N/A | AC34: =SUM(AC32:AC33) -> 0 | AE34: =SUM(AE32:AE33) -> #N/A | AF34: JML | AG34: =SUM(AG32:AG33) -> #N/A | AH34: =SUM(AH32:AH33) -> #N/A | AI34: =SUM(AI32:AI33) -> #N/A | AL34: =VLOOKUP(D32,P3K25!A:F,6,FALSE) -> #N/A | AM34: =VLOOKUP(D32,P3K25!A:F,5,FALSE) -> #N/A | AN34: =AJ34-AM34 -> #N/A
A35: =+A32+1 -> #REF! | B35: =VLOOKUP(D35,P3K25!A:E,2,FALSE) -> #N/A | C35: =VLOOKUP(D35,P3K25!A:E,3,FALSE) -> #N/A | E35: =VLOOKUP(D35,P3K25!A:E,4,FALSE) -> #N/A | V35: =SUM(F35:U35)+SUM(F36:T36)-W35 -> 0 | W35: =SUM(F35,K35:L35,R35:S35,U35,I36:J36,P36:Q36) -> 0 | X35: =+V35 -> 0 | Y35: X | Z35: =VLOOKUP(C35,Tarif!A:B,2,FALSE) -> #N/A | AA35: = | AB35: =X35*Z35 -> #N/A | AC35: =COUNTIFS(F35:U35,">=3")+COUNTIFS(F36:T36,">=3")-AC36 -> 0 | AD35: =VLOOKUP(C35,Tarif!D:E,2,FALSE) -> #N/A | AE35: =+AD35*AC35 -> #N/A | AG35: =AB35+AE35 -> #N/A | AH35: =VLOOKUP(C35,Tarif!G:H,2,FALSE)*AG35 -> #N/A | AI35: =AG35-AH35 -> #N/A
X36: =+W35 -> 0 | Y36: X | Z36: =Z35*2 -> #N/A | AA36: = | AB36: =X36*Z36 -> #N/A | AC36: =COUNTIFS(F35:G35,">=3")+COUNTIFS(M35:N35,">=3")+COUNTIFS(K36:L36,">=3")+COUNTIFS(R36:S36,">=3")+COUNTIFS(T35:U35,">=3") -> 0 | AD36: =AD35 -> #N/A | AE36: =+AD36*AC36 -> #N/A | AG36: =AB36+AE36 -> #N/A | AH36: =VLOOKUP(C35,Tarif!G:H,2,FALSE)*AG36 -> #N/A | AI36: =AG36-AH36 -> #N/A
X37: =SUM(X35:X36) -> 0 | AB37: =SUM(AB35:AB36) -> #N/A | AC37: =SUM(AC35:AC36) -> 0 | AE37: =SUM(AE35:AE36) -> #N/A | AF37: JML | AG37: =SUM(AG35:AG36) -> #N/A | AH37: =SUM(AH35:AH36) -> #N/A | AI37: =SUM(AI35:AI36) -> #N/A | AL37: =VLOOKUP(D35,P3K25!A:F,6,FALSE) -> #N/A | AM37: =VLOOKUP(D35,P3K25!A:F,5,FALSE) -> #N/A | AN37: =AJ37-AM37 -> #N/A
A38: =+A35+1 -> #REF! | B38: =VLOOKUP(D38,P3K25!A:E,2,FALSE) -> #N/A | C38: =VLOOKUP(D38,P3K25!A:E,3,FALSE) -> #N/A | E38: =VLOOKUP(D38,P3K25!A:E,4,FALSE) -> #N/A | V38: =SUM(F38:U38)+SUM(F39:T39)-W38 -> 0 | W38: =SUM(F38,K38:L38,R38:S38,U38,I39:J39,P39:Q39) -> 0 | X38: =+V38 -> 0 | Y38: X | Z38: =VLOOKUP(C38,Tarif!A:B,2,FALSE) -> #N/A | AA38: = | AB38: =X38*Z38 -> #N/A | AC38: =COUNTIFS(F38:U38,">=3")+COUNTIFS(F39:T39,">=3")-AC39 -> 0 | AD38: =VLOOKUP(C38,Tarif!D:E,2,FALSE) -> #N/A | AE38: =+AD38*AC38 -> #N/A | AG38: =AB38+AE38 -> #N/A | AH38: =VLOOKUP(C38,Tarif!G:H,2,FALSE)*AG38 -> #N/A | AI38: =AG38-AH38 -> #N/A
X39: =+W38 -> 0 | Y39: X | Z39: =Z38*2 -> #N/A | AA39: = | AB39: =X39*Z39 -> #N/A | AC39: =COUNTIFS(F38:G38,">=3")+COUNTIFS(M38:N38,">=3")+COUNTIFS(K39:L39,">=3")+COUNTIFS(R39:S39,">=3")+COUNTIFS(T38:U38,">=3") -> 0 | AD39: =AD38 -> #N/A | AE39: =+AD39*AC39 -> #N/A | AG39: =AB39+AE39 -> #N/A | AH39: =VLOOKUP(C38,Tarif!G:H,2,FALSE)*AG39 -> #N/A | AI39: =AG39-AH39 -> #N/A
X40: =SUM(X38:X39) -> 0 | AB40: =SUM(AB38:AB39) -> #N/A | AC40: =SUM(AC38:AC39) -> 0 | AE40: =SUM(AE38:AE39) -> #N/A | AF40: JML | AG40: =SUM(AG38:AG39) -> #N/A | AH40: =SUM(AH38:AH39) -> #N/A | AI40: =SUM(AI38:AI39) -> #N/A | AL40: =VLOOKUP(D38,P3K25!A:F,6,FALSE) -> #N/A | AM40: =VLOOKUP(D38,P3K25!A:F,5,FALSE) -> #N/A | AN40: =AJ40-AM40 -> #N/A
A41: =+A38+1 -> #REF! | B41: =VLOOKUP(D41,P3K25!A:E,2,FALSE) -> #N/A | C41: =VLOOKUP(D41,P3K25!A:E,3,FALSE) -> #N/A | E41: =VLOOKUP(D41,P3K25!A:E,4,FALSE) -> #N/A | V41: =SUM(F41:U41)+SUM(F42:T42)-W41 -> 0 | W41: =SUM(F41,K41:L41,R41:S41,U41,I42:J42,P42:Q42) -> 0 | X41: =+V41 -> 0 | Y41: X | Z41: =VLOOKUP(C41,Tarif!A:B,2,FALSE) -> #N/A | AA41: = | AB41: =X41*Z41 -> #N/A | AC41: =COUNTIFS(F41:U41,">=3")+COUNTIFS(F42:T42,">=3")-AC42 -> 0 | AD41: =VLOOKUP(C41,Tarif!D:E,2,FALSE) -> #N/A | AE41: =+AD41*AC41 -> #N/A | AG41: =AB41+AE41 -> #N/A | AH41: =VLOOKUP(C41,Tarif!G:H,2,FALSE)*AG41 -> #N/A | AI41: =AG41-AH41 -> #N/A
X42: =+W41 -> 0 | Y42: X | Z42: =Z41*2 -> #N/A | AA42: = | AB42: =X42*Z42 -> #N/A | AC42: =COUNTIFS(F41:G41,">=3")+COUNTIFS(M41:N41,">=3")+COUNTIFS(K42:L42,">=3")+COUNTIFS(R42:S42,">=3")+COUNTIFS(T41:U41,">=3") -> 0 | AD42: =AD41 -> #N/A | AE42: =+AD42*AC42 -> #N/A | AG42: =AB42+AE42 -> #N/A | AH42: =VLOOKUP(C41,Tarif!G:H,2,FALSE)*AG42 -> #N/A | AI42: =AG42-AH42 -> #N/A
X43: =SUM(X41:X42) -> 0 | AB43: =SUM(AB41:AB42) -> #N/A | AC43: =SUM(AC41:AC42) -> 0 | AE43: =SUM(AE41:AE42) -> #N/A | AF43: JML | AG43: =SUM(AG41:AG42) -> #N/A | AH43: =SUM(AH41:AH42) -> #N/A | AI43: =SUM(AI41:AI42) -> #N/A | AL43: =VLOOKUP(D41,P3K25!A:F,6,FALSE) -> #N/A | AM43: =VLOOKUP(D41,P3K25!A:F,5,FALSE) -> #N/A | AN43: =AJ43-AM43 -> #N/A
A44: =+A41+1 -> #REF! | B44: =VLOOKUP(D44,P3K25!A:E,2,FALSE) -> #N/A | C44: =VLOOKUP(D44,P3K25!A:E,3,FALSE) -> #N/A | E44: =VLOOKUP(D44,P3K25!A:E,4,FALSE) -> #N/A | V44: =SUM(F44:U44)+SUM(F45:T45)-W44 -> 0 | W44: =SUM(F44,K44:L44,R44:S44,U44,I45:J45,P45:Q45) -> 0 | X44: =+V44 -> 0 | Y44: X | Z44: =VLOOKUP(C44,Tarif!A:B,2,FALSE) -> #N/A | AA44: = | AB44: =X44*Z44 -> #N/A | AC44: =COUNTIFS(F44:U44,">=3")+COUNTIFS(F45:T45,">=3")-AC45 -> 0 | AD44: =VLOOKUP(C44,Tarif!D:E,2,FALSE) -> #N/A | AE44: =+AD44*AC44 -> #N/A | AG44: =AB44+AE44 -> #N/A | AH44: =VLOOKUP(C44,Tarif!G:H,2,FALSE)*AG44 -> #N/A | AI44: =AG44-AH44 -> #N/A
X45: =+W44 -> 0 | Y45: X | Z45: =Z44*2 -> #N/A | AA45: = | AB45: =X45*Z45 -> #N/A | AC45: =COUNTIFS(F44:G44,">=3")+COUNTIFS(M44:N44,">=3")+COUNTIFS(K45:L45,">=3")+COUNTIFS(R45:S45,">=3")+COUNTIFS(T44:U44,">=3") -> 0 | AD45: =AD44 -> #N/A | AE45: =+AD45*AC45 -> #N/A | AG45: =AB45+AE45 -> #N/A | AH45: =VLOOKUP(C44,Tarif!G:H,2,FALSE)*AG45 -> #N/A | AI45: =AG45-AH45 -> #N/A
X46: =SUM(X44:X45) -> 0 | AB46: =SUM(AB44:AB45) -> #N/A | AC46: =SUM(AC44:AC45) -> 0 | AE46: =SUM(AE44:AE45) -> #N/A | AF46: JML | AG46: =SUM(AG44:AG45) -> #N/A | AH46: =SUM(AH44:AH45) -> #N/A | AI46: =SUM(AI44:AI45) -> #N/A | AL46: =VLOOKUP(D44,P3K25!A:F,6,FALSE) -> #N/A | AM46: =VLOOKUP(D44,P3K25!A:F,5,FALSE) -> #N/A | AN46: =AJ46-AM46 -> #N/A
A47: =+A44+1 -> #REF! | B47: =VLOOKUP(D47,P3K25!A:E,2,FALSE) -> #N/A | C47: =VLOOKUP(D47,P3K25!A:E,3,FALSE) -> #N/A | E47: =VLOOKUP(D47,P3K25!A:E,4,FALSE) -> #N/A | V47: =SUM(F47:U47)+SUM(F48:T48)-W47 -> 0 | W47: =SUM(F47,K47:L47,R47:S47,U47,I48:J48,P48:Q48) -> 0 | X47: =+V47 -> 0 | Y47: X | Z47: =VLOOKUP(C47,Tarif!A:B,2,FALSE) -> #N/A | AA47: = | AB47: =X47*Z47 -> #N/A | AC47: =COUNTIFS(F47:U47,">=3")+COUNTIFS(F48:T48,">=3")-AC48 -> 0 | AD47: =VLOOKUP(C47,Tarif!D:E,2,FALSE) -> #N/A | AE47: =+AD47*AC47 -> #N/A | AG47: =AB47+AE47 -> #N/A | AH47: =VLOOKUP(C47,Tarif!G:H,2,FALSE)*AG47 -> #N/A | AI47: =AG47-AH47 -> #N/A
X48: =+W47 -> 0 | Y48: X | Z48: =Z47*2 -> #N/A | AA48: = | AB48: =X48*Z48 -> #N/A | AC48: =COUNTIFS(F47:G47,">=3")+COUNTIFS(M47:N47,">=3")+COUNTIFS(K48:L48,">=3")+COUNTIFS(R48:S48,">=3")+COUNTIFS(T47:U47,">=3") -> 0 | AD48: =AD47 -> #N/A | AE48: =+AD48*AC48 -> #N/A | AG48: =AB48+AE48 -> #N/A | AH48: =VLOOKUP(C47,Tarif!G:H,2,FALSE)*AG48 -> #N/A | AI48: =AG48-AH48 -> #N/A
X49: =SUM(X47:X48) -> 0 | AB49: =SUM(AB47:AB48) -> #N/A | AC49: =SUM(AC47:AC48) -> 0 | AE49: =SUM(AE47:AE48) -> #N/A | AF49: JML | AG49: =SUM(AG47:AG48) -> #N/A | AH49: =SUM(AH47:AH48) -> #N/A | AI49: =SUM(AI47:AI48) -> #N/A | AL49: =VLOOKUP(D47,P3K25!A:F,6,FALSE) -> #N/A | AM49: =VLOOKUP(D47,P3K25!A:F,5,FALSE) -> #N/A | AN49: =AJ49-AM49 -> #N/A
A50: =+A47+1 -> #REF! | B50: =VLOOKUP(D50,P3K25!A:E,2,FALSE) -> #N/A | C50: =VLOOKUP(D50,P3K25!A:E,3,FALSE) -> #N/A | E50: =VLOOKUP(D50,P3K25!A:E,4,FALSE) -> #N/A | V50: =SUM(F50:U50)+SUM(F51:T51)-W50 -> 0 | W50: =SUM(F50,K50:L50,R50:S50,U50,I51:J51,P51:Q51) -> 0 | X50: =+V50 -> 0 | Y50: X | Z50: =VLOOKUP(C50,Tarif!A:B,2,FALSE) -> #N/A | AA50: = | AB50: =X50*Z50 -> #N/A | AC50: =COUNTIFS(F50:U50,">=3")+COUNTIFS(F51:T51,">=3")-AC51 -> 0 | AD50: =VLOOKUP(C50,Tarif!D:E,2,FALSE) -> #N/A | AE50: =+AD50*AC50 -> #N/A | AG50: =AB50+AE50 -> #N/A | AH50: =VLOOKUP(C50,Tarif!G:H,2,FALSE)*AG50 -> #N/A | AI50: =AG50-AH50 -> #N/A
X51: =+W50 -> 0 | Y51: X | Z51: =Z50*2 -> #N/A | AA51: = | AB51: =X51*Z51 -> #N/A | AC51: =COUNTIFS(F50:G50,">=3")+COUNTIFS(M50:N50,">=3")+COUNTIFS(K51:L51,">=3")+COUNTIFS(R51:S51,">=3")+COUNTIFS(T50:U50,">=3") -> 0 | AD51: =AD50 -> #N/A | AE51: =+AD51*AC51 -> #N/A | AG51: =AB51+AE51 -> #N/A | AH51: =VLOOKUP(C50,Tarif!G:H,2,FALSE)*AG51 -> #N/A | AI51: =AG51-AH51 -> #N/A
X52: =SUM(X50:X51) -> 0 | AB52: =SUM(AB50:AB51) -> #N/A | AC52: =SUM(AC50:AC51) -> 0 | AE52: =SUM(AE50:AE51) -> #N/A | AF52: JML | AG52: =SUM(AG50:AG51) -> #N/A | AH52: =SUM(AH50:AH51) -> #N/A | AI52: =SUM(AI50:AI51) -> #N/A | AL52: =VLOOKUP(D50,P3K25!A:F,6,FALSE) -> #N/A | AM52: =VLOOKUP(D50,P3K25!A:F,5,FALSE) -> #N/A | AN52: =AJ52-AM52 -> #N/A
W53: =SUM(F53,K53:L53,R53:S53,U53,I54:J54,P54:Q54) -> 0
A54: T O T A L | AG54: =SUMIFS(AG:AG,$AF:$AF,$AF$16,AG:AG,">0") -> #REF! | AH54: =SUMIFS(AH:AH,$AF:$AF,$AF$16,AH:AH,">0") -> #REF! | AI54: =SUMIFS(AI:AI,$AF:$AF,$AF$16,AI:AI,">0") -> #REF!
AG57: Mengetahui,
AG58: Kepala Instalasi Pelayanan Onkologi Radiasi Terpadu
AG65: Dr. dr. Angela Giselvania, Sp.Onk.Rad(K)
AG66: NIP. 198205252014122003

Sheet Rekap NPS
A1: DIREKTORAT JENDERAL PELAYANAN KESEHATAN
A2: RUMAH SAKIT UMUM PUSAT NASIONAL DR. CIPTO MANGUNKUSUMO
A3: DAFTAR PERHITUNGAN UANG LEMBUR (INSTALASI PELAYANAN ONKOLOGI RADIASI TERPADU) - PEGAWAI BLU RSCM
A4: BULAN JUNI 2026
A6: NO | B6: NAMA | C6: KJ | D6: NPS | E6: NPWP | F6: JUMLAH JAM LEMBUR TANGGAL | V6: JUMLAH JAM | X6: PERHITUNGAN UANG LEMBUR DAN UANG MAKAN | AF6: SUM | AG6: JUMLAH KOTOR (Rp) | AH6: PPH | AI6: JUMLAH BERSIH (Rp) | AJ6: NOMOR REKENING | AK6: UNIT KERJA | AM6: NOREK-GAJI | AN6: CEK
F7: 1 | G7: 2 | H7: 3 | I7: 4 | J7: 5 | K7: 6 | L7: 7 | M7: 8 | N7: 9 | O7: 10 | P7: 11 | Q7: 12 | R7: 13 | S7: 14 | T7: 15 | U7: 16 | V7: HARI KERJA (Jam) | W7: HARI LIBUR (Jam) | X7: UANG LEMBUR | AA7: JUMLAH UANG LEMBUR | AC7: UANG MAKAN | AE7: JUMLAH UANG MAKAN
F8: 17 | G8: 18 | H8: 19 | I8: 20 | J8: 21 | K8: 22 | L8: 23 | M8: 24 | N8: 25 | O8: 26 | P8: 27 | Q8: 28 | R8: 29 | S8: 30 | T8: 31
A10: 1 | B10: 2 | C10: 3 | D10: 4 | E10: 5 | F10: 6 | V10: 7 | W10: 8 | X10: 9 | AC10: 10 | AG10: 11 | AH10: 12 | AI10: 13 | AJ10: 14 | AK10: 15
A11: 1 | B11: =VLOOKUP(D11,NPS!A:E,2,FALSE) -> Ai Yulia Sofyana, Amd.Prs | C11: =VLOOKUP(D11,NPS!A:E,3,FALSE) -> KJ2 | D11: NPS146090 | E11: =VLOOKUP(D11,NPS!A:E,5,FALSE) -> 826799702438000 | S11: 2 | V11: =SUM(F11:U11)+SUM(F12:T12)-W11 -> 2 | W11: =SUM(F11:G11,M11:N11,T11:U11,F12,K12:L12,N12,R12:S12) -> 0 | X11: =+V11 -> 2 | Y11: X | Z11: =VLOOKUP(C11,Tarif!A:B,2,FALSE) -> 13000 | AA11: = | AB11: =X11*Z11 -> 26000 | AC11: =COUNTIFS(F11:U11,">=3")+COUNTIFS(F12:T12,">=3")-AC12 -> 0 | AD11: =VLOOKUP(C11,Tarif!D:E,2,FALSE) -> 35000 | AE11: =+AD11*AC11 -> 0 | AG11: =AB11+AE11 -> 26000 | AH11: =VLOOKUP(C11,Tarif!G:H,2,FALSE)*AG11 -> 0 | AI11: =AG11-AH11 -> 26000 | AK11: IPORT
X12: =+W11 -> 0 | Y12: X | Z12: =Z11*2 -> 26000 | AA12: = | AB12: =X12*Z12 -> 0 | AC12: =COUNTIFS(F11:G11,">=3")+COUNTIFS(M11:N11,">=3")+COUNTIFS(T11:U11,">=3")+COUNTIFS(F12,">=3")+COUNTIFS(K12:L12,">=3")+COUNTIFS(N12,">=3")+COUNTIFS(R12:S12,">=3") -> 0 | AD12: =AD11 -> 35000 | AE12: =+AD12*AC12 -> 0 | AG12: =AB12+AE12 -> 0 | AH12: =VLOOKUP(C11,Tarif!G:H,2,FALSE)*AG12 -> 0 | AI12: =AG12-AH12 -> 0
X13: =SUM(X11:X12) -> 2 | AB13: =SUM(AB11:AB12) -> 26000 | AC13: =SUM(AC11:AC12) -> 0 | AE13: =SUM(AE11:AE12) -> 0 | AF13: JML | AG13: =SUM(AG11:AG12) -> 26000 | AH13: =SUM(AH11:AH12) -> 0 | AI13: =SUM(AI11:AI12) -> 26000 | AJ13: 1220007666640 | AM13: =VLOOKUP(D11,NPS!A:E,4,FALSE) -> 1220007666640 | AN13: =AJ13-AM13 -> 0
A14: 2 | B14: =VLOOKUP(D14,NPS!A:E,2,FALSE) -> Ronaldy Tri Cahya Novebri, S.Tr.Rad | C14: =VLOOKUP(D14,NPS!A:E,3,FALSE) -> KJ3 | D14: NPS147419 | E14: =VLOOKUP(D14,NPS!A:E,5,FALSE) -> 904142239416000 | V14: =SUM(F14:U14)+SUM(F15:T15)-W14 -> 0 | W14: =SUM(F14:G14,M14:N14,T14:U14,F15,K15:L15,N15,R15:S15) -> 7 | X14: =+V14 -> 0 | Y14: X | Z14: =VLOOKUP(C14,Tarif!A:B,2,FALSE) -> 13000 | AA14: = | AB14: =X14*Z14 -> 0 | AC14: =COUNTIFS(F14:U14,">=3")+COUNTIFS(F15:T15,">=3")-AC15 -> 0 | AD14: =VLOOKUP(C14,Tarif!D:E,2,FALSE) -> 35000 | AE14: =+AD14*AC14 -> 0 | AG14: =AB14+AE14 -> 0 | AH14: =VLOOKUP(C14,Tarif!G:H,2,FALSE)*AG14 -> 0 | AI14: =AG14-AH14 -> 0 | AK14: IPORT
N15: 7 | X15: =+W14 -> 7 | Y15: X | Z15: =Z14*2 -> 26000 | AA15: = | AB15: =X15*Z15 -> 182000 | AC15: =COUNTIFS(F14:G14,">=3")+COUNTIFS(M14:N14,">=3")+COUNTIFS(T14:U14,">=3")+COUNTIFS(F15,">=3")+COUNTIFS(K15:L15,">=3")+COUNTIFS(N15,">=3")+COUNTIFS(R15:S15,">=3") -> 1 | AD15: =AD14 -> 35000 | AE15: =+AD15*AC15 -> 35000 | AG15: =AB15+AE15 -> 217000 | AH15: =VLOOKUP(C14,Tarif!G:H,2,FALSE)*AG15 -> 0 | AI15: =AG15-AH15 -> 217000
X16: =SUM(X14:X15) -> 7 | AB16: =SUM(AB14:AB15) -> 182000 | AC16: =SUM(AC14:AC15) -> 1 | AE16: =SUM(AE14:AE15) -> 35000 | AF16: JML | AG16: =SUM(AG14:AG15) -> 217000 | AH16: =SUM(AH14:AH15) -> 0 | AI16: =SUM(AI14:AI15) -> 217000 | AJ16: 1550012437482 | AM16: =VLOOKUP(D14,NPS!A:E,4,FALSE) -> 1550012437482 | AN16: =AJ16-AM16 -> 0
A17: 3 | B17: =VLOOKUP(D17,NPS!A:E,2,FALSE) -> Sarah, S.Tr.Rad | C17: =VLOOKUP(D17,NPS!A:E,3,FALSE) -> KJ3 | D17: NPS147420 | E17: =VLOOKUP(D17,NPS!A:E,5,FALSE) -> 815235809453000 | S17: 8.5 | V17: =SUM(F17:U17)+SUM(F18:T18)-W17 -> 8.5 | W17: =SUM(F17:G17,M17:N17,T17:U17,F18,K18:L18,N18,R18:S18) -> 0 | X17: =+V17 -> 8.5 | Y17: X | Z17: =VLOOKUP(C17,Tarif!A:B,2,FALSE) -> 13000 | AA17: = | AB17: =X17*Z17 -> 110500 | AC17: =COUNTIFS(F17:U17,">=3")+COUNTIFS(F18:T18,">=3")-AC18 -> 1 | AD17: =VLOOKUP(C17,Tarif!D:E,2,FALSE) -> 35000 | AE17: =+AD17*AC17 -> 35000 | AG17: =AB17+AE17 -> 145500 | AH17: =VLOOKUP(C17,Tarif!G:H,2,FALSE)*AG17 -> 0 | AI17: =AG17-AH17 -> 145500 | AK17: IPORT
X18: =+W17 -> 0 | Y18: X | Z18: =Z17*2 -> 26000 | AA18: = | AB18: =X18*Z18 -> 0 | AC18: =COUNTIFS(F17:G17,">=3")+COUNTIFS(M17:N17,">=3")+COUNTIFS(T17:U17,">=3")+COUNTIFS(F18,">=3")+COUNTIFS(K18:L18,">=3")+COUNTIFS(N18,">=3")+COUNTIFS(R18:S18,">=3") -> 0 | AD18: =AD17 -> 35000 | AE18: =+AD18*AC18 -> 0 | AG18: =AB18+AE18 -> 0 | AH18: =VLOOKUP(C17,Tarif!G:H,2,FALSE)*AG18 -> 0 | AI18: =AG18-AH18 -> 0
X19: =SUM(X17:X18) -> 8.5 | AB19: =SUM(AB17:AB18) -> 110500 | AC19: =SUM(AC17:AC18) -> 1 | AE19: =SUM(AE17:AE18) -> 35000 | AF19: JML | AG19: =SUM(AG17:AG18) -> 145500 | AH19: =SUM(AH17:AH18) -> 0 | AI19: =SUM(AI17:AI18) -> 145500 | AJ19: 1640004556892 | AM19: =VLOOKUP(D17,NPS!A:E,4,FALSE) -> 1640004556892 | AN19: =AJ19-AM19 -> 0
A20: 4 | B20: =VLOOKUP(D20,NPS!A:E,2,FALSE) -> Rizka Jullieni Rahmadini, S.Tr.Kes | C20: =VLOOKUP(D20,NPS!A:E,3,FALSE) -> KJ3 | D20: NPS147421 | E20: =VLOOKUP(D20,NPS!A:E,5,FALSE) -> 431034081008000 | U20: 3 | V20: =SUM(F20:U20)+SUM(F21:T21)-W20 -> 0 | W20: =SUM(F20:G20,M20:N20,T20:U20,F21,K21:L21,N21,R21:S21) -> 6 | X20: =+V20 -> 0 | Y20: X | Z20: =VLOOKUP(C20,Tarif!A:B,2,FALSE) -> 13000 | AA20: = | AB20: =X20*Z20 -> 0 | AC20: =COUNTIFS(F20:U20,">=3")+COUNTIFS(F21:T21,">=3")-AC21 -> 0 | AD20: =VLOOKUP(C20,Tarif!D:E,2,FALSE) -> 35000 | AE20: =+AD20*AC20 -> 0 | AG20: =AB20+AE20 -> 0 | AH20: =VLOOKUP(C20,Tarif!G:H,2,FALSE)*AG20 -> 0 | AI20: =AG20-AH20 -> 0 | AK20: IPORT
F21: 3 | X21: =+W20 -> 6 | Y21: X | Z21: =Z20*2 -> 26000 | AA21: = | AB21: =X21*Z21 -> 156000 | AC21: =COUNTIFS(F20:G20,">=3")+COUNTIFS(M20:N20,">=3")+COUNTIFS(T20:U20,">=3")+COUNTIFS(F21,">=3")+COUNTIFS(K21:L21,">=3")+COUNTIFS(N21,">=3")+COUNTIFS(R21:S21,">=3") -> 2 | AD21: =AD20 -> 35000 | AE21: =+AD21*AC21 -> 70000 | AG21: =AB21+AE21 -> 226000 | AH21: =VLOOKUP(C20,Tarif!G:H,2,FALSE)*AG21 -> 0 | AI21: =AG21-AH21 -> 226000
X22: =SUM(X20:X21) -> 6 | AB22: =SUM(AB20:AB21) -> 156000 | AC22: =SUM(AC20:AC21) -> 2 | AE22: =SUM(AE20:AE21) -> 70000 | AF22: JML | AG22: =SUM(AG20:AG21) -> 226000 | AH22: =SUM(AH20:AH21) -> 0 | AI22: =SUM(AI20:AI21) -> 226000 | AJ22: 1220011854141 | AM22: =VLOOKUP(D20,NPS!A:E,4,FALSE) -> 1220011854141 | AN22: =AJ22-AM22 -> 0
A23: 4 | B23: =VLOOKUP(D23,NPS!A:E,2,FALSE) -> Septi Hidhayani, S.Tr.Rad | C23: =VLOOKUP(D23,NPS!A:E,3,FALSE) -> KJ3 | D23: NPS146699 | E23: =VLOOKUP(D23,NPS!A:E,5,FALSE) -> 904493889048000 | V23: =SUM(F23:U23)+SUM(F24:T24)-W23 -> 0 | W23: =SUM(F23:G23,M23:N23,T23:U23,F24,K24:L24,N24,R24:S24) -> 7 | X23: =+V23 -> 0 | Y23: X | Z23: =VLOOKUP(C23,Tarif!A:B,2,FALSE) -> 13000 | AA23: = | AB23: =X23*Z23 -> 0 | AC23: =COUNTIFS(F23:U23,">=3")+COUNTIFS(F24:T24,">=3")-AC24 -> 0 | AD23: =VLOOKUP(C23,Tarif!D:E,2,FALSE) -> 35000 | AE23: =+AD23*AC23 -> 0 | AG23: =AB23+AE23 -> 0 | AH23: =VLOOKUP(C23,Tarif!G:H,2,FALSE)*AG23 -> 0 | AI23: =AG23-AH23 -> 0 | AK23: IPORT
N24: 7 | X24: =+W23 -> 7 | Y24: X | Z24: =Z23*2 -> 26000 | AA24: = | AB24: =X24*Z24 -> 182000 | AC24: =COUNTIFS(F23:G23,">=3")+COUNTIFS(M23:N23,">=3")+COUNTIFS(T23:U23,">=3")+COUNTIFS(F24,">=3")+COUNTIFS(K24:L24,">=3")+COUNTIFS(N24,">=3")+COUNTIFS(R24:S24,">=3") -> 1 | AD24: =AD23 -> 35000 | AE24: =+AD24*AC24 -> 35000 | AG24: =AB24+AE24 -> 217000 | AH24: =VLOOKUP(C23,Tarif!G:H,2,FALSE)*AG24 -> 0 | AI24: =AG24-AH24 -> 217000
X25: =SUM(X23:X24) -> 7 | AB25: =SUM(AB23:AB24) -> 182000 | AC25: =SUM(AC23:AC24) -> 1 | AE25: =SUM(AE23:AE24) -> 35000 | AF25: JML | AG25: =SUM(AG23:AG24) -> 217000 | AH25: =SUM(AH23:AH24) -> 0 | AI25: =SUM(AI23:AI24) -> 217000 | AJ25: 1570006518410 | AM25: =VLOOKUP(D23,NPS!A:E,4,FALSE) -> 1570006518410 | AN25: =AJ25-AM25 -> 0
A26: T O T A L | AG26: =SUMIFS(AG:AG,$AF:$AF,$AF$13,AG:AG,">0") -> #REF! | AH26: =SUMIFS(AH:AH,$AF:$AF,$AF$13,AH:AH,">0") -> #REF! | AI26: =SUMIFS(AI:AI,$AF:$AF,$AF$13,AI:AI,">0") -> #REF!
AG29: Mengetahui,
AG30: Kepala Instalasi Pelayanan Onkologi Radiasi Terpadu
AG37: Dr. dr. Angela Giselvania, Sp.Onk.Rad(K)
AG38: NIP. 198205252014122003

Sheet Tarif
A1: KJ | B1: Lembur | D1: KJ | E1: Makan | G1: KJ | H1: Pajak
A2: KJ1 | B2: 13000 | D2: KJ1 | E2: 35000 | G2: KJ1 | H2: 0
A3: KJ2 | B3: 13000 | D3: KJ2 | E3: 35000 | G3: KJ2 | H3: 0
A4: KJ3 | B4: 13000 | D4: KJ3 | E4: 35000 | G4: KJ3 | H4: 0
A5: KJ4 | B5: 13000 | D5: KJ4 | E5: 35000 | G5: KJ4 | H5: 0
A6: KJ5 | B6: 17000 | D6: KJ5 | E6: 35000 | G6: KJ5 | H6: 0
A7: KJ6 | B7: 17000 | D7: KJ6 | E7: 35000 | G7: KJ6 | H7: 0
A8: KJ7 | B8: 17000 | D8: KJ7 | E8: 35000 | G8: KJ7 | H8: 0
A9: KJ8 | B9: 17000 | D9: KJ8 | E9: 35000 | G9: KJ8 | H9: 0
A10: KJ9 | B10: 20000 | D10: KJ9 | E10: 37000 | G10: KJ9 | H10: 0.05
A11: KJ10 | B11: 20000 | D11: KJ10 | E11: 37000 | G11: KJ10 | H11: 0.05
A12: KJ11 | B12: 20000 | D12: KJ11 | E12: 37000 | G12: KJ11 | H12: 0.05
A13: KJ12 | B13: 20000 | D13: KJ12 | E13: 37000 | G13: KJ12 | H13: 0.05
... A39: IV/E | B39: 36000 | D39: IV/E | E39: 41000 | G39: IV/E | H39: 0.15

Sheet NIP
A1: nip | B1: nmpeg | C1: status/kel | D1: kdgol | E1: npwp | F1: rekening | G1: kdanak | H1: V
A2: 196009011988012001 | B2: SANDRA WIDATY, Sp.KK, Dr | C2: Role | D2: IV/E | E2: 141068502412001 | F2: 1220095006055 | G2: 01
A3: 196011221986011001 | B3: BAMBANG SUPRIYATNO, Sp.A, Dr | C3: ASN | D3: IV/E | E3: 059554311411000 | F3: 1220090001523 | G3: 01
A4: 196011271985121001 | B4: ANDON HESTIANTORO, Sp.OG, Dr | C4: ASN | D4: IV/E | E4: 676535834008000 | F4: 1220091007958 | G4: 01
A5: 196101281988122001 | B5: LUH KARUNIA WAHYUNI, Sp.RM, Dr. | C5: ASN | D5: IV/E | E5: 684430063031000 | F5: 1220098007308 | G5: 01
A6: 196102061987032005 | B6: RATNA SITOMPUL, Sp.M, Dr | C6: ASN | D6: IV/E | E6: 240158337019001 | F6: 1220094000927 | G6: 01
A7: 196103251990101001 | B7: MARUHUM BONAR HASIHOLAN MARBUN, Sp.PD, Dr | C7: ASN | D7: IV/C | E7: 180187751003000 | F7: 1220094006270 | G7: 01
A8: 196104111987031002 | B8: DARMAWAN BUDI SETYANTO, Sp.A, Dr. | C8: ASN | D8: IV/E | E8: 680930989008000 | F8: 1220091011075 | G8: 01
A9: 196108141987022002 | B9: TRIMARTANI, SPTHT(K),DR,DR | C9: ASN | D9: IV/E | E9: 096124532016001 | F9: 1220004973114 | G9: 01
A10: 196108201989111001 | B10: dr. BRASTHO BRAMANTYO, Sp.THT-KL(K) | C10: ASN | D10: IV/D | E10: 594286965024000 | F10: 1220097006749 | G10: 08
A11: 196110041987032002 | B11: DWIANA OCVIYANTI,Sp.OG,Dr | C11: ASN | D11: IV/E | E11: 499141174064000 | F11: 1220099003017 | G11: 02
A12: 196110151987032002 | B12: SITI SETIATI,Dr.,Sp.PD. | C12: ASN | D12: IV/E | E12: 680873171061000 | F12: 1220094006148 | G12: 02
A13: 196111041987032001 | B13: Dr. dr. PUSTIKA AMALIA WAHIDIYAT, Sp.A(K) | C13: ASN | D13: IV/E | E13: 080917180013000 | F13: 1220091010945 | G13: 08
... A1781: 198606262020121002 | B1781: WAHYU EDY WIBOWO, S.Si | C1781: ASN | D1781: III/B | E1781: 582108650018000 | F1781: 1220005335750 | G1781: 09
A1782: 198607042025062001 | B1782: Naela Fadhila, dr.Sp.A | C1782: ASN | D1782: III/B | F1782: 1220014224490 | G1782: CPNS
A1783: 198607082020121002 | B1783: YOGA NARA YULIAN, SH | C1783: ASN | D1783: III/A | E1783: 261842736518000 | F1783: 1350015163502 | G1783: 01
A1784: 198607122012122001 | B1784: SITI NURAINI | C1784: ASN | D1784: III/C | E1784: 972332738006000 | F1784: 1220005599322 | G1784: 01
A1785: 198607142019022001 | B1785: drg. YULI PUSPANINGRUM, Sp.KG | C1785: ASN | D1785: III/C | E1785: 738099423411000 | F1785: 9000029069623 | G1785: 07
A1786: 198607162025062001 | B1786: RENNY ANGGIA JULIANTI | C1786: ASN | D1786: III/B | E1786: 3674075607860004 | F1786: 1220005510949 | G1786: CPNS
A1787: 198607192008122002 | B1787: Supraptini | C1787: ASN | D1787: III/C | E1787: 894487156048000 | F1787: 1220005212835 | G1787: 05
A1788: 198607222012122001 | B1788: DWI TIUR DAMERIA LESTARI | C1788: ASN | D1788: III/C | E1788: 894487081017000 | F1788: 1270005093479 | G1788: 01
A1789: 198608102010122002 | B1789: ERNA SUCI WARDININGSIH | C1789: ASN | D1789: III/C | E1789: 247006133009000 | F1789: 1290007832492 | G1789: 05
A1790: 198608122022032001 | B1790: KURNIASIH AGENG PRATIWI, S.Gz | C1790: ASN | D1790: III/B | E1790: 588036707017000 | F1790: 1220007360335 | G1790: 10
A1791: 198608132008122003 | B1791: Rindha Agustiani | C1791: ASN | D1791: III/D | E1791: 799612775407000 | F1791: 1220005367415 | G1791: 05
A1792: 198608132018011001 | B1792: dr. RANGGA RAYENDRA SALEH, Sp.THT | C1792: ASN | D1792: III/C | E1792: 748584117016000 | F1792: 1220007434288 | G1792: 06
A1793: 198608202025061001 | B1793: YUDO IRAWAN | C1793: ASN | D1793: III/B | E1793: 2172012008860002 | F1793: 1090002464188 | G1793: CPNS
A1794: 198608232015032001 | B1794: ROCHANA HARYASINI, Apt | C1794: ASN | D1794: IV/A | E1794: 720945393604000 | F1794: 1400013567244 | G1794: 08
... A1851: 198703032008122001 | B1851: Retno Pujiastuti | C1851: ASN | D1851: III/C | E1851: 362042939407000 | F1851: 1220005470896 | G1851: 05
A1852: 198703032025061001 | B1852: Gunawan Eka Putra, dr.Sp.P.K. | C1852: ASN | D1852: III/B | E1852: 1604100303870012 | G1852: CPNS
A1853: 198703192018011001 | B1853: dr. STEFANUS DANAN NUGROHO | C1853: ASN | D1853: III/C | E1853: 441104031541000 | F1853: 1220007905881 | G1853: 06
A1854: 198703222025062001 | B1854: Fresia Juwitasari Wongkar, dr.Sp.P.A | C1854: ASN | D1854: III/B | E1854: 3171026203870001 | G1854: CPNS
A1855: 198703232014021001 | B1855: DEDDY HERMAWAN | C1855: ASN | D1855: III/A | E1855: 579472259002000 | F1855: 1220005597961 | G1855: 01
A1856: 198703302022031001 | B1856: dr. MUHAMMAD DERYL IVANSYAH, Sp.O.T. | C1856: ASN | D1856: III/C | E1856: 547771493013000 | F1856: 1220010900416 | G1856: 10
A1857: 198704032010122001 | B1857: RAVIENNA | C1857: ASN | D1857: III/B | E1857: 263918120017000 | F1857: 1220005751030 | G1857: 05
A1858: 198704092025061002 | B1858: RIYAN APRIANTONI | C1858: ASN | D1858: III/B | E1858: 1671040904870006 | F1858: 1120004722232 | G1858: CPNS
A1859: 198704122010122001 | B1859: NUR RAUDHOH | C1859: ASN | D1859: III/C | E1859: 471717520013000 | F1859: 1220005325074 | G1859: 05
A1860: 198704142019022001 | B1860: dr. GHAISANI FADIANA, Sp.A | C1860: ASN | D1860: III/C | E1860: 366086999411000 | F1860: 1220010188533 | G1860: 07
A1861: 198704152022032001 | B1861: IKA WAHYU VORNIKAWATI S., S.Kep., Ns. | C1861: ASN | D1861: III/C | E1861: 974063646528000 | F1861: 1760002480018 | G1861: 10
A1862: 198704162020122002 | B1862: dr. GINA ANINDYAJATI, Sp.K.J. | C1862: ASN | D1862: III/C | E1862: 694183807013000 | F1862: 1370000160487 | G1862: 09
A1863: 198704172025062001 | B1863: SUNITA | C1863: ASN | D1863: III/B | E1863: 3171035704870002 | F1863: 9000005900916 | G1863: CPNS
A1864: 198704252018012001 | B1864: dr. FILDZA SASRI PEDDYANDHARI, Sp.An | C1864: ASN | D1864: III/C | E1864: 745677708024000 | F1864: 0060007660909 | G1864: 06
A1865: 198705052022031001 | B1865: PAULUS MANDIARA | C1865: ASN | D1865: II/D | E1865: 881022016002000 | F1865: 1520005313198 | G1865: 10
A1866: 198705052022032001 | B1866: dr. FERUCHA MOULANDA, Sp.T.H.T | C1866: ASN | D1866: III/C | E1866: 156710014201000 | F1866: 1220007434148 | G1866: 10
... A1900: 198709152010122006 | B1900: RENITA HERDY SAPUTRA | C1900: ASN | D1900: III/B | E1900: 361296866429000 | F1900: 1320009773988 | G1900: 05
A1901: 198709152025062001 | B1901: Veronica Septnina Primasari, drg.Sp.Perio | C1901: ASN | D1901: III/B | E1901: 3174105509870004 | G1901: CPNS
A1902: 198709162020122003 | B1902: dr. ANANDHARA INDRIANI KHUMAEDI, SpPD | C1902: ASN | D1902: III/B | E1902: 847829025086000 | F1902: 1220007358495 | G1902: 09
A1903: 198711042010122001 | B1903: TETI SUSANTI | C1903: ASN | D1903: III/C | E1903: 788618320451000 | F1903: 1550003256420 | G1903: 05
A1904: 198711132010122006 | B1904: DINA NOVENDA SARI, S.Kep.Ners. | C1904: ASN | D1904: III/D | E1904: 788378750017000 | F1904: 1290007839505 | G1904: 05
A1905: 198711162010122001 | B1905: DIAN KURNIARTATI | C1905: ASN | D1905: III/A | E1905: 076076769022000 | F1905: 1220005743474 | G1905: 05
A1906: 198711212019022001 | B1906: dr. GITA NURUL HIDAYAH, Sp.OG | C1906: ASN | D1906: III/D | E1906: 461985053542000 | F1906: 0060006822864 | G1906: 07
A1907: 198711242015031001 | B1907: ALBEN SAKTI SANTOSO, MARS | C1907: ASN | D1907: III/D | E1907: 791802267404000 | F1907: 1370004791766 | G1907: 06
A1908: 198712092019022001 | B1908: ASRIFAH RAHMAWATI MUTTHOHA, Apt | C1908: ASN | D1908: III/C | E1908: 791609670017000 | F1908: 1220009979371 | G1908: 07
A1909: 198712152010122002 | B1909: IDA WAHYUNI SYAMSIAH | C1909: ASN | D1909: III/B | E1909: 264441031001000 | F1909: 0060006864221 | G1909: 05
A1910: 198712262008122001 | B1910: Vita Nur Widyaningrum | C1910: ASN | D1910: III/B | E1910: 799537675654000 | F1910: 1220005469625 | G1910: 05
A1911: 198712302010122001 | B1911: SATRIA EFRIANI | C1911: ASN | D1911: III/C | E1911: 788618361411000 | F1911: 1220005742906 | G1911: 05
A1912: 198801072010122001 | B1912: AYU JANUATY | C1912: ASN | D1912: III/B | E1912: 788380376017000 | F1912: 1220005595155 | G1912: 05
A1913: 198801132008122002 | B1913: Rizky Amelia Putri | C1913: ASN | D1913: III/C | E1913: 355629528407000 | F1913: 1220005468965 | G1913: 05
... A2019: 198908212019022001 | B2019: HESTI AGUSTIA DEWI | C2019: ASN | D2019: III/A | E2019: 080793266031000 | F2019: 1170006506372 | G2019: 07
A2020: 198908222025062001 | B2020: Satyanaya Widyaningrum, dr.Sp.K.F.R. | C2020: ASN | D2020: III/B | E2020: 3174086208890004 | G2020: CPNS
A2021: 198908252010122005 | B2021: LISA SUSANTI | C2021: ASN | D2021: III/B | E2021: 361786320432000 | F2021: 1220005735389 | G2021: 05
A2022: 198909012018012001 | B2022: dr. DIAH WINARNI | C2022: ASN | D2022: III/C | E2022: 545496614623000 | F2022: 1220007905139 | G2022: 06
A2023: 198909042022032001 | B2023: CHITRA NUR MAWARTI | C2023: ASN | D2023: II/D | E2023: 450215033002000 | F2023: 1390005139294 | G2023: 10
A2024: 198909112019021003 | B2024: DAVID EKSANOTO, Ners | C2024: ASN | D2024: III/C | E2024: 743202814004000 | F2024: 9000029080968 | G2024: 07
A2025: 198909202009122001 | B2025: Siti Zuhriah Melanie Tania | C2025: ASN | D2025: III/C | E2025: 971471867407000 | F2025: 1220005602787 | G2025: 05
A2026: 198909242010122002 | B2026: RATNA DITE KURNIAAJI | C2026: ASN | D2026: III/D | E2026: 587562208432000 | F2026: 1220005705424 | G2026: 05
A2027: 198909272010122006 | B2027: DINI WINANTI | C2027: ASN | D2027: III/A | E2027: 587562158428000 | F2027: 1230005828902 | G2027: 05
A2028: 198910092010122006 | B2028: SRI ANTI OKTAVIANTI SAPUTRI | C2028: ASN | D2028: III/B | E2028: 360804041411000 | F2028: 1280006122086 | G2028: 05
A2029: 198910122010121003 | B2029: INDRA MAULANA FAHTURIZAL | C2029: ASN | D2029: III/C | E2029: 361448871009000 | F2029: 1220005752772 | G2029: 05
A2030: 198910132010121003 | B2030: SORICH LUKMANA | C2030: ASN | D2030: III/C | E2030: 597167030501000 | F2030: 1220005744134 | G2030: 05
A2031: 198910132010121006 | B2031: MUHAMMAD IRSYAD MUSTOFA | C2031: ASN | D2031: III/B | E2031: 787107416321000 | F2031: 1220005745438 | G2031: 05
A2032: 198910192010121006 | B2032: PANJI SETIA NUGRAHA | C2032: ASN | D2032: III/C | E2032: 597166834438000 | F2032: 1220005757300 | G2032: 05
... A2052: 199002122022032001 | B2052: FIDA ROFIKA, AMK | C2052: ASN | D2052: II/D | E2052: 807101134513000 | F2052: 9000025433146 | G2052: 10
A2053: 199002172025061003 | B2053: Alfi Fajar Almasyhur, dr.Sp.K.J. | C2053: ASN | D2053: III/B | E2053: 3174051702900012 | G2053: CPNS
A2054: 199002182010122002 | B2054: FATIMAH SETYO PERTIWI | C2054: ASN | D2054: III/C | E2054: 788618379027000 | F2054: 1250010815629 | G2054: 05
A2055: 199002202025061003 | B2055: Candra Adi Nugroho, dr., Sp.Onk.Rad. | C2055: ASN | D2055: III/B | G2055: CPNS
A2056: 199003012019021001 | B2056: ADITYA NURCAHYO | C2056: ASN | D2056: II/D | E2056: 719759813529000 | F2056: 9000025459729 | G2056: 07
A2057: 199003162025061002 | B2057: Haris Hermawan, dr. | C2057: ASN | D2057: III/B | E2057: 3372011603900001 | F2057: 1220014134715 | G2057: CPNS
A2058: 199003172010122001 | B2058: WUSTHI ALI CHASANAH | C2058: ASN | D2058: III/C | E2058: 788618411529000 | F2058: 1220005731313 | G2058: 05
A2059: 199003172015032006 | B2059: CAHYANING SETIYANI | C2059: ASN | D2059: III/A | E2059: 728106550529000 | F2059: 9000005963096 | G2059: 08
A2060: 199003172022032001 | B2060: dr. AINO NINDYA AUERKARI, Sp.An | C2060: ASN | D2060: III/C | E2060: 546690850008000 | F2060: 1220010083932 | G2060: 10
A2061: 199003212012122001 | B2061: LANJAR TRI LESTARI | C2061: ASN | D2061: III/B | E2061: 699315214521000 | F2061: 9000005946992 | G2061: 01
A2062: 199003282019022001 | B2062: HAERUNNISA RAMDHANIA | C2062: ASN | D2062: II/C | E2062: 984563809435000 | F2062: 9000017644494 | G2062: 07
A2063: 199004052020122003 | B2063: IINDRA IRIYANTI, S.Kom | C2063: ASN | D2063: III/A | E2063: 667514657013000 | F2063: 1220011036566 | G2063: 09
A2064: 199004102025061002 | B2064: Fathia Mohamad Fadilah Azhar, A.Md. | C2064: ASN | D2064: II/C | F2064: 9000027920272 | G2064: CPNS
A2065: 199004152025061003 | B2065: Pitt Akbar, dr., Sp.P.D | C2065: ASN | D2065: III/B | E2065: 3174011504900001 | G2065: CPNS
A2066: 199004162022031001 | B2066: DANANG ARGASUMA, S.Kom | C2066: ASN | D2066: III/A | E2066: 550986343407000 | F2066: 1650000251026 | G2066: 10
A2067: 199004222012122001 | B2067: DWI ENDAH SETYOWATI | C2067: ASN | D2067: III/B | E2067: 971589767009000 | F2067: 9000005947107 | G2067: 01
A2068: 199004222014022004 | B2068: FITRIA NUR HIDAYAH, APT | C2068: ASN | D2068: III/D | E2068: 662696137526000 | F2068: 9000023768196 | G2068: 01
A2069: 199004252010122001 | B2069: NINDYA APRIANINGSIH | C2069: ASN | D2069: III/C | E2069: 353302607009000 | F2069: 1220005710226 | G2069: 05
A2070: 199005052022032008 | B2070: MEITA ILYANA, S.K.M | C2070: ASN | D2070: III/A | E2070: 699776043017000 | F2070: 1220007832549 | G2070: 10
A2071: 199005062022032001 | B2071: APRIYANI MALASARI | C2071: ASN | D2071: II/D | E2071: 770170777002000 | F2071: 9000005946935 | G2071: 10
A2072: 199005182022032004 | B2072: SAMSIDAR HASIBUAN | C2072: ASN | D2072: II/D | E2072: 756845418453000 | F2072: 1220006985504 | G2072: 10
A2073: 199005222014021002 | B2073: RICKY PRADITA RIKARDI | C2073: ASN | D2073: II/D | E2073: 467606661438000 | F2073: 1340006323942 | G2073: 01
A2074: 199006142025062003 | B2074: Titis Puspitarini Dwi Lestari, SKM | C2074: ASN | D2074: III/A | E2074: 3275085406900007 | F2074: 1220014141207 | G2074: CPNS
A2075: 199006242020122001 | B2075: WHILDAWATY NURUL ULFAH | C2075: ASN | D2075: II/D | E2075: 543049530542000 | F2075: 9000017644056 | G2075: 09
A2076: 199006272014021003 | B2076: YOSIE RIVANTO | C2076: ASN | D2076: III/B | E2076: 984564443426000 | F2076: 1220006102167 | G2076: 01
A2077: 199007022022032001 | B2077: Ns. MERLIN JOVANY, S.Kep | C2077: ASN | D2077: III/C | E2077: 877244442005000 | F2077: 1240011217883 | G2077: 10
... A2129: 199103212018012001 | B2129: dr. MARTINA SARTIKA F S | C2129: ASN | D2129: III/D | E2129: 734121064222000 | F2129: 1220007908315 | G2129: 06
A2130: 199103262025062001 | B2130: Mellisya Ramadhany, dr.Sp.KFR | C2130: ASN | D2130: III/B | G2130: CPNS
A2131: 199104062022031002 | B2131: MIPTAH PARID, A.Md. Kes. | C2131: ASN | D2131: II/D | E2131: 348115742009000 | F2131: 1170010209229 | G2131: 10
...

Sheet NPS
A1: NPS | B1: NAMA | C1: KJ | D1: REKENING | E1: NPWP
A2: NPS142351 | B2: Bambang Irawan | C2: KJ3 | D2: 1220005600500 | E2: 244811659002000
A3: NPS142360 | B3: Siti Asuroh | C3: KJ1 | D3: 1220005613669 | E3: 799613021009000
A4: NPS142421 | B4: Komariah | C4: KJ2 | D4: 1220004351915 | E4: 778831552009000
A5: NPS142462 | B5: Endang Indrianingsih, SAP | C5: KJ6 | D5: 1220005603876 | E5: 875287534002000
A6: NPS142477 | B6: Emilya Littie, SE | C6: KJ5 | D6: 1220004338748 | E6: 778875245015000
A7: NPS142484 | B7: Sari Safitri | C7: KJ1 | D7: 1220005086262 | E7: 592368385024000
A8: NPS142505 | B8: Pryambodho, dr., Sp.An-TI., Subsp.An.R(K) | C8: KJ15 | D8: 1220004425040 | E8: 171205305016000
A9: NPS142611 | B9: Hasbi | C9: KJ1 | D9: 1220005388437 | E9: 880923016432000
A10: NPS142653 | B10: Firmansyah, S.Psi | C10: KJ3 | D10: 1220005616399 | E10: 790718985009000
A11: NPS142792 | B11: Ratih Wijayanti, SKM | C11: KJ8 | D11: 1220004357201 | E11: 250180528024000
A12: NPS142803 | B12: Rita Puter Puter, SE | C12: KJ6 | D12: 1220004885813 | E12: 799537451011000
A13: NPS142808 | B13: Kurniawan Rachmadi, SKM | C13: KJ6 | D13: 1220004211630 | E13: 172262347026000
A14: NPS142867 | B14: Febrian Sandika, Amd | C14: KJ2 | D14: 1220005595817 | E14: 880923149008000
A15: NPS143125 | B15: Syahlin Marlina, AMK | C15: KJ5 | D15: 1220005604890 | E15: 774292668417000
A16: NPS143164 | B16: Sarifuddin Tampubolon | C16: KJ2 | D16: 1220005513760 | E16: 880922927034000
A17: NPS143174 | B17: Pamuji Rahayu, AMF | C17: KJ2 | D17: 1220005603421 | E17: 774309751005000
A18: NPS143202 | B18: Yustina Gultom, SKM | C18: KJ8 | D18: 1220005527109 | E18: 453663270435000
A19: NPS143342 | B19: Lenny Sulianty, A.Md.Par | C19: KJ5 | D19: 1220005530517 | E19: 586474629426000
A20: NPS143370 | B20: Bisri Mustopa, AMD | C20: KJ5 | D20: 1220005613222 | E20: 462449919017000
A21: NPS143401 | B21: Yani Suryani | C21: KJ1 | D21: 1220005703791 | E21: 361578974416000
A22: NPS143437 | B22: Delly Yanti, S.Psi | C22: KJ3 | D22: 1250004015814 | E22: 787143932043000
A23: NPS143473 | B23: Risma Hadyanti, SE | C23: KJ4 | D23: 1220004612696 | E23: 582089462008000
A24: NPS143478 | B24: David Firman Ryan B Sitompul | C24: KJ1 | D24: 1220005595924 | E24: 444617112023000
A25: NPS143488 | B25: Guntur Cipta Kusuma | C25: KJ3 | D25: 1220004915727 | E25: 970782082412000
A26: NPS143577 | B26: Gavid Anggi Fandito | C26: KJ1 | D26: 1220005564292 | E26: 678874538004000
A27: NPS143585 | B27: Raykashari Tryanofa, AMK | C27: KJ2 | D27: 1220005448447 | E27: 686476821004000
A28: NPS143623 | B28: Tita Yuningsih, S.KH | C28: KJ5 | D28: 1220004593953 | E28: 351877220435001
A29: NPS143694 | B29: Hana Grahana, AMK | C29: KJ3 | D29: 1220005657617 | E29: 774354146415000
A30: NPS143706 | B30: Apriansyah, A.MK | C30: KJ2 | D30: 1220005654614 | E30: 691170419009000
A31: NPS143712 | B31: Ima Nurlies | C31: KJ2 | D31: 1220005680247 | E31: 983138884005000
A32: NPS143726 | B32: Wahyu Hidayat | C32: KJ4 | D32: 1270006024994 | E32: 481972248402000
A33: NPS143806 | B33: Haitami Imdad | C33: KJ8 | D33: 1220005734051 | E33: 356946004024000
A34: NPS143816 | B34: Darma Wilantara Setiawan, S.Tr.Kes | C34: KJ5 | D34: 1220005759967 | E34: 460527377024000
A35: NPS143841 | B35: Rani Sofyanti, A.Md | C35: KJ2 | D35: 0060006563989 | E35: 796172781004000
A36: NPS143866 | B36: Alain Pradana, A.MK | C36: KJ2 | D36: 1220005825610 | E36: 742198401435000
A37: NPS143881 | B37: Latifah Febrianty, S.Psi | C37: KJ8 | D37: 1030005618513 | E37: 772870804009000
A38: NPS143898 | B38: Fitri Saufikha | C38: KJ2 | D38: 1220005838878 | E38: 460845563004000
A39: NPS143930 | B39: Hamdi Rubiyanto, S.ST, M.K.M | C39: KJ6 | D39: 1230004976983 | E39: 254967847432000
A40: NPS143956 | B40: Dian Chaerani, SKM | C40: KJ6 | D40: 1220005865186 | E40: 710531666412000
A41: NPS144010 | B41: Atmi Setyati. AMK | C41: KJ2 | D41: 1220005894772 | E41: 699315297435000
A42: NPS144046 | B42: R. Lita Ayuningdyah, S.ST, MKM | C42: KJ2 | D42: 1220005937860 | E42: 361090368432000
A43: NPS144097 | B43: Fiki Tri Adiarti, AMK | C43: KJ2 | D43: 1220005949444 | E43: 260921762435000
A44: NPS144167 | B44: Helfandri, S.Kep, Ners | C44: KJ5 | D44: 1220005986198 | E44: 454996521041000
A45: NPS144238 | B45: Yeni Hizriani, A.Mk | C45: KJ2 | D45: 1330011110517 | E45: 719802860403000
A46: NPS144264 | B46: Mijatama Akbar, AMd | C46: KJ5 | D46: 1220005947547 | E46: 710619198024000
A47: NPS144285 | B47: Anggilia, A.Md | C47: KJ5 | D47: 1330007308513 | E47: 455183848403000
A48: NPS144290 | B48: Istiana Wulandari | C48: KJ6 | D48: 1010005878440 | E48: 983383209412000
A49: NPS144315 | B49: Nopi Putriyani, AMKeb | C49: KJ2 | D49: 9000006704796 | E49: 573220571085000
A50: NPS144316 | B50: Lia Nur Indah Sari, Am.Keb | C50: KJ2 | D50: 9000003417038 | E50: 972332936009000
A51: NPS144320 | B51: Oktaviani, A.Md | C51: KJ5 | D51: 9000009546145 | E51: 984565077407000
A52: NPS144330 | B52: Rifka Yudiatna, A.Mk | C52: KJ2 | D52: 9000009534786 | E52: 772272878434000
A53: NPS144357 | B53: Ari Maulana, A.Md | C53: KJ2 | D53: 9000007981526 | E53: 710765967432000
A54: NPS144387 | B54: Toto Budiharto, A.Md | C54: KJ2 | D54: 9000006253521 | E54: 446091258407000
A55: NPS144418 | B55: Siska Amalia Rachmah, AMK | C55: KJ2 | D55: 1560003129170 | E55: 714027091435000
A56: NPS144522 | B56: Winda Novitasari Moechtar | C56: KJ2 | D56: 9000015212807 | E56: 550089965009000
A57: NPS144523 | B57: Januar Pribadi | C57: KJ2 | D57: 9000016424906 | E57: 254702749043000
A58: NPS144528 | B58: Elsya Savitri Indriyanto, SKM | C58: KJ6 | D58: 9000017644155 | E58: 714056611024000
A59: NPS144532 | B59: Triana Dian Permata, A.Md | C59: KJ2 | D59: 9000017643942 | E59: 719309965027000
A60: NPS144533 | B60: Widya Purnama Sari, SKM | C60: KJ6 | D60: 1220006193646 | E60: 551568397015000
A61: NPS144572 | B61: Meta Adhadinika, SKM | C61: KJ5 | D61: 9000017644676 | E61: 553006511521000
A62: NPS144585 | B62: Nur Widyastuti, AMd | C62: KJ2 | D62: 9000014606165 | E62: 747027092009000
A63: NPS144639 | B63: Ganita AR | C63: KJ2 | D63: 1230006277414 | E63: 719446437406000
A64: NPS144646 | B64: Ulfah Fitria, Amd. PRS | C64: KJ5 | D64: 9000012772001 | E64: 442613154407000
A65: NPS144650 | B65: Laily Nurrahmah, S.Kom | C65: KJ2 | D65: 9000005947164 | E65: 661907279407000
A66: NPS144652 | B66: Tety Kartiwi Prihatini,AmdKep | C66: KJ2 | D66: 1220006251873 | E66: 888900743432000
A67: NPS144654 | B67: Joni Sujatno, AMK | C67: KJ2 | D67: 9000012781705 | E67: 737256495521000
A68: NPS144666 | B68: Citra Primajati | C68: KJ2 | D68: 1570002119940 | E68: 741326946412000
A69: NPS144677 | B69: Dwi Sulistyaningsih | C69: KJ2 | D69: 9000015806368 | E69: 662887223412000
A70: NPS144702 | B70: Tantri Puspa Ditya, dr. | C70: KJ8 | D70: 1330011965480 | E70: 984564807403000
A71: NPS144742 | B71: Desi Puspita Rini | C71: KJ5 | D71: 9000012839313 | E71: 726032840017000
A72: NPS144750 | B72: Ichsan Utomo, S.T | C72: KJ5 | D72: 1370007431311 | E72: 543651582009000
A73: NPS144751 | B73: DANI PUTRA, Amd | C73: KJ2 | D73: 9000012781598 | E73: 727392581412000
A74: NPS144752 | B74: Fika Muchairi, Amd | C74: KJ5 | D74: 9000012781580 | E74: 590113973432000
A75: NPS144753 | B75: Claudia Debtarsie Kliranayungie, S.Gz | C75: KJ3 | D75: 0700005295550 | E75: 984565051432000
A76: NPS144808 | B76: Allen Paradita, A.Mk | C76: KJ2 | D76: 9000020954724 | E76: 722590247435000
A77: NPS144813 | B77: Arum Ambar Sari, AMK | C77: KJ2 | D77: 9000020945979 | E77: 759571029432000
A78: NPS144815 | B78: Aulia Ainina Rachmah, AMK | C78: KJ2 | D78: 9000020954864 | E78: 757669163008000
A79: NPS144819 | B79: Dewi Khuswatun Hasanah, AMK | C79: KJ2 | D79: 9000020954765 | E79: 723080206006000
A80: NPS144826 | B80: Evi Lisdiani, AMK | C80: KJ2 | D80: 9000020954849 | E80: 719198699012000
A81: NPS144846 | B81: Tika Puspita Sari, AMK | C81: KJ2 | D81: 9000020946332 | E81: 665537866407000
A82: NPS144875 | B82: Rizqal Nanda Pratama | C82: KJ2 | D82: 1220006310083 | E82: 776748014407000
A83: NPS144876 | B83: Muhammad Ismail, AMd | C83: KJ2 | D83: 9000006273743 | E83: 983139049008000
A84: NPS144880 | B84: Endang Prayitno, S.Kep, Ners | C84: KJ2 | D84: 9000023768279 | E84: 754005965326000
A85: NPS144914 | B85: Apriyani Syafitri AMK | C85: KJ2 | D85: 1220006590809 | E85: 972811350013000
A86: NPS144917 | B86: Ika Putri Mardiani, AMK | C86: KJ2 | D86: 1220006590783 | E86: 755377819448000
A87: NPS144944 | B87: Saidah Hisyam | C87: KJ2 | D87: 9000020946209 | E87: 743309312008000
A88: NPS144947 | B88: Defi Wulandari, Amd.Kep | C88: KJ2 | D88: 9000021950952 | E88: 642034508407000
A89: NPS144976 | B89: Triyadi Pamungkas | C89: KJ1 | D89: 9000003478816 | E89: 440044311432000
A90: NPS144984 | B90: Ikke Anindia Sylvianadewi, AMK | C90: KJ2 | D90: 9000023763155 | E90: 719896144426000
A91: NPS145006 | B91: Lentari Pancar Wengi, AMd | C91: KJ2 | D91: 9000029082063 | E91: 719287831412000
A92: NPS145007 | B92: Febrina Puspita Romadhon, AMd,Prs | C92: KJ5 | D92: 9000029082113 | E92: 806916102412000
A93: NPS145036 | B93: Dedy Setyawan, AMK | C93: KJ2 | D93: 9000025429664 | E93: 756777272531000
A94: NPS145052 | B94: Frisky Mandasari, S.Ft | C94: KJ2 | D94: 9000025421844 | E94: 899656987435000
A95: NPS145059 | B95: Muthia Rizkita, S.Si | C95: KJ3 | D95: 1010006658379 | E95: 740738794013000
A96: NPS145065 | B96: Esy Akwinda | C96: KJ2 | D96: 9000013249058 | E96: 550592802407000
A97: NPS145067 | B97: Febrina Indah Arifiandita, Amd.Prs | C97: KJ2 | D97: 9000025421869 | E97: 834926024413000
A98: NPS145070 | B98: Rezi Rosianti, S.Psi | C98: KJ6 | D98: BSI 6950351350 | E98: 707822884407000
A99: NPS145081 | B99: Ade Rosanti, S.Gz | C99: KJ3 | D99: 1290009773330 | E99: 702889981009000
A100: NPS145082 | B100: Ervita Widiarsanti, S.Gz | C100: KJ8 | D100: 9000025435190 | E100: 714379880541000
...

Sheet P3K25
A1: nip | B1: nmpeg | C1: kdgol | D1: npwp | E1: rekening | F1: kdanak
A2: 196712102025212007 | B2: I. Rosmayati | C2: II/C | D2: 8994549954030000 | E2: 1220005613990 | F2: PPPK P3
A3: 196806042025211012 | B3: E. Mulyadi | C3: II/A | D3: 828398156405000 | E3: 1220005302727 | F3: PPPK P3
A4: 196807222025212003 | B4: Supartini, S.Sos, SE | C4: III/A | D4: 697642510407000 | E4: 1220005614899 | F4: PPPK P3
A5: 196807282025212003 | B5: Yulianti | C5: II/C | D5: 090074006023000 | E5: 1220005613099 | F5: PPPK P3
A6: 196808292025211003 | B6: Puguh Santoso | C6: II/A | D6: 899455026003000 | E6: 1220005613982 | F6: PPPK P3
A7: 196912122025211019 | B7: Fitri Arman, S.Si, Apt, MM | C7: III/A | D7: 799537055003000 | E7: 1220004448257 | F7: PPPK P3
A8: 197001252025211004 | B8: Sutarno, SE | C8: III/A | D8: 790653067027000 | E8: 1220004936731 | F8: PPPK P3
A9: 197008172025212014 | B9: Neneng Aspiyasih | C9: II/A | D9: 661942888024000 | E9: 1220005609931 | F9: PPPK P3
A10: 197107182025211017 | B10: Rohman Bohar | C10: II/A | D10: 467598173412000 | E10: 1220005601656 | F10: PPPK P3
A11: 197108252025212012 | B11: Widhi Adiana, SE | C11: III/A | D11: 440106235008000 | E11: 1220094006262 | F11: PPPK P3
A12: 197109072025211017 | B12: Ibnu Rasid, S.Kom, M.Kom | C12: III/A | D12: 071726384417000 | E12: 1550009371512 | F12: PPPK P3
... A595: 200302272025211005 | B595: Hadi Eko Purwanto | C595: II/A | D595: 433205416807000 | E595: 1220014517208 | F595: PPPK P3

Sheet P3K23
A1: nip | B1: nmpeg | C1: kdgol | D1: npwp | E1: rekening | F1: kdanak
A2: 198806202023212002 | B2: WALADAH KHOTIMATUL ULYA, A.Md.Kep | C2: II/C | D2: 882811284402000 | E2: 7297421168 / BSI | F2: PPPK P1
A3: 197205102023212002 | B3: RIA MARYANI, AMAK | C3: II/C | D3: 790688055015000 | E3: 1240006393962 | F3: PPPK P1
A4: 197301032023212001 | B4: NINI ELYANTI, A.Md.Far | C4: II/C | D4: 369827522024000 | E4: 1220002065624 | F4: PPPK P1
A5: 197306272023212001 | B5: NANI SUPRIHATIN, AMK | C5: II/C | D5: 458181708403000 | E5: 1220005597565 | F5: PPPK P1
A6: 197504122023212001 | B6: NUNUNG HASANAH, AMF | C6: II/C | D6: 971471669008000 | E6: 1220002065608 | F6: PPPK P1
A7: 197506302023212001 | B7: MINARNI, AMF | C7: II/C | D7: 642675029009000 | E7: 1220005603454 | F7: PPPK P1
A8: 197510242023212002 | B8: MULYANI, AMF | C8: II/C | D8: 799536990024000 | E8: 1220004259662 | F8: PPPK P1
A9: 197607162023212001 | B9: DIANA PUSPITA, AMK | C9: II/C | D9: 889999397001000 | E9: 1220005595577 | F9: PPPK P1
A10: 197608102023212002 | B10: ENNY HASRINI, AMAK | C10: II/C | D10: 894502210005000 | E10: 1220005097947 | F10: PPPK P1
A11: 197609212023212001 | B11: FITRI MUFARIYANTI, A.md.Rad | C11: II/C | D11: 095838355043000 | E11: 1220004375195 | F11: PPPK P1
A12: 197701292023212001 | B12: EULIZA PARTINAYU, AMK | C12: II/C | D12: 772300976416000 | E12: 1220005604718 | F12: PPPK P1
... A415: 197903272022211001 | B415: drg. EKY NASURI, Sp.BM | C415: III/C | D415: 252282926008000 | E415: 1220005272516 | F415: PPPK P1

Sheet P3K24
A1: nip | B1: nmpeg | C1: kdgol | D1: npwp | E1: rekening | F1: kdanak
A2: 198409022024211006 | B2: ABDUL HAFIZ FIQRI | C2: II/C | D2: 787734599002000 | E2: 1220005865541 | F2: PPPK 2024 | H2: 197109102024211001 | I2: ANI ARFANDIYANTO | J2: II/C | K2: 672577913027000 | L2: 1200004098575 | M2: PPPK P2
A3: 199010172024212035 | B3: ABIRIANTY PRIANDANI ARAMINTA | C3: III/C | D3: 664617081013000 | E3: 1010007528191 | F3: PPPK 2024 | H3: 197205282024211002 | I3: dr. FIKRY HAMDAN YASIN, Sp. T.H.T.B.K.L. Subsp. K( | J3: III/C | K3: 670600279407000 | L3: 1220005370278 | M3: PPPK P2
A4: 199508212024211018 | B4: ACHMAD ADITYA RIFANI A | C4: III/B | D4: 411719552621000 | E4: 1710013478337 | F4: PPPK 2024 | H4: 197412102024212002 | I4: Ns. FINNI ANGGRAENI LIVETA, S.Kep | J4: III/B | K4: 784261729024000 | L4: 1220005545168 | M4: PPPK P2
A5: 199308012024212040 | B5: ADELIA ERIKA PUTERI | C5: II/C | D5: 812554707023000 | E5: 9000029082378 | F5: PPPK 2024 | H5: 197504272024212003 | I5: CHRIS ERLIN | J5: II/C | K5: 771934684006000 | L5: 1250010135721 | M5: PPPK P2
A6: 199307182024212030 | B6: ADELINE PRABAWATI | C6: II/C | D6: 856177415608000 | E6: 1410010413433 | F6: PPPK 2024 | H6: 197608062024212005 | I6: dr. ASTRI MULYANTINI, Sp.Ok | J6: III/C | K6: 090048190023000 | L6: 1220007486403 | M6: PPPK P2
A7: 198601052024211013 | B7: ADIK HIDAYAT | C7: III/B | D7: 597166966439000 | E7: 1220005439909 | F7: PPPK 2024 | H7: 197804172024211002 | I7: Ns. APRINALDI, S.Kep. | J7: III/B | K7: 740168711023000 | L7: 1220005986230 | M7: PPPK P2
A8: 199201032024212052 | B8: ADINDA FAJRIN | C8: II/C | D8: 726649148325000 | E8: 9000025430084 | F8: PPPK 2024 | H8: 197808082024212008 | I8: Ns. SIHWASTUTI, S.Kep | J8: III/B | K8: 680850005001000 | L8: 1220001096166 | M8: PPPK P2
A9: 198405192024211011 | B9: ADY NYOTO TRIPRASETYA | C9: III/B | D9: 899455372508000 | E9: 1220005520096 | F9: PPPK 2024 | H9: 197808312024212003 | I9: RITA SASTRA | J9: II/C | K9: 090093006023000 | L9: 1220004786540 | M9: PPPK P2
A10: 198506292024212015 | B10: AFFRIYUNI | C10: II/C | D10: 787107366072000 | E10: 1220004835222 | F10: PPPK 2024 | H10: 197809242024212002 | I10: RINA BUDI HARTI | J10: II/C | K10: 359913910412000 | L10: 1560000517054 | M10: PPPK P2
A11: 199906262024211007 | B11: AGUNG FIRMANSYAH | C11: II/C | D11: 964108666321000 | E11: 1220011047928 | F11: PPPK 2024 | H11: 197906062024212020 | I11: dr. DHAMA SHINTA SUSANTI, Sp.B.T.K.V | J11: III/C | K11: 095221875014000 | L11: 1160005537809 | M11: PPPK P2
A12: 199208212024212034 | B12: AGUS ATIK WULANDARI | C12: II/C | D12: 801558313525000 | E12: 9000029081081 | F12: PPPK 2024 | H12: 197909012024212007 | I12: Ns. TUTI ALAWIYAH, S.Kep | J12: III/B | K12: 46918433700400. | L12: 0060006335115 | M12: PPPK P2
A13: 198906222024211016 | B13: AGUS PRIYANTONO | C13: III/A | D13: 542574496407000 | E13: 1220006063773 | F13: PPPK 2024 | H13: 198002192024212005 | I13: ELIANA | J13: II/C | K13: 692080674000500 | L13: 1220005603116 | M13: PPPK P2
... A21: 199609182024212042 | B21: AJIJAH YULIANTI | C21: III/B | D21: 941843484438000 | E21: 1180010957289 | F21: PPPK 2024 | H21: 198102042024212012 | I21: Ns. TUTIK SUSILOWATI, S.Kep. | J21: III/B | K21: 790725212006000 | L21: 1230004764694 | M21: PPPK P2
A22: 199001032024211015 | B22: ALFIYANSIH PRATAMA | C22: II/C | D22: 983139205009000 | E22: 1220005949980 | F22: PPPK 2024 | H22: 198102072024211004 | I22: MISBAH BUDI SANTOSO | J22: II/C | K22: 359208048048000 | L22: 1220005611135 | M22: PPPK P2
A23: 199708102024212037 | B23: ALGA FITRIANI RATNANINGSIH | C23: III/B | D23: 418864039532000 | E23: 1380020238221 | F23: PPPK 2024 | H23: 198103112024212008 | I23: AI SUMIATI, S.Tr.Kep.Ners | J23: III/B | K23: 354173791005000 | L23: 1220005613800 | M23: PPPK P2
A24: 199509062024211018 | B24: ALI DONI | C24: II/C | D24: 949451231309000 | E24: 1220011839910 | F24: PPPK 2024 | H24: 198104042024212018 | I24: ZURAIDAH | J24: II/C | K24: 495735847035000 | L24: 1220003008235 | M24: PPPK P2
A25: 199605232024211018 | B25: ALI USMAN | C25: III/B | D25: 417650561326000 | E25: 1220011338541 | F25: PPPK 2024 | H25: 198104272024212014 | I25: PURWANTI, AMF | J25: II/C | K25: 735535767009000 | L25: 1220004835941 | M25: PPPK P2
A26: 199209092024211018 | B26: ALIF FAKHTUR RAMADHAN | C26: III/B | D26: 854094976809000 | E26: 1220011101808 | F26: PPPK 2024 | H26: 198105122024211009 | I26: OBERLIN | J26: II/C | K26: 699415527009000 | L26: 1570002408814 | M26: PPPK P2
A27: 199706172024212024 | B27: ALIFIA YUNITA | C27: II/C | D27: 903286797432000 | E27: 1560014649216 | F27: PPPK 2024 | H27: 198105232024212009 | I27: HERTA S. TAMBUNAN | J27: II/C | K27: 672577939023000 | L27: 1220005564557 | M27: PPPK P2
A28: 199104232024211018 | B28: ALIP SUJATMIKO | C28: III/B | D28: 908932544674000 | E28: 1370015849058 | F28: PPPK 2024 | H28: 198107102024212013 | I28: Ns. SELLY RAMADHANI, S.Kep. | J28: III/B | K28: 361623069407000 | L28: 1220005116135 | M28: PPPK P2
A29: 199503012024211017 | B29: ALOYSIUS VIKTOR | C29: III/B | D29: 865461511705000 | E29: 1650002049725 | F29: PPPK 2024 | H29: 198109232024212012 | I29: TITIN TRIYATIN | J29: II/C | K29: 790725188006000 | L29: 1220005605277 | M29: PPPK P2
A30: 199408112024212028 | B30: ALVIONITA HANDAYANI | C30: III/B | D30: 749847547327000 | E30: 1220007071619 | F30: PPPK 2024 | H30: 198110192024211004 | I30: FILIAL DYAN SRIWIJAYA | J30: II/C | K30: 790725238014000 | L30: 1220005605285 | M30: PPPK P2
A31: 199110132024212032 | B31: AMALLIA AGENG RIZKI | C31: II/C | D31: 754402832024000 | E31: 1140006341419 | F31: PPPK 2024 | H31: 198112102024212012 | I31: TATIK | J31: II/C | K31: 709965636006000 | L31: 1220005605251 | M31: PPPK P2
A32: 198606142024211009 | B32: AMAR SHIDIQ TR | C32: II/C | D32: 356567610033000 | E32: 1220005534204 | F32: PPPK 2024 | H32: 198201292024212007 | I32: Ns. YUSAN SUSANTI, S.Kep | J32: III/B | K32: 794861088004000 | L32: 1220004525377 | M32: PPPK P2
A33: 199409132024212037 | B33: AMIRA FATHIDZKIA ASMAS | C33: III/B | D33: 841131667013000 | E33: 1260007477549 | F33: PPPK 2024 | H33: 198202022024212015 | I33: LOLA SAPUTRI | J33: II/C | K33: 971471685005000 | L33: 1220005605087 | M33: PPPK P2
A34: 199306062024212051 | B34: AMMERIA BR. SIMBOLON | C34: II/C | D34: 741537666043000 | E34: 9000029081222 | F34: PPPK 2024 | H34: 198202092024212009 | I34: ARI URIYANI | J34: II/C | K34: 971471818044000 | L34: 1220005603496 | M34: PPPK P2
A35: 199406072024212035 | B35: ANDIANI YUNISA ASTARI | C35: II/C | D35: 761968452015000 | E35: 1220010070780 | F35: PPPK 2024 | H35: 198202102024212023 | I35: WISNU PURNAMA DEWI | J35: II/C | K35: 548623560006000 | L35: 1220007620159 | M35: PPPK P2
A36: 199604082024211010 | B36: ANDIKA APRIYANDI | C36: III/B | D36: 418751632422000 | E36: 1220011044495 | F36: PPPK 2024 | H36: 198204242024211008 | I36: MOH ZAWAWI, S.T. | J36: III/A | K36: 799537352004000 | L36: 1220005600708 | M36: PPPK P2
A37: 199204062024211018 | B37: ANDIKA PITRO HERIANTO | C37: III/B | D37: 837360551453000 | E37: 1560016058291 | F37: PPPK 2024 | H37: 198205232024212019 | I37: LILIANA MEILANI | J37: II/C | K37: 720532274001000 | L37: 1220005864940 | M37: PPPK P2
A38: 199405302024212033 | B38: ANDINI LARAS PUTRI | C38: II/C | D38: 742535644033000 | E38: 9000029083558 | F38: PPPK 2024 | H38: 198205242024211003 | I38: ZUFRI HARIADY, S.Tr.Kep | J38: III/A | K38: 448627331432000 | L38: 1220005152650 | M38: PPPK P2
A39: 198308012024212019 | B39: ANEU SRI AGUSTINi | C39: III/B | D39: 747835981444000 | E39: 122001139143 | F39: PPPK 2024 | H39: 198208072024212010 | I39: FITRI PUSPASARI | J39: II/C | K39: 459420766008000 | L39: 1220005596195 | M39: PPPK P2
A40: 199204102024211016 | B40: ANGGI SULISTIYONO WIDODO | C40: II/C | D40: 719448250521000 | E40: 1220006633807 | F40: PPPK 2024 | H40: 198210212024211004 | I40: ZIKO IKA PERDANA, ST | J40: III/A | K40: 470228248005000 | L40: 1220004723287 | M40: PPPK P2
A41: 198512072024212010 | B41: ANGGIA FIANTI ROZA | C41: II/C | D41: 772837324035000 | E41: 1010005420821 | F41: PPPK 2024 | H41: 198211182024212007 | I41: DWI PARYANTI | J41: II/C | K41: 880923008412000 | L41: 1220005596823 | M41: PPPK P2
A42: 199503182024211011 | B42: ANGGIT BAYU PRASOJO | C42: II/C | D42: 817413149521000 | E42: 9000029088599 | F42: PPPK 2024 | H42: 198212062024212016 | I42: SRI SUDARNINGSIH | J42: II/C | K42: 801420654017000 | L42: 1570002966365 | M42: PPPK P2
A43: 199207082024212034 | B43: ANGGRAENI PUSPA INDAH | C43: II/C | D43: 710820028005000 | E43: 900002543035 | F43: PPPK 2024 | H43: 198301032024212011 | I43: Ns. NANI ROHAETI, S.Kep. | J43: III/B | K43: 790725063023000 | L43: 1220004409010 | M43: PPPK P2
A44: 199208212024212037 | B44: ANGGUN DWI YANTI | C44: II/C | D44: 721162089008000 | E44: 9000023763171 | F44: PPPK 2024 | H44: 198302012024212013 | I44: Ns. ANNE DWIYANTI ANUGERAH, S.Kep. | J44: III/B | K44: 361407778405000 | L44: 1330005313929 | M44: PPPK P2
A45: 199106092024212028 | B45: ANGGUN PUSPITA DEWI | C45: II/C | D45: 984564013435000 | E45: 1220005947240 | F45: PPPK 2024 | H45: 198302022024212020 | I45: ARDHINI WARDIANI, SKM | J45: III/A | K45: 476094644045000 | L45: 9000029081396 | M45: PPPK P2
A46: 197109102024211001 | B46: ANI ARFANDIYANTO | C46: II/C | D46: 672577913027000 | E46: 1200004098575 | F46: PPPK 2024 | H46: 198302272024211004 | I46: MOHAMAD HERYAN FEBRIARY | J46: II/C | K46: 790719298013000 | L46: 1220005614527 | M46: PPPK P2
A47: 198507202024212016 | B47: ANI YULIANTI | C47: II/C | D47: 586409385027000 | E47: 9000012771987 | F47: PPPK 2024 | H47: 198303182024212010 | I47: Ns ANY SETIYANI, S. Kep | J47: III/B | K47: 778831768004000 | L47: 1250007558703 | M47: PPPK P2
A48: 199210152024212041 | B48: ANIES NURCAHYA | C48: II/C | D48: 661067785407000 | E48: 9000020946340 | F48: PPPK 2024 | H48: 198303222024212010 | I48: TANTRI WIDAYATI, S.Tr.Kes | J48: III/A | K48: 590511093048000 | L48: 1220006063864 | M48: PPPK P2
A49: 199505042024212053 | B49: ANINDA FITRIANDINI | C49: III/A | D49: 761569334448000 | E49: 1220010098468 | F49: PPPK 2024 | H49: 198304152024212014 | I49: ROSSINA YOHANNE GORTER | J49: II/C | K49: 241388016412000 | L49: 1220005986719 | M49: PPPK P2
A50: 199603052024212037 | B50: ANINDITA RIZKIANA | C50: II/C | D50: 831598511002000 | E50: 9000041115099 | F50: PPPK 2024 | H50: 198305112024212018 | I50: Dayu Riandani Astuti | J50: II/C | K50: 686863416407000 | L50: 1220005895241 | M50: PPPK P2
A51: 199509232024212034 | B51: ANIS NURMALA SARI | C51: II/C | D51: 844566802326000 | E51: 1220012963339 | F51: PPPK 2024 | H51: 198308012024212019 | I51: Ns. ANEU SRI AGUSTINI, S. Kep | J51: III/B | K51: 747835981444000 | L51: 1220011339143 | M51: PPPK P2
A52: 198004022024212012 | B52: ANISA FAJARINI | C52: III/B | D52: 799536958027000 | E52: 1220002065632 | F52: PPPK 2024 | H52: 198310132024212011 | I52: LUCKY ROTIO, S.K.M | J52: III/A | K52: 454632142001000 | L52: 9000005887790 | M52: PPPK P2
A53: 199008272024212043 | B53: ANISA NURUL SAPARILAH | C53: II/C | D53: 662318518407000 | E53: 9000007986624 | F53: PPPK 2024 | H53: 198310222024212005 | I53: Ns. HANIFAH, S.Kep. | J53: III/B | K53: 980161913035000 | L53: 1220005596278 | M53: PPPK P2
A54: 198412262024212009 | B54: ANITA KURNIAWATI | C54: II/C | D54: 799537030005000 | E54: 1220005611168 | F54: PPPK 2024 | H54: 198311052024212009 | I54: UTAMI DEWI, S.E. | J54: III/A | K54: 498190693009000 | L54: 1260005956411 | M54: PPPK P2
A55: 199004242024212044 | B55: ANITA PERMANA SARI | C55: II/C | D55: 547609784006000 | E55: 1220005948545 | F55: PPPK 2024 | H55: 198311202024212010 | I55: BELLA RATNA NINGRUM | J55: II/C | K55: 880922596077000 | L55: 1220005599934 | M55: PPPK P2
A56: 199111282024212042 | B56: ANNA QOMARIAH | C56: II/C | D56: 914915731447000 | E56: 9000020945961 | F56: PPPK 2024 | H56: 198401232024212005 | I56: TRI WAHYUNINGSIH | J56: II/C | K56: 360624613411000 | L56: 1220005294528 | M56: PPPK P2
A57: 198302012024212013 | B57: ANNE DWIYANTI ANUGERAH | C57: III/B | D57: 361407778405000 | E57: 1330005313929 | F57: PPPK 2024 | H57: 198401302024212012 | I57: MERRY CHRISTIN REHNI GINTING | J57: II/C | K57: 983138900005000 | L57: 1220004376276 | M57: PPPK P2
A58: 199903062024212013 | B58: ANNISA KHOERUNNISA | C58: II/C | D58: 417852597425000 | E58: 1220011115527 | F58: PPPK 2024 | H58: 198403142024211006 | I58: MUHAMMAD SUMARUDIN, S.Kom | J58: III/A | K58: 575281944015000 | L58: 1220005226280 | M58: PPPK P2
A59: 199410252024212034 | B59: ANY OCTAVIA PURNAMA SARI | C59: II/C | D59: 821052339442000 | E59: 1220007690574 | F59: PPPK 2024 | H59: 198403182024211004 | I59: dr. MOHAMAD SYAHRIR AZIZI, Sp.PD | J59: III/C | K59: 708622105407000 | L59: 1220006647369 | M59: PPPK P2
A60: 198303182024212010 | B60: ANY SETIYANI | C60: III/B | D60: 778831768004000 | E60: 1250007558703 | F60: PPPK 2024 | H60: 198403222024212009 | I60: DIAN ANGGRAENI KUSUMAWATI | J60: II/C | K60: 253586036045000 | L60: 1200006537141 | M60: PPPK P2
A61: 198904052024211018 | B61: APRIAN ABDILLAH | C61: II/C | D61: 799617782432000 | E61: 1560000589830 | F61: PPPK 2024 | H61: 198405192024211011 | I61: Ns ADY NYOTO TRIPRASETYA, S.Kep | J61: III/B | K61: 899455372508000 | L61: 1220005520096 | M61: PPPK P2
A62: 199204182024212039 | B62: APRILIA WIDY ASTUTI | C62: II/C | D62: 643501224005000 | E62: 9000023184493 | F62: PPPK 2024 | H62: 198407082024212006 | I62: Ns. HELDA YULIANA, S.Kep | J62: III/B | K62: 462488297216000 | L62: 1180011006086 | M62: PPPK P2
A63: 197804172024211002 | B63: APRINALDI | C63: III/B | D63: 740168711023000 | E63: 1220005986230 | F63: PPPK 2024 | H63: 198407162024211012 | I63: UMARYANDI | J63: II/C | K63: 799536982006000 | L63: 1220005616407 | M63: PPPK P2
A64: 198810072024212015 | B64: ARDANI DWIJAYANTI | C64: III/B | D64: 787107432432000 | E64: 1220005677870 | F64: PPPK 2024 | H64: 198407262024212006 | I64: dr. JESSICA | J64: III/A | K64: 873387369941000 | L64: 1220013230175 | M64: PPPK P2
A65: 198302022024212020 | B65: ARDHINI WARDIANI | C65: III/A | D65: 476094644045000 | E65: 9000029081396 | F65: PPPK 2024 | H65: 198409022024211006 | I65: ABDUL HAFIZ FIQRI, Amd.FT | J65: II/C | K65: 787734599002000 | L65: 1220005865541 | M65: PPPK P2
A66: 198903052024211016 | B66: ARDY WILDAN | C66: III/C | D66: 98546039602000 | E66: 9000012119948 | F66: PPPK 2024 | H66: 198409182024211009 | I66: HERMAN ADINEGORO, S.E. | J66: III/A | K66: 984564781407000 | L66: 1220006248275 | M66: PPPK P2
... A70: 199809302024211005 | B70: ARMADI SAPUTRA | C70: III/A | D70: 959936600311000 | E70: 1790000073598 | F70: PPPK 2024 | H70: 198412262024212009 | I70: ANITA KURNIAWATI | J70: II/C | K70: 799537030005000 | L70: 1220005611168 | M70: PPPK P2
A71: 198704012024212020 | B71: ARNETTA NAOMI LOUISE LALISANG | C71: III/C | D71: 729618033432000 | E71: 1220007278644 | F71: PPPK 2024 | H71: 198502182024211007 | I71: Ns. HERI MUJIHARTO, S.Kep | J71: III/B | K71: 790725204006000 | L71: 1220005526200 | M71: PPPK P2
A72: 199101192024211009 | B72: ASEP NUR HIDAYAT | C72: III/A | D72: 981861362407000 | E72: 9000020946407 | F72: PPPK 2024 | H72: 198503212024212022 | I72: DHARMA ROSITA | J72: II/C | K72: 365171248435000 | L72: 1220005614790 | M72: PPPK P2
A73: 198011212024212008 | B73: ASNITA NOVIANTI SIRAIT | C73: III/B | D73: 880875661031000 | E73: 1220005597383 | F73: PPPK 2024 | H73: 198504282024211011 | I73: MUHAMMAD ANEN | J73: II/C | K73: 574261632407000 | L73: 1220005776508 | M73: PPPK P2
A74: 199309282024212037 | B74: ASTARI ZERIDA | C74: II/C | D74: 712543347407000 | E74: 9000029082238 | F74: PPPK 2024 | H74: 198505162024212010 | I74: DWI PUSPITA NINGTYAS | J74: II/C | K74: 574704946416000 | L74: 1220005767457 | M74: PPPK P2
A75: 199505192024212028 | B75: ASTRI JUMIARI | C75: III/B | D75: 743015604426000 | E75: 9000029088946 | F75: PPPK 2024 | H75: 198505292024212012 | I75: Ns. FITRIYANI, S.Kep | J75: III/B | K75: 356092585061000 | L75: 1220005613206 | M75: PPPK P2
A76: 197608062024212005 | B76: ASTRI MULYANTINI | C76: III/C | D76: 90048190023000 | E76: 1220007486403 | F76: PPPK 2024 | H76: 198506092024211009 | I76: dr. UNGGUL PRIBADI | J76: III/B | K76: 763916558426000 | L76: 1340010415593 | M76: PPPK P2
A77: 199008202024212048 | B77: ASTRINE PERMATA LEONI | C77: III/A | D77: 445165509009000 | E77: 1220006594884 | F77: PPPK 2024 | H77: 198506132024211009 | I77: WAHID AMRULLAH | J77: II/C | K77: 442421574403000 | L77: 9000028457589 | M77: PPPK P2
A78: 199203232024212050 | B78: ATIQOH MUTMAINNAH | C78: II/C | D78: 744995994009000 | E78: 9000020954740 | F78: PPPK 2024 | H78: 198506292024212015 | I78: AFFRIYUNI | J78: II/C | K78: 787107366072000 | L78: 1220004835222 | M78: PPPK P2
A79: 199809152024211006 | B79: AVIO TRIANDI | C79: II/C | D79: 412556144202000 | E79: 1220011106039 | F79: PPPK 2024 | H79: 198507202024212016 | I79: ANI YULIANTI | J79: II/C | K79: 586409385027000 | L79: 9000012771987 | M79: PPPK P2
A80: 199402112024212026 | B80: AYU AZLINA | C80: III/B | D80: 822621835201000 | E80: 1220012963362 | F80: PPPK 2024 | H80: 198507232024211011 | I80: GALIH ANDHINY SUBAGDO, S.ST | J80: III/A | K80: 729346635001000 | L80: 1660001130228 | M80: PPPK P2
A81: 199409292024212049 | B81: AYU RIFQI NI'MAL ABDU | C81: II/C | D81: 810670265529000 | E81: 1800011316512 | F81: PPPK 2024 | H81: 198508202024212015 | I81: WINA PUSPITASARI | J81: II/C | K81: 799612882411000 | L81: 1280006291931 | M81: PPPK P2
A82: 198806172024211009 | B82: AZHAR | C82: III/B | D82: 866482615452000 | E82: 1760000841898 | F82: PPPK 2024 | H82: 198510162024211010 | I82: MAHADI | J82: II/C | K82: 360314488045000 | L82: 1220005605483 | M82: PPPK P2
A83: 198803122024211015 | B83: BAGUS GUMILANG | C83: II/C | D83: 358261634085000 | E83: 1180011262960 | F83: PPPK 2024 | H83: 198511072024212027 | I83: INDAH MAHARANI NOVIANTHI, S.K.M | J83: III/A | K83: 251239315407000 | L83: 1220006807294 | M83: PPPK P2
A84: 198907312024212023 | B84: BANI ANANTASARI | C84: II/C | D84: 468152715005000 | E84: 9000007986632 | F84: PPPK 2024 | H84: 198511152024212018 | I84: dr. DYAH ANGGRAINI | J84: III/B | K84: 344289103419000 | L84: 9000012120086 | M84: PPPK P2
A85: 199411192024211015 | B85: BARLIAN NADA | C85: II/C | D85: 813034808645000 | E85: 1220007622171 | F85: PPPK 2024 | H85: 198512072024212010 | I85: ANGGIA FIANTI ROZA | J85: II/C | K85: 772837324035000 | L85: 1010005420821 | M85: PPPK P2
A86: 199507192024211013 | B86: BEKTI JOKO YULIANTO | C86: II/C | D86: 813540192407000 | E86: 9000029088425 | F86: PPPK 2024 | H86: 198601052024211013 | I86: Ns ADIK HIDAYAT, S.Kep | J86: III/B | K86: 597166966439000 | L86: 1220005439909 | M86: PPPK P2
A87: 198311202024212010 | B87: BELLA RATNA NINGRUM | C87: II/C | D87: 880922596077000 | E87: 1220005599934 | F87: PPPK 2024 | H87: 198601072024212014 | I87: RELIYANA ISMAWATI, S.Tr.Kep.,Ners | J87: III/B | K87: 459824868412000 | L87: 1220005604031 | M87: PPPK P2
A88: 199803162024212025 | B88: BELLARIANI | C88: II/C | D88: 950120030306000 | E88: 1220011096016 | F88: PPPK 2024 | H88: 198602052024211008 | I88: IRWAN EFFENDI, S.Kom. | J88: III/A | K88: 880923750412000 | L88: 1220005601854 | M88: PPPK P2
A89: 198812252024212019 | B89: BERLIANTI | C89: II/C | D89: 731087524015000 | E89: 9000025422107 | F89: PPPK 2024 | H89: 198602132024211008 | I89: SUHENDI | J89: II/C | K89: 571558287003000 | L89: 1660000286088 | M89: PPPK P2
... A95: 199304112024211013 | B95: CATUR APRIYANTO | C95: II/C | D95: 369787213432000 | E95: 9000029093623 | F95: PPPK 2024 | H95: 198606142024211009 | I95: AMAR SHIDIQ TR | J95: II/C | K95: 356567610033000 | L95: 1220005534204 | M95: PPPK P2
A96: 199203052024212037 | B96: CHAIRUNNISA | C96: II/C | D96: 715654703521000 | E96: 9000025430068 | F96: PPPK 2024 | H96: 198607292024212020 | I96: RATNA WIDYA HAPSARI, S.Kep, Ners | J96: III/B | K96: 579752742655000 | L96: 1220005578367 | M96: PPPK P2
A97: 199203302024212036 | B97: CHINTYA FITRI | C97: II/C | D97: 985215748435000 | E97: 1220007502217 | F97: PPPK 2024 | H97: 198608152024212020 | I97: dr. KUSUMA MINAYATI, Sp.K.J. | J97: III/C | K97: 446540353039000 | L97: 1650000349507 | M97: PPPK P2
A98: 198906302024211009 | B98: CHOGA ILHAM ARLANDO | C98: III/B | D98: 391328333072000 | E98: 1220007083762 | F98: PPPK 2024 | H98: 198609182024211011 | I98: dr. DIMAS SEPTIAR, Sp.P.D. | J98: III/C | K98: 353213770016000 | L98: 1220007343992 | M98: PPPK P2
A99: 197504272024212003 | B99: CHRIS ERLIN | C99: II/C | D99: 771934684006000 | E99: 1250010135721 | F99: PPPK 2024 | H99: 198701132024212016 | I99: dr. DINDA DIAFIRI, Sp.S | J99: III/C | K99: 970320008015000 | L99: 1220007433512 | M99: PPPK P2
A100: 199109172024212027 | B100: Christiani | C100: II/C | D100: 559061775407000 | E100: 9000016424575 | F100: PPPK 2024 | H100: 198701132024212019 | I100: PUTRI UTAMI | J100: II/C | K100: 263431413432000 | L100: 1220010753401 | M100: PPPK P2
A101: 199801132024212019 | B101: CICI DIAH CAHYANTI | C101: II/C | D101: 921047304004000 | E101: 1220012963305 | F101: PPPK 2024 | H101: 198701312024212012 | I101: LIA CAHYANINGSIH | J101: II/C | K101: 415581263507000 | L101: 1220011128264 | M101: PPPK P2
A102: 199211052024212026 | B102: CINDY NISSA MIFTAHHUL ZANNAH | C102: II/C | D102: 718885346407000 | E102: 9000020954906 | F102: PPPK 2024 | H102: 198702142024211013 | I102: dr. MUHAMAD AZHARRY R, Sp.A. | J102: III/C | K102: 544457401411000 | L102: 1220011076893 | M102: PPPK P2
A103: 199612142024212030 | B103: CORIENA DESY RAMANTIKA | C103: II/C | D103: 960101467009000 | E103: 1010010317483 | F103: PPPK 2024 | H103: 198702232024211017 | I103: MUHAMAD SYAHRONI | J103: II/C | K103: 353579196009000 | L103: 1220005611507 | M103: PPPK P2
A104: 199107082024212032 | B104: Cut Irvania Fedwinita | C104: II/C | D104: 702298279311000 | E104: 9000025430233 | F104: PPPK 2024 | H104: 198704012024212020 | I104: dr. ARNETTA NAOMI LOUISE LALISANG, Sp.B.(K). | J104: III/C | K104: 729618033432000 | L104: 1220007278644 | M104: PPPK P2
A105: 199512252024212040 | B105: CUT MALA DEWI | C105: III/B | D105: 913947891106000 | E105: 1220010753542 | F105: PPPK 2024 | H105: 198704122024212023 | I105: MARTINA MONALISA SITORUS | J105: II/C | K105: 796920585432000 | L105: 9000025433179 | M105: PPPK P2
A106: 199506252024212031 | B106: CYNNIA TARISMA | C106: II/C | D106: 437816804205000 | E106: 1220012963313 | F106: PPPK 2024 | H106: 198704242024212032 | I106: ERNA TRI SUSANTI | J106: II/C | K106: 723811170432000 | L106: 1220005453082 | M106: PPPK P2
A107: 199901012024211010 | B107: DANIEL MULA REJA MANALU | C107: III/A | D107: 410570725412000 | E107: 1220011112144 | F107: PPPK 2024 | H107: 198705152024212032 | I107: FITRYAWATI DEBORA BORU SIREGAR | J107: II/C | K107: 883374357432000 | L107: 1220005864957 | M107: PPPK P2
A108: 198305112024212018 | B108: Dayu Riandani Astuti | C108: II/C | D108: 686863416407000 | E108: 1220005895241 | F108: PPPK 2024 | H108: 198706012024212036 | I108: RENITA ELISABET SIHOMBING | J108: II/C | K108: 967900697006000 | L108: 1220005617280 | M108: PPPK P2
A109: 199009282024212021 | B109: DEBBI GARNIVA SARI | C109: II/C | D109: 700907769324000 | E109: 1220011118075 | F109: PPPK 2024 | H109: 198707032024212020 | I109: dr. PEGGY, Sp.K.F.R | J109: III/C | K109: 447919291043000 | L109: 1220007280087 | M109: PPPK P2
A110: 198912112024212031 | B110: DEBRIANA WIJAYA | C110: II/C | D110: 719043788016000 | E110: 9000007121099 | F110: PPPK 2024 | H110: 198707172024212028 | I110: TRI JULIANINGSIH | J110: II/C | K110: 699281267432000 | L110: 1660003030798 | M110: PPPK P2
A111: 199208102024211021 | B111: DEDE BAHTIAR | C111: II/C | D111: 707455580435000 | E111: 9000029082261 | F111: PPPK 2024 | H111: 198707202024212039 | I111: NUR AMMALIYAH | J111: II/C | K111: 350745022432000 | L111: 0060006809036 | M111: PPPK P2
A112: 199204272024211013 | B112: DEDE ZAINAL MUTAQIN | C112: II/C | D112: 729931022406000 | E112: 1220007461968 | F112: PPPK 2024 | H112: 198712072024211013 | I112: RAMOT YOSIA | J112: II/C | K112: 772239950045000 | L112: 1220005614840 | M112: PPPK P2
A113: 199711172024211008 | B113: Denni septiawan | C113: II/C | D113: 412090821036000 | E113: 1170010628618 | F113: PPPK 2024 | H113: 198801022024211008 | I113: Ns. MORIS KOPPE, S. Kep | J113: III/B | K113: 980435242015000 | L113: 1240005868006 | M113: PPPK P2
A114: 198912252024212031 | B114: DESI NATALIA | C114: II/C | D114: 169217932005000 | E114: 1220005944825 | F114: PPPK 2024 | H114: 198801092024212015 | I114: TYAS MEGAVANI | J114: II/C | K114: 880811294407000 | L114: 1230005453537 | M114: PPPK P2
A115: 199312062024212035 | B115: DESINTA GUTAMI | C115: II/C | D115: 720225804435000 | E115: 9000020172228 | F115: PPPK 2024 | H115: 198802012024211008 | I115: BEWANOLO ZEGA | J115: II/C | K115: 973485691008000 | L115: 9000005917019 | M115: PPPK P2
...
